BEGIN:VCALENDAR
VERSION:2.0
PRODID:-//StivoZ.gr - ECPv5.16.4//NONSGML v1.0//EN
CALSCALE:GREGORIAN
METHOD:PUBLISH
X-WR-CALNAME:StivoZ.gr
X-ORIGINAL-URL:https://www.stivoz.gr
X-WR-CALDESC:StivoZ.gr - Εκδηλώσεις
BEGIN:VTIMEZONE
TZID:Europe/Athens
BEGIN:DAYLIGHT
TZOFFSETFROM:+0200
TZOFFSETTO:+0300
TZNAME:EEST
DTSTART:20180325T010000
END:DAYLIGHT
BEGIN:STANDARD
TZOFFSETFROM:+0300
TZOFFSETTO:+0200
TZNAME:EET
DTSTART:20181028T010000
END:STANDARD
END:VTIMEZONE
BEGIN:VEVENT
DTSTART;VALUE=DATE:20180527
DTEND;VALUE=DATE:20180528
DTSTAMP:20260421T015209
CREATED:20180418T064921Z
LAST-MODIFIED:20190522T122429Z
UID:29321-1527379200-1527379200@www.stivoz.gr
SUMMARY:Ευ.Δεπάστας (Σχηματάρι)
DESCRIPTION:Σχετικά θέματα:\n– www.stivoz.com/content.php?6694-Kales-kourses-sto-Sximatari\n– www.stivoz.com/forum/showthread.php?17654 (αποτελέσματα) \nΑνδρες: 800 μ.\, 1.500 μ.\, 5.000 μ.\, 400 μ. εμπ.\, 3.000 μ. στ.\, σφαιροβολία\nΓυναίκες: 800 μ.\, 1.500 μ.\, 5.000 μ.\, 400 μ. εμπ \nΠρόγραμμα: \n17:30 80 ΠΠΑ\n17:55 80 ΠΚΑ\n18:00 ΜΗΚΟΣ Κ\n18:20 100μ Α\n18:45 100μ Γ\n18:45 ΔΙΣΚΟΣ Γ\n19:15 400εμπ Α\n19:30 400εμπ Γ\n19:45 ΜΗΚΟΣ Α\n19:45 200μ Α\n20:05 200μ Γ\n20:15 ΣΦΑΙΡΑ Α\n20:25 800μ Α\n20:35 800μ Γ\n20:45 1500μ Α\n20:55 1500μ Γ\n21:10 5000μ Α\n21:30 5000μ Γ\n21:45 3000μ. Φ.Ε. Α\n22:00 4Χ100 Κ \nΔηλώσεις Συμμετοχής μέχρι την Τρίτη 22 Μαΐου 2018\,\nστο e-mail της ΕΑΣ ΣΕΓΑΣ Ανατολικής Στερεάς-Εύβοιας\, stibos04@otenet.gr.
URL:https://www.stivoz.gr/event/sximatari-2018/
CATEGORIES:Ημερολόγιο αγώνων
END:VEVENT
END:VCALENDAR