BEGIN:VCALENDAR
VERSION:2.0
PRODID:-//StivoZ.gr - ECPv5.16.4//NONSGML v1.0//EN
CALSCALE:GREGORIAN
METHOD:PUBLISH
X-WR-CALNAME:StivoZ.gr
X-ORIGINAL-URL:https://www.stivoz.gr
X-WR-CALDESC:StivoZ.gr - Εκδηλώσεις
BEGIN:VTIMEZONE
TZID:Europe/Athens
BEGIN:STANDARD
TZOFFSETFROM:+0200
TZOFFSETTO:+0200
TZNAME:EET
DTSTART:20160101T000000
END:STANDARD
END:VTIMEZONE
BEGIN:VEVENT
DTSTART;VALUE=DATE:20160723
DTEND;VALUE=DATE:20260421
DTSTAMP:20260420T212616
CREATED:20160721T082902Z
LAST-MODIFIED:20181218T092604Z
UID:29125-1469232000-0@www.stivoz.gr
SUMMARY:Στρατιωτικό πρωτάθλημα (Αίγιο)
DESCRIPTION:Σχετικά θέματα:\n– www.stivoz.com/content.php?5754-H-EL-AS-protathlitria-sto-stratiotiko-Xehorisan-Anagnostopoulou-Ferra-kai-Trivizas\n– www.stivoz.com/forum/showthread.php?15521 (αποτελέσματα) \nΠρόγραμμα: \n17:00	Δισκοβολία (Α) & (Γ)\n17:00	Σφαιροβολία (Α)\n18:00	Τελετή Έναρξης\n18:20	Ακοντισμός (Α)\n18:20	 Μήκος (Γ)\n18:20	100 μ. (Γ) Τελικές Σειρές\n18:30	100 μ. (Α) Τελικές Σειρές\n18:40	Σφαιροβολία (Γ)\n18:40	1.500 μ. (Γ)\n18:50	1.500 μ. (Α)\n19:05	Μήκος (Α)\n19:05	400 μ. (Γ) Τελικές Σειρές\n19:10	400 μ. (Α) Τελικές Σειρές\n19:20	5.000 μ. (Α)\n19:45	4 Χ 100 μ. (Α)\n19:55	4 Χ 100 μ. (Γ)\n20:10	Τελετή Λήξης
URL:https://www.stivoz.gr/event/stratiotiko2016/
CATEGORIES:Ημερολόγιο αγώνων
END:VEVENT
END:VCALENDAR