BEGIN:VCALENDAR
VERSION:2.0
PRODID:-//StivoZ.gr - ECPv5.16.4//NONSGML v1.0//EN
CALSCALE:GREGORIAN
METHOD:PUBLISH
X-WR-CALNAME:StivoZ.gr
X-ORIGINAL-URL:https://www.stivoz.gr
X-WR-CALDESC:StivoZ.gr - Εκδηλώσεις
BEGIN:VTIMEZONE
TZID:Europe/Athens
BEGIN:STANDARD
TZOFFSETFROM:+0200
TZOFFSETTO:+0200
TZNAME:EET
DTSTART:20150101T000000
END:STANDARD
END:VTIMEZONE
BEGIN:VEVENT
DTSTART;VALUE=DATE:20150705
DTEND;VALUE=DATE:20260420
DTSTAMP:20260419T202355
CREATED:20150623T192203Z
LAST-MODIFIED:20181218T093405Z
UID:29017-1436054400-0@www.stivoz.gr
SUMMARY:Πρωτάθλημα Ε.Δ.Σ.Α. (Αγ.Κοσμάς & Ελευσίνα)
DESCRIPTION:ΑΝΑΒΛΗΘΗΚΕ ΛΟΓΩ ΔΗΜΟΨΗΦΙΣΜΑΤΟΣ \nΣάββατο 4 Ιουλίου 2015 (Χώρος Ρίψεων Αγίου Κοσμά) \n17:30 Δισκοβολία (Γ)\n17:30 Σφαιροβολία (Α)\n18:30 Ακοντισμός (Α)\n19:30 Δισκοβολία (Α)\n19:30 Σφαιροβολία (Γ) \nΚυριακή 5 Ιουλίου 2015 (Δημοτικό Στάδιο Ελευσίνας) \n17:30 Τελετή Έναρξης\n18:15 Μήκος (Γ)\n18:15 100 μ. (Γ) Τελικές Σειρές\n18:25 100 μ. (Α) Τελικές Σειρές\n18:35 1.500 μ. (Γ)\n18:45 1.500 μ. (Α)\n18:55 Μήκος (Α)\n18:55 400 μ. (Γ) Τελικές Σειρές\n19:05 400 μ. (Α) Τελικές Σειρές\n19:10 5.000 μ. (Α)\n19:25 4 Χ 100 μ. (Α)\n19:45 4 Χ 100 μ. (Γ)\n20:15 Τελετή Λήξης
URL:https://www.stivoz.gr/event/stratiotiko2015/
CATEGORIES:Ημερολόγιο αγώνων
END:VEVENT
END:VCALENDAR