BEGIN:VCALENDAR
VERSION:2.0
PRODID:-//StivoZ.gr - ECPv5.16.4//NONSGML v1.0//EN
CALSCALE:GREGORIAN
METHOD:PUBLISH
X-WR-CALNAME:StivoZ.gr
X-ORIGINAL-URL:https://www.stivoz.gr
X-WR-CALDESC:StivoZ.gr - Εκδηλώσεις
BEGIN:VTIMEZONE
TZID:Europe/Athens
BEGIN:STANDARD
TZOFFSETFROM:+0200
TZOFFSETTO:+0200
TZNAME:EET
DTSTART:20120101T000000
END:STANDARD
END:VTIMEZONE
BEGIN:VEVENT
DTSTART;VALUE=DATE:20120916
DTEND;VALUE=DATE:20260421
DTSTAMP:20260420T145349
CREATED:20120909T080440Z
LAST-MODIFIED:20181218T100228Z
UID:28727-1347753600-0@www.stivoz.gr
SUMMARY:Στρατιωτικό πρωτάθλημα (Αίγιο)
DESCRIPTION:Σχετικά θέματα:\n– www.stivoz.com/forum/showthread.php?7527\n– www.stivoz.com/forum/showthread.php?7529 (Αποτελέσματα) \nπρόγραμμα\n16:30	ΣΦΑΙΡΟΒΟΛΙΑ  ΑΝΔΡΩΝ\n16:45	ΜΗΚΟΣ ΓΥΝΑΙΚΩΝ\n18:00	ΑΚΟΝΤΙΣΜΟΣ ΑΝΔΡΩΝ\n18:00	ΜΗΚΟΣ ΑΝΔΡΩΝ\n18:00	100 Μ. ΓΥΝΑΙΚΩΝ\n18:05	100 Μ.  ΑΝΔΡΩΝ		Α΄ ΤΕΛΙΚΗ ΣΕΙΡΑ\n18:10	100 Μ.  ΑΝΔΡΩΝ  		Β΄ ΤΕΛΙΚΗ ΣΕΙΡΑ\n18:20	1500 Μ. ΑΝΔΡΩΝ\n18:30	ΥΨΟΣ ΓΥΝΑΙΚΩΝ		(ΕΑΣ ΣΕΓΑΣ)\n18:30	800 Μ.  ΓΥΝΑΙΚΩΝ\n18:40	400 Μ.  ΑΝΔΡΩΝ		Α΄ ΤΕΛΙΚΗ ΣΕΙΡΑ\n18:45	 400 Μ.  ΑΝΔΡΩΝ		Β΄ ΤΕΛΙΚΗ ΣΕΙΡΑ\n18:45	ΣΦΑΙΡΟΒΟΛΙΑ ΓΥΝΑΙΚΩΝ\n18:55	60 Μ. 	ΑΓΟΡΙΩΝ – ΚΟΡΙΤΣΙΩΝ\n19:10	5000 Μ. ΑΝΔΡΩΝ\n19:30	4 Χ 100 Μ. ΓΥΝΑΙΚΩΝ\n19:40	4 Χ 100 Μ. ΑΝΔΡΩΝ\n19:50	4 Χ 400 Μ. ΑΝΔΡΩΝ\n20:00 Τελετή λήξης
URL:https://www.stivoz.gr/event/stratiotiko2012/
CATEGORIES:Ημερολόγιο αγώνων
END:VEVENT
END:VCALENDAR