BEGIN:VCALENDAR
VERSION:2.0
PRODID:-//StivoZ.gr - ECPv5.16.4//NONSGML v1.0//EN
CALSCALE:GREGORIAN
METHOD:PUBLISH
X-WR-CALNAME:StivoZ.gr
X-ORIGINAL-URL:https://www.stivoz.gr
X-WR-CALDESC:StivoZ.gr - Εκδηλώσεις
BEGIN:VTIMEZONE
TZID:Europe/Athens
BEGIN:DAYLIGHT
TZOFFSETFROM:+0200
TZOFFSETTO:+0300
TZNAME:EEST
DTSTART:20190331T010000
END:DAYLIGHT
BEGIN:STANDARD
TZOFFSETFROM:+0300
TZOFFSETTO:+0200
TZNAME:EET
DTSTART:20191027T010000
END:STANDARD
END:VTIMEZONE
BEGIN:VEVENT
DTSTART;VALUE=DATE:20190615
DTEND;VALUE=DATE:20190616
DTSTAMP:20260419T202243
CREATED:20190411T125040Z
LAST-MODIFIED:20210525T100837Z
UID:47906-1560556800-1560643199@www.stivoz.gr
SUMMARY:αγώνες ρίψεων "Κ.Σπανίδης" (Θεσσαλονίκη)
DESCRIPTION:Σχετικά θέματα:\n– https://www.stivoz.gr/kales-voles-kai-oria-stoys-agones-kostas-spanidis/\n– https://www.stivoz.gr/k-spanidis-2019/ (αποτελέσματα) \nΠρόγραμμα: \n09.30 Σφαίρα Κ\n09.30 Δίσκος Π\n10.00 Ακόντιο Κ\n10.45 Δίσκος Κ\n11.00 Ακόντιο Π\n11.00 Σφαίρα Π\n12.00 Σφύρα Κ\n13.00 Σφύρα Π\n14.15 Σφύρα Α & Ε\n16.00 Σφύρα Γ\n16.00 Σφαίρα Γ\n16.00 Ακόντιο Γ\n17.15 Δίσκος Α\n17.30 Σφαίρα Ε\n17.30 Ακόντιο Α\n18.30 Δίσκος Γ\n19.00 Σφαίρα Α\n19.30 Δίσκος Ε \nΤα αγωνίσματα βαλβίδας θα γίνουν στο προπονητήριο Κ.Σπανίδης\,\nενώ ο ακοντισμός στο κεντρικό Καυτανζόγλειο Στάδιο \nΌλοι οι συμμετέχοντες αθλητές θα έχουν δικαίωμα 3 προσπαθειών και οι αθλητές με τις 4  καλύτερες επιδόσεις\, ανά κατηγορία\, θα έχουν δικαίωμα επιπλέον 3 προσπαθειών \nΚάθε αθλητής-τρια μπορεί να δηλωθεί και να συμμετάσχει σε 2 αγωνίσματα. \nΔηλώσεις συμμετοχής μέχρι το μεσημέρι της Δευτέρας 10/6 στο segasthes@gmail.com
URL:https://www.stivoz.gr/event/spanidis-2019/
LOCATION:Καυτανζόγλειο Εθνικό Στάδιο Θεσσαλονίκης\, Αγ.Δημητρίου & 3ης Σεπτεμβρίου\, Θεσσαλονίκη\, 54638\, Ελλάδα
CATEGORIES:Ημερολόγιο αγώνων
END:VEVENT
END:VCALENDAR