BEGIN:VCALENDAR
VERSION:2.0
PRODID:-//StivoZ.gr - ECPv5.16.4//NONSGML v1.0//EN
CALSCALE:GREGORIAN
METHOD:PUBLISH
X-WR-CALNAME:StivoZ.gr
X-ORIGINAL-URL:https://www.stivoz.gr
X-WR-CALDESC:StivoZ.gr - Εκδηλώσεις
BEGIN:VTIMEZONE
TZID:Europe/Athens
BEGIN:STANDARD
TZOFFSETFROM:+0200
TZOFFSETTO:+0200
TZNAME:EET
DTSTART:20150101T000000
END:STANDARD
END:VTIMEZONE
BEGIN:VEVENT
DTSTART;VALUE=DATE:20150718
DTEND;VALUE=DATE:20260421
DTSTAMP:20260420T183402
CREATED:20141220T191905Z
LAST-MODIFIED:20181208T172704Z
UID:28951-1437177600-0@www.stivoz.gr
SUMMARY:Σιθώνεια
DESCRIPTION:
URL:https://www.stivoz.gr/event/sithoneia-3/
CATEGORIES:Ημερολόγιο αγώνων
END:VEVENT
END:VCALENDAR