BEGIN:VCALENDAR
VERSION:2.0
PRODID:-//StivoZ.gr - ECPv5.16.4//NONSGML v1.0//EN
CALSCALE:GREGORIAN
METHOD:PUBLISH
X-WR-CALNAME:StivoZ.gr
X-ORIGINAL-URL:https://www.stivoz.gr
X-WR-CALDESC:StivoZ.gr - Εκδηλώσεις
BEGIN:VTIMEZONE
TZID:Europe/Athens
BEGIN:STANDARD
TZOFFSETFROM:+0200
TZOFFSETTO:+0200
TZNAME:EET
DTSTART:20130101T000000
END:STANDARD
END:VTIMEZONE
BEGIN:VEVENT
DTSTART;VALUE=DATE:20130714
DTEND;VALUE=DATE:20260421
DTSTAMP:20260420T034033
CREATED:20130111T115354Z
LAST-MODIFIED:20211210T102450Z
UID:28746-1373760000-0@www.stivoz.gr
SUMMARY:meeting ρίψεων Σιθώνεια
DESCRIPTION:Σχετικά θέματα:\n– www.stivoz.com/forum/showthread.php?9442\n– www.stivoz.com/forum/showthread.php?9441 (αποτελέσματα) \n-> συμμετοχές \n-> Livestream \nΠρόγραμμα: \n16:00 Δισκοβολία (Γ)\n17:00 Σφυροβολία (Γ)\n18:00 Σφαιροβολία (Γ)\n18:00 Δισκοβολία (Α)\n19:00 Σφυροβολία (Α)\n19:00 Σφαιροβολία (Α)\n20:00 Λιθάρι (Α+Γ)
URL:https://www.stivoz.gr/event/sithoneia-2013/
CATEGORIES:Ημερολόγιο αγώνων
END:VEVENT
END:VCALENDAR