BEGIN:VCALENDAR
VERSION:2.0
PRODID:-//StivoZ.gr - ECPv5.16.4//NONSGML v1.0//EN
CALSCALE:GREGORIAN
METHOD:PUBLISH
X-WR-CALNAME:StivoZ.gr
X-ORIGINAL-URL:https://www.stivoz.gr
X-WR-CALDESC:StivoZ.gr - Εκδηλώσεις
BEGIN:VTIMEZONE
TZID:Europe/Athens
BEGIN:STANDARD
TZOFFSETFROM:+0200
TZOFFSETTO:+0200
TZNAME:EET
DTSTART:20110101T000000
END:STANDARD
END:VTIMEZONE
BEGIN:VEVENT
DTSTART;VALUE=DATE:20110723
DTEND;VALUE=DATE:20260420
DTSTAMP:20260419T230530
CREATED:20110113T132700Z
LAST-MODIFIED:20211210T103001Z
UID:28545-1311379200-0@www.stivoz.gr
SUMMARY:meeting Σιθώνεια (Χαλκιδικη)
DESCRIPTION:Σχετικά θέματα:\n– www.stivoz.com/forum/showthread.php?5499\n– www.stivoz.com/forum/showthread.php?5495 (αποτελέσματα) \nΠρόγραμμα: \n16.45 Δίσκος Α \n17.00 Ακόντιο ΠΚ Α΄ \n17.15 50μ Μίνι ΠΠ (γεν. 2000\, 01\, 02\, 03)\n17.20 50μ Μίνι ΠΚ (γεν. 2000\, 01\, 02\, 03)\n17.30 50μ Μίνι ΠΠ (γεν. 2005-06) \n17.45 Σφαίρα Α\n18.00 Σφύρα Γ\n18.45 Σφαίρα Γ\n19.00 Σφύρα Α \n19.45 Σφαίρα ΠΚ Α΄-Β΄ \n20.00 Μήκος ΠΠ Α΄-Β΄\n20.15 Μήκος ΠΚ Β΄ \n20.20 2.000μ βάδην ΠΚ Α΄-Β΄
URL:https://www.stivoz.gr/event/sithoneia-2011/
CATEGORIES:Ημερολόγιο αγώνων
END:VEVENT
END:VCALENDAR