BEGIN:VCALENDAR
VERSION:2.0
PRODID:-//StivoZ.gr - ECPv5.16.4//NONSGML v1.0//EN
CALSCALE:GREGORIAN
METHOD:PUBLISH
X-WR-CALNAME:StivoZ.gr
X-ORIGINAL-URL:https://www.stivoz.gr
X-WR-CALDESC:StivoZ.gr - Εκδηλώσεις
BEGIN:VTIMEZONE
TZID:Europe/Athens
BEGIN:STANDARD
TZOFFSETFROM:+0200
TZOFFSETTO:+0200
TZNAME:EET
DTSTART:20090101T000000
END:STANDARD
END:VTIMEZONE
BEGIN:VEVENT
DTSTART;VALUE=DATE:20090724
DTEND;VALUE=DATE:20260421
DTSTAMP:20260420T220420
CREATED:20081101T094821Z
LAST-MODIFIED:20220511T062204Z
UID:28272-1248393600-0@www.stivoz.gr
SUMMARY:Σιθώνεια (Χαλκιδική)
DESCRIPTION:Σχετικά θέματα:\nhttp://www.stivoz.com/forum/showthread.php?t=3143\nhttp://www.stivoz.com/forum/showthread.php?t=3399
URL:https://www.stivoz.gr/event/sithoneia-2009/
CATEGORIES:Ημερολόγιο αγώνων
END:VEVENT
END:VCALENDAR