BEGIN:VCALENDAR
VERSION:2.0
PRODID:-//StivoZ.gr - ECPv5.16.4//NONSGML v1.0//EN
CALSCALE:GREGORIAN
METHOD:PUBLISH
X-WR-CALNAME:StivoZ.gr
X-ORIGINAL-URL:https://www.stivoz.gr
X-WR-CALDESC:StivoZ.gr - Εκδηλώσεις
BEGIN:VTIMEZONE
TZID:Europe/Athens
BEGIN:DAYLIGHT
TZOFFSETFROM:+0200
TZOFFSETTO:+0300
TZNAME:EEST
DTSTART:20190331T010000
END:DAYLIGHT
BEGIN:STANDARD
TZOFFSETFROM:+0300
TZOFFSETTO:+0200
TZNAME:EET
DTSTART:20191027T010000
END:STANDARD
END:VTIMEZONE
BEGIN:VEVENT
DTSTART;TZID=Europe/Athens:20190422T103000
DTEND;TZID=Europe/Athens:20190422T160000
DTSTAMP:20260420T000713
CREATED:20190421T075238Z
LAST-MODIFIED:20190421T075238Z
UID:48332-1555929000-1555948800@www.stivoz.gr
SUMMARY:Σεμινάριο Προπονητικής για παιδικές ηλικίες – Ακαδημίες (Ηράκλειο)
DESCRIPTION:Ηράκλειο – Παγκρήτιο Στάδιο\,  «Αίθουσα Τύπου»: \nΠΡΟΓΡΑΜΜΑ  ΣΕΜΙΝΑΡΙΟΥ: \n► 1η Ενότητα: \n●10.30 -12.00: \n «Στόχοι και μεθοδολογία ανάπτυξης της ταχύτητας\nστις κατηγορίες Κ14\, Κ16 και Κ18». \nΕισηγητής:  Σπύρος Κέλλης. \n●  12.00 -12.15:  Διάλειμμα \n► 2η Ενότητα: \n●12.15 -13.30: \n“Προπονητικές και αγωνιστικές δραστηριότητες κλασικού αθλητισμού\nγια τις κατηγορίες Κ12\, Κ10\, Κ8 με εφαρμογή του Kids’ Athletics”. \n1ο Μέρος (θεωρία) \n● 12.15 -13.00: \n«Στρατηγικές για αποτελεσματική προπόνηση στις παιδικές ηλικίες» \nΕκπαιδευτικές κάρτες για την ανάδειξη κινητικών δεξιοτήτων». \nΕισηγητής: Μάρκος Καλούδης\, Τεχνικός Σύμβουλος του Σ.Ε.Γ.Α.Σ. \n● 13.00-13.30: \n«Προτεινόμενες αγωνιστικές δραστηριότητες για τις κατηγορίες Κ12 – Κ10 – Κ8» \n   Εισηγητής: Χρήστος Λίτσικας\, Σωματειακός Προπονητής \n2ο Μέρος (πράξη) \n● 13.45-15.45: \n Παγκρήτιο «Κεντρικό Στάδιο»: \nΠρακτική επίδειξη τριών εκπαιδευτικών καρτών. \n        Εισηγητές:  Μάρκος Καλούδης\, Τεχνικός Σύμβουλος Σ.Ε.Γ.Α.Σ. \nΧρήστος  Λίτσικας\, Σωματειακός Προπονητής \n ► Συντονιστής σεμιναρίου: Σπύρος  Κέλλης \nΠρόεδρος της Επιτροπής Επιμόρφωσης του Σ.Ε.Γ.Α.Σ.  & \nΟμότιμος Καθηγητής Σ.Ε.Φ.Α.Α. / Α.Π.Θ.
URL:https://www.stivoz.gr/event/seminario-proponitikis-paidikes-ilikies-irakleio-2019/
CATEGORIES:Ημερολόγιο αγώνων
END:VEVENT
END:VCALENDAR