BEGIN:VCALENDAR
VERSION:2.0
PRODID:-//StivoZ.gr - ECPv5.16.4//NONSGML v1.0//EN
CALSCALE:GREGORIAN
METHOD:PUBLISH
X-WR-CALNAME:StivoZ.gr
X-ORIGINAL-URL:https://www.stivoz.gr
X-WR-CALDESC:StivoZ.gr - Εκδηλώσεις
BEGIN:VTIMEZONE
TZID:Europe/Athens
BEGIN:STANDARD
TZOFFSETFROM:+0200
TZOFFSETTO:+0200
TZNAME:EET
DTSTART:20090101T000000
END:STANDARD
END:VTIMEZONE
BEGIN:VEVENT
DTSTART;VALUE=DATE:20090201
DTEND;VALUE=DATE:20260422
DTSTAMP:20260421T153135
CREATED:20090130T212058Z
LAST-MODIFIED:20181208T172925Z
UID:28280-1233446400-0@www.stivoz.gr
SUMMARY:Σχολικό ανωμάλου δρόμου (Αγ.Νικολαος)
DESCRIPTION:Σχολιασμός\, νέα \, αποτελέσματα και πολλά άλλα για τους αγώνες\, θα βρείτε στο link αυτό πατήστε εδώ για να μεταφερθείτε\nΕπίσης επισκεφθείτε και τη σελίδα της ΕΑΣ Σέγας Κρήτης
URL:https://www.stivoz.gr/event/scholiko-anomaloy-dromoy-ag-nikolaos/
CATEGORIES:Ημερολόγιο αγώνων
END:VEVENT
END:VCALENDAR