BEGIN:VCALENDAR
VERSION:2.0
PRODID:-//StivoZ.gr - ECPv5.16.4//NONSGML v1.0//EN
CALSCALE:GREGORIAN
METHOD:PUBLISH
X-WR-CALNAME:StivoZ.gr
X-ORIGINAL-URL:https://www.stivoz.gr
X-WR-CALDESC:StivoZ.gr - Εκδηλώσεις
BEGIN:VTIMEZONE
TZID:Europe/Athens
BEGIN:STANDARD
TZOFFSETFROM:+0200
TZOFFSETTO:+0200
TZNAME:EET
DTSTART:20100101T000000
END:STANDARD
END:VTIMEZONE
BEGIN:VEVENT
DTSTART;VALUE=DATE:20100207
DTEND;VALUE=DATE:20260425
DTSTAMP:20260424T185930
CREATED:20100210T210855Z
LAST-MODIFIED:20211210T104749Z
UID:28396-1265500800-0@www.stivoz.gr
SUMMARY:meeting Russian Winter Moscow
DESCRIPTION:Σχετικά θέματα:\nhttp://www.stivoz.com/forum/showthread.php?t=3719
URL:https://www.stivoz.gr/event/russian-winter-2010/
CATEGORIES:Ημερολόγιο αγώνων
END:VEVENT
END:VCALENDAR