BEGIN:VCALENDAR
VERSION:2.0
PRODID:-//StivoZ.gr - ECPv5.16.4//NONSGML v1.0//EN
CALSCALE:GREGORIAN
METHOD:PUBLISH
X-WR-CALNAME:StivoZ.gr
X-ORIGINAL-URL:https://www.stivoz.gr
X-WR-CALDESC:StivoZ.gr - Εκδηλώσεις
BEGIN:VTIMEZONE
TZID:Europe/Athens
BEGIN:STANDARD
TZOFFSETFROM:+0200
TZOFFSETTO:+0200
TZNAME:EET
DTSTART:20160101T000000
END:STANDARD
END:VTIMEZONE
BEGIN:VEVENT
DTSTART;VALUE=DATE:20161009
DTEND;VALUE=DATE:20260422
DTSTAMP:20260421T071247
CREATED:20151022T202502Z
LAST-MODIFIED:20181208T172654Z
UID:29071-1475971200-0@www.stivoz.gr
SUMMARY:Run Greece #6 - Πάτρα
DESCRIPTION:Σχετικά θέματα:\n– www.stivoz.com/content.php?5883-Oloklirothike-i-seira-Run-Greece-stin-Patra
URL:https://www.stivoz.gr/event/run-greece-6/
CATEGORIES:Ημερολόγιο αγώνων
END:VEVENT
END:VCALENDAR