BEGIN:VCALENDAR
VERSION:2.0
PRODID:-//StivoZ.gr - ECPv5.16.4//NONSGML v1.0//EN
CALSCALE:GREGORIAN
METHOD:PUBLISH
X-WR-CALNAME:StivoZ.gr
X-ORIGINAL-URL:https://www.stivoz.gr
X-WR-CALDESC:StivoZ.gr - Εκδηλώσεις
BEGIN:VTIMEZONE
TZID:Europe/Athens
BEGIN:STANDARD
TZOFFSETFROM:+0200
TZOFFSETTO:+0200
TZNAME:EET
DTSTART:20130101T000000
END:STANDARD
END:VTIMEZONE
BEGIN:VEVENT
DTSTART;VALUE=DATE:20130929
DTEND;VALUE=DATE:20260421
DTSTAMP:20260420T072204
CREATED:20130516T191721Z
LAST-MODIFIED:20181208T172745Z
UID:28792-1380412800-0@www.stivoz.gr
SUMMARY:Run Greece #4 (Πάτρα)
DESCRIPTION:www.run-greece.gr
URL:https://www.stivoz.gr/event/run-greece-4/
CATEGORIES:Ημερολόγιο αγώνων
END:VEVENT
END:VCALENDAR