BEGIN:VCALENDAR
VERSION:2.0
PRODID:-//StivoZ.gr - ECPv5.16.4//NONSGML v1.0//EN
CALSCALE:GREGORIAN
METHOD:PUBLISH
X-WR-CALNAME:StivoZ.gr
X-ORIGINAL-URL:https://www.stivoz.gr
X-WR-CALDESC:StivoZ.gr - Εκδηλώσεις
BEGIN:VTIMEZONE
TZID:Europe/Athens
BEGIN:DAYLIGHT
TZOFFSETFROM:+0200
TZOFFSETTO:+0300
TZNAME:EEST
DTSTART:20230326T010000
END:DAYLIGHT
BEGIN:STANDARD
TZOFFSETFROM:+0300
TZOFFSETTO:+0200
TZNAME:EET
DTSTART:20231029T010000
END:STANDARD
END:VTIMEZONE
BEGIN:VEVENT
DTSTART;VALUE=DATE:20231001
DTEND;VALUE=DATE:20231002
DTSTAMP:20260422T055627
CREATED:20230919T134803Z
LAST-MODIFIED:20250412T202023Z
UID:109703-1696118400-1696204799@www.stivoz.gr
SUMMARY:Road Running Championships (Riga)
DESCRIPTION:Σχετικά θέματα:\n– www.stivoz.gr/riga-kenyatiki-kyriarchia-ston-imimarathonio/\n– www.stivoz.gr/world-running-2023/ (αποτελέσματα) \nΠρόγραμμα: \n11:50 Women’s 5km\n12:15 Men’s 5km\n13:00 Women Road Mile\n13:10 Men Road Mile\n13:30 Women Half Marathon\n14:15 Men Half Marathon
URL:https://www.stivoz.gr/event/road-running-championships-2023/
CATEGORIES:Ημερολόγιο αγώνων
END:VEVENT
END:VCALENDAR