BEGIN:VCALENDAR
VERSION:2.0
PRODID:-//StivoZ.gr - ECPv5.16.4//NONSGML v1.0//EN
CALSCALE:GREGORIAN
METHOD:PUBLISH
X-WR-CALNAME:StivoZ.gr
X-ORIGINAL-URL:https://www.stivoz.gr
X-WR-CALDESC:StivoZ.gr - Εκδηλώσεις
BEGIN:VTIMEZONE
TZID:Europe/Athens
BEGIN:DAYLIGHT
TZOFFSETFROM:+0200
TZOFFSETTO:+0300
TZNAME:EEST
DTSTART:20130331T010000
END:DAYLIGHT
BEGIN:STANDARD
TZOFFSETFROM:+0300
TZOFFSETTO:+0200
TZNAME:EET
DTSTART:20131027T010000
END:STANDARD
END:VTIMEZONE
BEGIN:VEVENT
DTSTART;VALUE=DATE:20130718
DTEND;VALUE=DATE:20130722
DTSTAMP:20260419T235606
CREATED:20120814T225215Z
LAST-MODIFIED:20181218T095204Z
UID:28724-1374138000-1374440400@www.stivoz.gr
SUMMARY:Πανευρωπαικό Ε/Ν (Ριέτι)
DESCRIPTION:www.rieti2013.org \n-> Livestream \n-> Live Αποτελέσματα \n-> team manual\n-> πρόγραμμα\n-> όρια\n-> συμμετοχές \nΣχετικά θέματα:\n– www.stivoz.com/forum/showthread.php?9339 (ομάδα)\n– www.stivoz.com/content.php?2810 (Κύπρος)\n– www.stivoz.com/forum/showthread.php?9473\n– www.stivoz.com/forum/showthread.php?9486 (Α’ πρωί)\n– www.stivoz.com/forum/showthread.php?9490 (Α’ απογ)\n– www.stivoz.com/forum/showthread.php?9499 (Β’ πρωί)\n– www.stivoz.com/forum/showthread.php?9509 (Β’ απογ)\n– www.stivoz.com/forum/showthread.php?9519 (Γ’ πρωί)\n– www.stivoz.com/forum/showthread.php?9523 (Γ’ απογ)\n– www.stivoz.com/forum/showthread.php?9540 (Δ’)\n– www.stivoz.com/forum/showthread.php?9483 (αποτελέσματα) \nΑρχικό Πρόγραμμα (τοπική ώρα\, +1 για Ελλάδα) \nDAY 1 – Thursday\, 18 July  – Morning			 \n09:30 	10\,000m Walk 	Women 	Final\n10:00 	Shot Put 	Men 	Q A/B\n10:40 	100m H Hep 	Women\n10:50 	Hammer Throw 	Men 	Q A\n11:10 	100m 	Women 	R1\n11:40 	100m 	Men 	R1\n11:45 	High Jump Hep 	Women 	A/B\n12:15 	Hammer Throw 	Men 	Q B\n12:20 	400m 	Women 	R1\n12:50 	400m 	Men 	R1 \nDAY 1 – Thursday\, 18 July  – Afternoon \n15:25 	High Jump 	Men 	Q A/B\n15:30 	Discus Throw 	Women 	Q A\n15:35 	Shot Put Hep 	Women 	A/B\n15:50 	800m 	Women 	R1\n16:25 	100m 	Women 	SF\n16:45 	100m 	Men 	SF\n16:50 	Discus Throw 	Women 	Q B\n16:55 	Long Jump 	Men 	Q A/B\n17:10 	1500m 	Men 	R1\n17:30 	Shot Put 	Men 	Final\n17:35 	400m 	Women 	SF\n17:55 	400m 	Men 	SF\n18:15 	Javelin Throw 	Men 	Q A\n18:20 	200m Hep 	Women\n18:20 	Pole Vault 	Men 	Q A/B\n18:50 	3000m 	Women 	R1\n19:15 	Triple Jump 	Women 	Q A/B\n19:25 	3000m SC 	Women 	R1\n19:30 	Javelin Throw 	Men 	Q B\n20:00 	10\,000m 	Men 	Final \nDAY 2 – Friday\, 19 July – Morning \n10:00 	Pole Vault 	Women 	Q A/B\n10:05 	110m H 	Men 	R1\n10:10 	Hammer Throw 	Women 	Q A\n10:45 	100m H 	Women 	R1\n10:50 	High Jump 	Women 	Q A/B\n11:15 	1500m 	Women 	R1\n11:40 	Hammer Throw 	Women 	Q B\n11:45 	800m 	Men 	R1\n12:20 	400m H 	Women 	R1\n12:30 	Long Jump Hep 	Women 	A/B\n12:55 	400m H 	Men 	R1 \nDAY 2 – Friday\, 19 July – Afternoon \n15:00 	Javelin Throw Hep 	Women 	A/ B\n16:00 	100m H 	Women 	SF\n16:15 	Triple Jump 	Women 	FINAL\n16:25 	110m H 	Men 	SF\n16:50 	800m 	Women 	SF\n16:55 	Hammer Throw 	Men 	Final\n17:15 	100m 	Men 	Final\n17:25 	100m 	Women 	Final\n17:40 	800m  Hep 	Women 	Final\n18:00 	3000m SC 	Men 	R1\n18:15 	Long Jump 	Men 	Final\n18:35 	Discus Throw 	Women 	Final\n18:40 	400m 	Women 	Final\n18:55 	400m 	Men 	Final\n19:15 	200m 	Women 	R1\n19:45 	200m 	Men 	R1 \nDAY 3 – Saturday\, 20 July  – Morning \n09:30 	Discus Throw 	Men 	Q A\n09:35 	100m Dec 	Men\n10:10 	10\,000m Walk 	Men 	Final\n10:30 	Long Jump Dec 	Men 	A/B\n10:35 	Shot Put 	Women 	Q A/B\n10:45 	Discus Throw 	Men 	Q B\n11:30 	4x400m 	Women 	R1\n11:50 	Long Jump 	Women 	Q A/B\n11:55 	4x400m 	Men 	R1\n12:00 	Shot Put Dec 	Men 	A/B\n12:10 	Javelin Throw 	Women 	Q \nDAY 3 – Saturday\, 20 July  – Afternoon \n15:00 	400m H 	Women 	SF A/B\n15:05 	High Jump Dec 	Men\n15:20 	400m H 	Men 	SF\n15:30 	Pole Vault 	Men 	Final\n15:35 	Hammer Throw 	Women 	Final\n15:40 	200m 	Women 	SF\n16:00 	200m 	Men 	SF\n16:20 	800m 	Men 	SF\n16:30 	Shot Put 	Women 	Final\n16:45 	100m  H 	Women 	Final\n17:00 	110m  H 	Men 	Final\n17:15 	800m 	Women 	Final\n17:30 	3000m  SC 	Women 	Final\n17:35 	High Jump 	Men 	Final\n17:55 	1500m 	Men 	Final\n18:10 	200m 	Women 	Final\n18:15 	Javelin Throw 	Men 	Final\n18:25 	200m 	Men 	Final\n18:35 	Triple Jump 	Men 	Q A/B\n18:40 	3000m 	Women 	Final\n19:00 	400m Dec 	Men\n19:30 	5000m 	Men 	Final \nDAY 4 – Sunday\, 21 July – Morning \n09:30 	110m H Dec 	Men\n10:25 	Discus Throw Dec 	Men 	A/B\n10:30 	4x100m 	Women 	R1\n11:10 	4x100m 	Men 	R1\n13:10 	Pole Vault Dec 	Men 	A/B \nDAY 4 – Sunday\, 21 July – Afternoon \n14:45 	Discus Throw 	Men 	Final\n15:35 	High Jump 	Women 	Final\n15:55 	Triple Jump 	Men 	Final\n16:00 	400m  H 	Women 	Final\n16:15 	400m  H 	Men 	Final\n16:25 	Javelin Throw Dec 	Men 	A/ B\n16:30 	800m 	Men 	Final\n16:45 	4x100m 	Women 	Final\n16:55 	Pole Vault 	Women 	Final\n17:00 	4x100m 	Men 	Final\n17:15 	1500m 	Women 	Final\n17:35 	3000m  SC 	Men 	Final\n17:50 	Long Jump 	Women 	Final\n17:55 	5000m 	Women 	Final\n18:05 	Javelin Throw 	Women 	Final\n18:35 	1500m  Dec 	Men 	Final\n19:05 	4x400m 	Women 	Final\n19:40 	4x400m 	Men 	Final
URL:https://www.stivoz.gr/event/rieti2013/
CATEGORIES:Ημερολόγιο αγώνων
END:VEVENT
END:VCALENDAR