BEGIN:VCALENDAR
VERSION:2.0
PRODID:-//StivoZ.gr - ECPv5.16.4//NONSGML v1.0//EN
CALSCALE:GREGORIAN
METHOD:PUBLISH
X-WR-CALNAME:StivoZ.gr
X-ORIGINAL-URL:https://www.stivoz.gr
X-WR-CALDESC:StivoZ.gr - Εκδηλώσεις
BEGIN:VTIMEZONE
TZID:Europe/Athens
BEGIN:STANDARD
TZOFFSETFROM:+0200
TZOFFSETTO:+0200
TZNAME:EET
DTSTART:20100101T000000
END:STANDARD
END:VTIMEZONE
BEGIN:VEVENT
DTSTART;VALUE=DATE:20100926
DTEND;VALUE=DATE:20260423
DTSTAMP:20260422T104502
CREATED:20100910T214424Z
LAST-MODIFIED:20181208T172902Z
UID:28503-1285459200-0@www.stivoz.gr
SUMMARY:Race for the Cure (Ζάππειο)
DESCRIPTION:http://www.almazois.gr/race/main.php \nΣχετικά θέματα:\nhttp://www.stivoz.gr/?p=10540
URL:https://www.stivoz.gr/event/race-for-the-cure/
CATEGORIES:Ημερολόγιο αγώνων
END:VEVENT
END:VCALENDAR