BEGIN:VCALENDAR
VERSION:2.0
PRODID:-//StivoZ.gr - ECPv5.16.4//NONSGML v1.0//EN
CALSCALE:GREGORIAN
METHOD:PUBLISH
X-WR-CALNAME:StivoZ.gr
X-ORIGINAL-URL:https://www.stivoz.gr
X-WR-CALDESC:StivoZ.gr - Εκδηλώσεις
BEGIN:VTIMEZONE
TZID:Europe/Athens
BEGIN:STANDARD
TZOFFSETFROM:+0200
TZOFFSETTO:+0200
TZNAME:EET
DTSTART:20170101T000000
END:STANDARD
END:VTIMEZONE
BEGIN:VEVENT
DTSTART;VALUE=DATE:20170514
DTEND;VALUE=DATE:20260420
DTSTAMP:20260419T194338
CREATED:20170505T203453Z
LAST-MODIFIED:20181208T172650Z
UID:29194-1494720000-0@www.stivoz.gr
SUMMARY:"Αλ.Σιούλη" (Πάτρα)
DESCRIPTION:Σχετικά θέματα:\n– www.stivoz.com/content.php?6147-Gia-tin-Aleka\n– www.stivoz.com/forum/showthread.php?16497 (αποτελέσματα) \n-> βιογραφικο \nΠρόγραμμα:\n(παράλληλα θα γίνονται αγώνες διάθλου ΠΠ/ΠΚ Β’) \n17.00 100μ. Α\n17.10 100μ. Γ\n17.20 400μ. Α\n17.30 400μ. Γ\n17.40 150μ. ΠΠ Α΄\n17.50 150μ. ΠΚ Α΄\n18.20 200μ. Α\n18.30 200μ. Γ\n18.30 ΜΗΚΟΣ  Α\n19.00 ΥΨΟΣ  Γ\n19.00 3000μ. Α\n19.15 800μ. Βετεράνων\n19.20 1500μ. Γ\n19.30 5000μ. Βάδην Α – Γ \nΤα Σωματεία πρέπει να στείλουν τη δήλωση συμμετοχής μέχρι την ΤΕΤΑΡΤΗ 10.5.2017\nστην Ε.Α.Σ. ΒΟΡΕΙΑΣ ΠΕΛ/ΣΟΥ στο e-mail: segaspatra@yahoo.gr
URL:https://www.stivoz.gr/event/quot-quot-7/
CATEGORIES:Ημερολόγιο αγώνων
END:VEVENT
END:VCALENDAR