BEGIN:VCALENDAR
VERSION:2.0
PRODID:-//StivoZ.gr - ECPv5.16.4//NONSGML v1.0//EN
CALSCALE:GREGORIAN
METHOD:PUBLISH
X-WR-CALNAME:StivoZ.gr
X-ORIGINAL-URL:https://www.stivoz.gr
X-WR-CALDESC:StivoZ.gr - Εκδηλώσεις
BEGIN:VTIMEZONE
TZID:Europe/Athens
BEGIN:STANDARD
TZOFFSETFROM:+0200
TZOFFSETTO:+0200
TZNAME:EET
DTSTART:20090101T000000
END:STANDARD
END:VTIMEZONE
BEGIN:VEVENT
DTSTART;VALUE=DATE:20090712
DTEND;VALUE=DATE:20260422
DTSTAMP:20260421T134445
CREATED:20090701T073636Z
LAST-MODIFIED:20181208T172921Z
UID:28186-1247356800-0@www.stivoz.gr
SUMMARY:"Διια 2009"- Κατερίνη
DESCRIPTION:
URL:https://www.stivoz.gr/event/quot-2009-quot/
CATEGORIES:Ημερολόγιο αγώνων
END:VEVENT
END:VCALENDAR