BEGIN:VCALENDAR
VERSION:2.0
PRODID:-//StivoZ.gr - ECPv5.16.4//NONSGML v1.0//EN
CALSCALE:GREGORIAN
METHOD:PUBLISH
X-WR-CALNAME:StivoZ.gr
X-ORIGINAL-URL:https://www.stivoz.gr
X-WR-CALDESC:StivoZ.gr - Εκδηλώσεις
BEGIN:VTIMEZONE
TZID:Europe/Athens
BEGIN:STANDARD
TZOFFSETFROM:+0200
TZOFFSETTO:+0200
TZNAME:EET
DTSTART:20090101T000000
END:STANDARD
END:VTIMEZONE
BEGIN:VEVENT
DTSTART;VALUE=DATE:20090606
DTEND;VALUE=DATE:20260421
DTSTAMP:20260420T163422
CREATED:20090424T203602Z
LAST-MODIFIED:20181208T172923Z
UID:28296-1244246400-0@www.stivoz.gr
SUMMARY:Αγώνες στίβου "Αμεινιας ο Παλληνευς 2009"
DESCRIPTION:Το πρόγραμμα είναι της αρχικά προγραμματισμένης ημ/ν’ιας που ήταν η 23.5 αντι της 6.6. Πιθανότατα θα είναι το ίδιο \n                 Ε.Α.Σ.  ΣΕΓΑΣ  ΑΝΑΤΟΛΙΚΗΣ ΑΤΤΙΚΗΣ  	                			   ΑΓΩΝΕΣ ΣΤΙΒΟΥ\n                   « ΑΜΕΙΝΙΑΣ ο ΠΑΛΛΗΝΕΥΣ  2009»\n                                    &\n           ΠΑΜΠΑΙΔΩΝ Β΄-ΠΑΓΚΟΡΑΣΙΔΩΝ Β΄& ΜΙΝΙ  Β’ΦΑΣΗ  \n  ΣΑΒΒΑΤΟ 23 ΜΑΙΟΥ 2009 –ΑΘΛΗΤΙΚΟ ΚΕΝΤΡΟ ΠΑΛΛΗΝΗΣ \n9.30	50 Μ ΜΙΝΙ ΠΑΓΚΟΡΑΣΙΔΩΝ	ΜΗΚΟΣ ΠΠΒ΄& ΜΙΝΙΠΠ\n10.00	50 Μ ΜΙΝΙ ΠΑΜΠΑΙΔΩΝ	ΥΨΟΣ ΠΑΜΠΑΙΔΩΝ Β\n10.30	60 Μ ΠΑΓΚΟΡΑΣΙΔΩΝ Β\n11.00		ΜΗΚΟΣ ΠΚΒ΄& ΜΙΝΙΠΚ\n11.00	60 Μ ΠΑΜΠΑΙΔΩΝ Β	ΥΨΟΣ ΠΑΓΚΟΡΑΣΙΔΩΝ Β\n11.30	150 Μ ΠΑΓΚΟΡΑΣΙΔΩΝ Β\n11.45	150 Μ ΠΑΜΠΑΙΔΩΝ Β\n12.00	1.000 Μ ΠΑΓΚΟΡΑΣΙΔΩΝ Β\n12.10	1.000 Μ ΠΑΜΠΑΙΔΩΝ Β\n12.20	4Χ60 Μ ΠΑΓΚΟΡΑΣΙΔΩΝ Β\n12.30	4Χ60 Μ ΠΑΜΠΑΙΔΩΝ Β	 \n17\,00	300 Μ ΠΑΓΚΟΡΑΣΙΔΩΝ Α	     ΜΗΚΟΣ      ΚΟΡΑΣΙΔΩΝ\n17.10	300 Μ ΠΑΜΠΑΙΔΩΝ Α\n17.25	400 Μ ΓΥΝΑΙΚΩΝ – ΚΟΡΑΣΙΔΩΝ\n17.40	400 Μ ΑΝΔΡΩΝ – ΠΑΙΔΩΝ\n18.00	100 Μ ΕΜΠΟΔΙΑ ΚΟΡΑΣΙΔΩΝ\n18.20	110 Μ ΕΜΠΟΔΙΑ ΠΑΙΔΩΝ\n18.30	100 Μ ΓΥΝΑΙΚΩΝ – ΚΟΡΑΣΙΔΩΝ\n18.50	100 Μ ΑΝΔΡΩΝ – ΠΑΙΔΩΝ\n19\,15	800 Μ ΑΝΔΡΩΝ – ΠΑΙΔΩΝ	     ΜΗΚΟΣ ΠΑΙΔΩΝ-ΑΝΔΡΩΝ\n19.35	800 Μ ΓΥΝΑΙΚΩΝ – ΚΟΡΑΣΙΔΩΝ\n19.50	200 Μ ΑΝΔΡΩΝ – ΠΑΙΔΩΝ\n20.10	200 Μ ΓΥΝΑΙΚΩΝ – ΚΟΡΑΣΙΔΩΝ\n20.25	600 Μ ΠΑΓΚΟΡΑΣΙΔΩΝ Αʼ\n20.40	600 Μ ΠΑΜΠΑΙΔΩΝ Αʼ\n21.00	4Χ100 Μ ΓΥΝΑΙΚΩΝ\n21.10	4Χ100 Μ ΑΝΔΡΩΝ
URL:https://www.stivoz.gr/event/quot-2009-quot-2/
CATEGORIES:Ημερολόγιο αγώνων
END:VEVENT
END:VCALENDAR