BEGIN:VCALENDAR
VERSION:2.0
PRODID:-//StivoZ.gr - ECPv5.16.4//NONSGML v1.0//EN
CALSCALE:GREGORIAN
METHOD:PUBLISH
X-WR-CALNAME:StivoZ.gr
X-ORIGINAL-URL:https://www.stivoz.gr
X-WR-CALDESC:StivoZ.gr - Εκδηλώσεις
BEGIN:VTIMEZONE
TZID:Europe/Athens
BEGIN:DAYLIGHT
TZOFFSETFROM:+0200
TZOFFSETTO:+0300
TZNAME:EEST
DTSTART:20090329T010000
END:DAYLIGHT
BEGIN:STANDARD
TZOFFSETFROM:+0300
TZOFFSETTO:+0200
TZNAME:EET
DTSTART:20091025T010000
END:STANDARD
END:VTIMEZONE
BEGIN:VEVENT
DTSTART;VALUE=DATE:20090711
DTEND;VALUE=DATE:20090713
DTSTAMP:20260421T171127
CREATED:20090529T145634Z
LAST-MODIFIED:20181208T172921Z
UID:28306-1247304600-1247425200@www.stivoz.gr
SUMMARY:ΠΠ συνθέτων Π/Κ (Κατερίνη)
DESCRIPTION:Πρόγραμμα  αγώνων Πανελληνίου Συνθέτων Παίδων Κορασίδων: \nΣάββατο  11  Ιουλίου  2009  Πρωί \nΩΡΑ	ΑΓΩΝΙΣΜΑΤΑ	ΚΑΤΗΓΟΡΙΑ\n09.30	100μ  ΕΜΠΟΔΙΑ	ΕΠΤΑΘΛΟΥ	ΚΟΡΑΣΙΔΩΝ\n10.00	100μ	ΟΚΤΑΘΛΟΥ	ΠΑΙΔΩΝ\n10.30	ΥΨΟΣ	ΕΠΤΑΘΛΟΥ	ΚΟΡΑΣΙΔΩΝ\n11.00	ΜΗΚΟΣ	ΟΚΤΑΘΛΟΥ	ΠΑΙΔΩΝ \nΣάββατο  11  Ιουλίου  2009  Απόγευμα \n18.30	ΣΦΑΙΡΟΒΟΛΙΑ	ΟΚΤΑΘΛΟΥ	ΠΑΙΔΩΝ\n19.30	ΣΦΑΙΡΟΒΟΛΙΑ	ΕΠΤΑΘΛΟΥ	ΚΟΡΑΣΙΔΩΝ\n20.30	400μ	ΟΚΤΑΘΛΟΥ	ΠΑΙΔΩΝ\n21.00	200μ	ΕΠΤΑΘΛΟΥ	ΚΟΡΑΣΙΔΩΝ \nΚυριακή  12  Ιουλίου  2009  Πρωί \n09.15	110μ  ΕΜΠΟΔΙΑ	ΟΚΤΑΘΛΟΥ	ΠΑΙΔΩΝ\n09.30	ΜΗΚΟΣ	ΕΠΤΑΘΛΟΥ	ΚΟΡΑΣΙΔΩΝ\n10.00	ΥΨΟΣ	ΟΚΤΑΘΛΟΥ	ΠΑΙΔΩΝ\n10.30	ΑΚΟΝΤΙΣΜΟΣ	ΕΠΤΑΘΛΟΥ	ΚΟΡΑΣΙΔΩΝ \nΚυριακή   12  Ιουλίου  2009  Απόγευμα    \n18.00	ΑΚΟΝΤΙΣΜΟΣ	ΟΚΤΑΘΛΟΥ	ΠΑΙΔΩΝ\n18.30	800μ	ΕΠΤΑΘΛΟΥ	ΚΟΡΑΣΙΔΩΝ\n19.00	1.000μ	ΟΚΤΑΘΛΟΥ	ΠΑΙΔΩΝ
URL:https://www.stivoz.gr/event/pp-syntheton-p-k-katerini/
CATEGORIES:Ημερολόγιο αγώνων
END:VEVENT
END:VCALENDAR