BEGIN:VCALENDAR
VERSION:2.0
PRODID:-//StivoZ.gr - ECPv5.16.4//NONSGML v1.0//EN
CALSCALE:GREGORIAN
METHOD:PUBLISH
X-WR-CALNAME:StivoZ.gr
X-ORIGINAL-URL:https://www.stivoz.gr
X-WR-CALDESC:StivoZ.gr - Εκδηλώσεις
BEGIN:VTIMEZONE
TZID:Europe/Athens
BEGIN:DAYLIGHT
TZOFFSETFROM:+0200
TZOFFSETTO:+0300
TZNAME:EEST
DTSTART:20160327T010000
END:DAYLIGHT
BEGIN:STANDARD
TZOFFSETFROM:+0300
TZOFFSETTO:+0200
TZNAME:EET
DTSTART:20161030T010000
END:STANDARD
END:VTIMEZONE
BEGIN:VEVENT
DTSTART;VALUE=DATE:20160317
DTEND;VALUE=DATE:20160321
DTSTAMP:20260422T033836
CREATED:20151021T220145Z
LAST-MODIFIED:20181218T092934Z
UID:29026-1458241200-1458514800@www.stivoz.gr
SUMMARY:Παγκόσμιο κλειστού (Portland)
DESCRIPTION:http://portland2016.com \nNewsletter stivoz.gr : www.stivoz.com/dimosiografikes/Newsletters/StivoZ.gr_Newsletter_21.pdf \n-> πρόγραμμα/αποτελέσματα (από IAAF) \nΣχετικά θέματα:\n– www.stivoz.com/forum/showthread.php?14875 (αποτελέσματα Ελλήνων & 3αδες αγωνισμάτων) \n– www.stivoz.com/content.php?5431-Me-Papachristou-i-omada-gia-Portland\n– www.stivoz.com/content.php?5445-Portland-Oi-symmetoxes-kai-oi-theseis-twn-Ellinwn\n– www.stivoz.com/content.php?5448-Portland-H-teliki-synthesi-twn-gipedoyxwn\n– www.stivoz.com/content.php?5452-Portland-Premiera-me-epikontw\n– www.stivoz.com/content.php?5454-Portland-Xalkini-i-Stefanidi-6i-i-Kyriakopoulou-7os-o-Filippidis\n– www.stivoz.com/content.php?5455-Portland-Arxi-se-syntheta-me-Eatons-kai-prokrimatika-dromwn-me-fovero-Powell\n– www.stivoz.com/content.php?5456-Portland-Synarpastiko-mikos-kai-5thlo-Ali-kai-pali-sta-empodia-Htta-gia-Powell\n– www.stivoz.com/content.php?5457-Portland-Xalkini-kai-i-Papachristou\n– www.stivoz.com/content.php?5458-Portland-5os-o-Baniotis-perase-o-Douvalidis-H-Pierre-to-xryso-sta-60m-xana-Eaton-kai-Maslak\n– www.stivoz.com/content.php?5462-Portland-Finale-sto-pagkosmio-me-HPA-O-McLeod-ta-empodia \nΣυμμετοχές:\n– ανά χώρα\n– ανά αγώνισμα \n-> Όρια\n-> Team Manual \nΣτα κάθετα άλματα θα αγωνιστούν 12 αθλητές -όπως και στα σύνθετα.\nΣτα οριζόντια άλματα και τη σφαιροβολία 16 αθλητές. Μετα τις 3 προσπάθειες συνεχίζουν η 8αδα\, και μετά τις 5 θα κάνει μια ακόμα η 4αδα.   \nΠρόγραμμα (τοπική ώρα\, +9 ώρες για ώρα Ελλάδος)  \n(Μετάδοση: ΕΡΤ & Eurosport) \nΠΕΜΠΤΗ 17/3 \n19:05 	M 	Pole Vault 	Final [Φιλιππίδης]\n19:05 	W 	Pole Vault 	Final [Στεφανίδη\, Κυριακοπούλου] \nΠΑΡΑΣΚΕΥΗ 18/3 \n11:15 	W 	60m. Hurdles 	5thlon\n11:30 	M 	60m. 	7thlon\n11:45 	M 	400m. 	Heats\n12:15 	W 	High Jump 	5thlon\n12:20 	M 	Long Jump 	7thlon\n12:25 	W 	400m. 	Heats\n13:05 	M 	3000m. 	Heats\n13:35 	W 	1500m. 	Heats\n13:55 	M 	800m. 	Heats [Μιχαηλάς (CYP)]\n14:20 	M 	60m. 	Heats\n14:25 	W 	Shot Put 	5thlon 				 \n17:15 	M 	Shot Put 	7thlon\n17:15 	W 	Long Jump 	5thlon\n17:35 	W 	60m. Hurdles 	Semi-Final\n18:00 	M 	60m. 	Semi-Final\n18:20 	M 	1500m. 	Heats\n18:45 	M 	High Jump 	7thlon\n18:45 	M 	Shot Put 	Final\n18:55 	W 	Long Jump 	Final\n19:25 	W 	400m. 	Semi-Final\n19:45 	M 	400m. 	Semi-Final\n20:10 	W 	800m. 	5thlon\n20:30 	W 	60m. Hurdles 	Final\n20:40 	M 	60m. 	Final \nΣΑΒΒΑΤΟ 19/3 \n11:00 	M 	60m. Hurdles 	7thlon\n11:15 	W 	800m. 	Heats\n11:37 	W 	Triple Jump 	Final [Παπαχρήστου]\n11:40 	W 	60m. 	Heats\n12:00 	M 	Pole Vault 	7thlon\n12:40 	M 	4x400m. Relay 	Heats\n13:25 	W 	4x400m. Relay 	Heats  \n17:00 	M 	Triple Jump 	Final\n17:05 	M 	60m. Hurdles 	Heats [Δουβαλίδης]\n17:45 	W 	Shot Put 	Final\n17:50 	W 	60 Metres 	Semi-Final\n18:22 	M 	High Jump 	Final [Μπανιώτης]\n18:35 	M 	800m. 	Final\n18:47 	W 	400m. 	Final\n19:05 	M 	400m. 	Final\n19:18 	W 	1500m. 	Final\n19:35 	M 	1000m. 	7thlon\n19:53 	W 	60m. 	Final \nΚΥΡΙΑΚΗ 20/3 \n12:40 	M 	60m. Hurdles 	Semi-Final\n13:00 	W 	High Jump 	Final\n13:05 	M 	Long Jump 	Final\n13:10 	M 	3000m. 	Final\n13:30 	W 	800m. 	Final\n13:45 	W 	3000m.	Final\n14:05 	M 	1500m. 	Final\n14:20 	W 	4x400m. Relay 	Final\n14:40 	M 	60m. Hurdles 	Final\n14:50 	M 	4x400m. Relay 	Final
URL:https://www.stivoz.gr/event/portland2016/
CATEGORIES:Ημερολόγιο αγώνων
END:VEVENT
END:VCALENDAR