BEGIN:VCALENDAR
VERSION:2.0
PRODID:-//StivoZ.gr - ECPv5.16.4//NONSGML v1.0//EN
CALSCALE:GREGORIAN
METHOD:PUBLISH
X-WR-CALNAME:StivoZ.gr
X-ORIGINAL-URL:https://www.stivoz.gr
X-WR-CALDESC:StivoZ.gr - Εκδηλώσεις
BEGIN:VTIMEZONE
TZID:Europe/Athens
BEGIN:DAYLIGHT
TZOFFSETFROM:+0200
TZOFFSETTO:+0300
TZNAME:EEST
DTSTART:20160327T010000
END:DAYLIGHT
BEGIN:STANDARD
TZOFFSETFROM:+0300
TZOFFSETTO:+0200
TZNAME:EET
DTSTART:20161030T010000
END:STANDARD
END:VTIMEZONE
BEGIN:VEVENT
DTSTART;VALUE=DATE:20160907
DTEND;VALUE=DATE:20160919
DTSTAMP:20260420T232005
CREATED:20160911T091406Z
LAST-MODIFIED:20181218T091443Z
UID:29127-1473289200-1474239600@www.stivoz.gr
SUMMARY:ΠαραΟλυμπιακοί Αγώνες - Rio
DESCRIPTION:www.rio2016.com/en/paralympics \n-> Κατηγορίες/κανονισμοί \nΣχετικά θέματα:\n– www.stivoz.com/content.php?5842-Paralympics-Rio-8-18-Sept-Oi-ellinikes-parousies-sto-stivo\n– www.stivoz.com/content.php?5849-Paralympics-1-Xrysi-arxi-1os-me-WR-o-Konstantinidis\n– www.stivoz.com/content.php?5852-Paralympics-2-Synexeia-me-neo-xryso-Stin-koryfi-ayti-ti-fora-o-Stefanoudakis\n– www.stivoz.com/content.php?5855-Paralympics-3-Ki-allo-metallio-apo-ellinikis-pleyras-2os-o-Senikidis\n– www.stivoz.com/content.php?5857-Paralympics-4-Prokrisi-me-rekor-o-Seitis\n– www.stivoz.com/content.php?5858-Paralympics-5-Xalkini-i-Korokida\n– www.stivoz.com/content.php?5859-Paralympics-6-Neo-metallio-o-Konstantinidis\n– www.stivoz.com/content.php?5861-Paralympics-7-Xryso-o-Fernandes-Pagkosmio-o-Seitis\n– www.stivoz.com/content.php?5863-Paralympics-8-Xana-pagkosmio-rekor-o-Seitis\n– hwww.stivoz.com/content.php?5864-Paralympics-9-Stin-5i-thesi-i-Liagkou\n– www.stivoz.com/content.php?5866-Paralympics-10-Oloklirosan-oi-Ellines-Xehorisan-Rehm-kai-Durand\n– www.stivoz.com/content.php?5868-Paralympics-Aylaia-sto-Rio-me-Marathonio-kai-giorti
URL:https://www.stivoz.gr/event/parolympics2016/
CATEGORIES:Ημερολόγιο αγώνων
END:VEVENT
END:VCALENDAR