BEGIN:VCALENDAR
VERSION:2.0
PRODID:-//StivoZ.gr - ECPv5.16.4//NONSGML v1.0//EN
CALSCALE:GREGORIAN
METHOD:PUBLISH
X-WR-CALNAME:StivoZ.gr
X-ORIGINAL-URL:https://www.stivoz.gr
X-WR-CALDESC:StivoZ.gr - Εκδηλώσεις
BEGIN:VTIMEZONE
TZID:Europe/Athens
BEGIN:DAYLIGHT
TZOFFSETFROM:+0200
TZOFFSETTO:+0300
TZNAME:EEST
DTSTART:20080330T010000
END:DAYLIGHT
BEGIN:STANDARD
TZOFFSETFROM:+0300
TZOFFSETTO:+0200
TZNAME:EET
DTSTART:20081026T010000
END:STANDARD
END:VTIMEZONE
BEGIN:VEVENT
DTSTART;VALUE=DATE:20080906
DTEND;VALUE=DATE:20080918
DTSTAMP:20260420T183403
CREATED:20070807T101444Z
LAST-MODIFIED:20181218T105619Z
UID:27967-1220659200-1221688800@www.stivoz.gr
SUMMARY:Παραολυμπιάδα - Πεκίνο
DESCRIPTION:Σχετικά θέματα:\nhttp://www.stivoz.gr/?p=20368 (ομάδα)\nhttp://www.stivoz.gr/?p=20379\nhttp://www.stivoz.gr/?p=20382 (προνόμοια ΑμΕΑ)\nhttp://www.stivoz.gr/?p=19791 (συνέντευξη προπονητών ΑμΕΑ) \nhttp://en.beijing2008.cn/paralympic/
URL:https://www.stivoz.gr/event/parolympics2008/
CATEGORIES:Ημερολόγιο αγώνων
END:VEVENT
END:VCALENDAR