BEGIN:VCALENDAR
VERSION:2.0
PRODID:-//StivoZ.gr - ECPv5.16.4//NONSGML v1.0//EN
CALSCALE:GREGORIAN
METHOD:PUBLISH
X-WR-CALNAME:StivoZ.gr
X-ORIGINAL-URL:https://www.stivoz.gr
X-WR-CALDESC:StivoZ.gr - Εκδηλώσεις
BEGIN:VTIMEZONE
TZID:Europe/Athens
BEGIN:DAYLIGHT
TZOFFSETFROM:+0200
TZOFFSETTO:+0300
TZNAME:EEST
DTSTART:20240331T010000
END:DAYLIGHT
BEGIN:STANDARD
TZOFFSETFROM:+0300
TZOFFSETTO:+0200
TZNAME:EET
DTSTART:20241027T010000
END:STANDARD
END:VTIMEZONE
BEGIN:VEVENT
DTSTART;VALUE=DATE:20240726
DTEND;VALUE=DATE:20240812
DTSTAMP:20260422T034235
CREATED:20220727T062854Z
LAST-MODIFIED:20250311T083400Z
UID:97238-1721952000-1723420799@www.stivoz.gr
SUMMARY:33οι Ολυμπιακοί Αγώνες - Παρίσι
DESCRIPTION:Στίβος: 1-11/8 \nΣχετικά θέματα:\n– www.stivoz.gr/olympic-games-2024/ (συμμετοχές-αποτελέσματα) \nΕιδικό page για τη διοργάνωση:\nwww.stivoz.gr/imerologio/top-events-infos/paris2024/ \n-> ιστορικό\n-> Νικητές διοργάνωσης\n-> Όρια – προϋποθέσεις \nΣυμμετοχές: \n–Athletes\n–Countries \nΠρόγραμμα (σε ώρα Ελλάδος\, -1 για τοπική) : \n1η ημέρα – Πέμπτη (1/8) \n08.30 20χλμ. βάδην (Α)\n10.20 20χλμ. βάδην (Γ) \n2η ημέρα- Παρασκευή (2/8) \n11.05 100μ. 10αθλο-1\n11.10 Σφυροβολία (Α) πρ. α΄γκρουπ\n11.15 Ύψος (Γ) προκρ.\n11.35 100μ. (Γ) 1ος γύρος\n11.55 Μήκος 10αθλο-2\n12.05 1500μ. (Α) προκρ.\n12.35 Σφυροβολία (Α) πρ. β΄ γκρουπ\n12.50 100μ. (Γ) προκρ.\n13.15 Σφαιροβολία 10αθλο-3 \n19.00 Ύψος 10αθλο-4\n19.10 5000 μ. (Γ) προκρ.\n19.15 Τριπλούν (Γ) προκρ.\n19.55 Δισκοβολία (Γ) πρ. α’ γκρουπ\n20.10 4Χ400μ. (Χ) προκρ.\n20.45 800μ. (Γ) προκρ.\n21.10 Σφαιροβολία (Α) προκρ.\n21.20 Δισκοβολία (Γ) πρ. β’ γκρουπ\n21.50 400μ. 10αθλο-5\n22.20 10.000μ. (Α) Τελικός \n3η ημέρα – Σάββατο (3/8) \n11.05 110μ. εμπ. 10αθλο-6\n11.10 Επί κοντώ (Α) προκρ.\n11.35 100μ. (Α) 1ος γύρος\n11.55 Δισκοβολία 10αθλο-7\n12.10 800μ. (Γ) ρεπ.\n12.45 100μ. (Α) προκρ.\n13.00 Δισκοβολία 10αθλο-8\n14.40 Επί κοντώ 10αθλου \n20.10 Ακοντισμός α’ γκρουπ 10αθλο-9\n20.15 1500μ. (Α) ρεπ.\n20.35 Σφαιροβολία (Α) τελικός\n20.50 100μ. (Γ) ημιτ.\n21.10 Ακοντισμός β’ γκρουπ 10αθλο-9\n21.20 Τριπλούν (Γ) Τελικός\n21.55 4Χ400μ. (Χ) Τελικός\n22.20 100μ. (Γ) Τελικός\n22.45 1500μ. (Α) 10αθλο-10 \n4η ημέρα – Κυριακή (4/8) \n11.05 3000μ. στ. (Γ) προκρ.\n11.20 Σφυροβολία (Γ) πρ. α’ γκρουπ\n11.55 200μ. (Γ) προκρ.\n12.00 Μήκος (Α) προκρ.\n12.45 Σφυροβολία (Γ) πρ. β’ γκρουπ\n12.50 110μ. εμπ. (Α) προκρ.\n13.35 400μ. εμπ. (Γ) προκρ. \n20.05 400μ. (Α) προκρ.\n20.55 Ύψος (Γ) Τελικός\n21.05 100μ. (Α) ημιτ.\n21.30 Σφυροβολία (Α) Τελικός\n21.35 800μ. (Γ) ημιτ.\n22.10 1500 μ. (Α) ημιτ.\n22.50 100 μ. (Α) Τελικός \n5η ημέρα – Δευτέρα (5/8) \n11.05 400μ. εμπ. (Α) προκρ.\n11.10 Δισκοβολία (Α) πρ. α΄ γκρουπ\n11.40 Επί κοντώ (Γ) προκρ.\n11.50 400μ. εμπ. (Γ) ρεπ.\n12.20 400μ. (Α) ρεπ.\n12.35 Δισκοβολία (Α) πρ. β΄ γκρουπ\n12.55 400μ. (Γ) προκρ.\n13.50 200μ. (Γ) ρεπ. \n20.00 Επί κοντώ (Α) Τελικός\n20.04 3000μ. στ. (Α) προκρ.\n20.55 200μ. (Α) προκρ.\n21.30 Δισκοβολία (Γ) Τελικός\n21.45 200μ. (Γ) ημιτ.\n22.10 5000μ. (Γ) Τελικός\n22.47 800μ. (Γ) Τελικός \n6η ημέρα – Τρίτη (6/8) \n11.05 1500μ. (Γ) προκρ.\n11.20 Ακοντισμός (Α) πρ. α΄γκρουπ\n11.50 110μ. εμπ. (Α) ρεπ.\n12.15 Μήκος (Γ) προκρ.\n12.20 400μ. (Γ) ρεπ.\n12.50 Ακοντισμός (Α) πρ. β΄ γκρουπ\n13.00 400μ. εμπ. (Α) ρεπ.\n13.30 200μ. (Α) ρεπ. \n20.35 400μ. (Α) ημιτ.\n20.55 Σφυροβολία (Γ) Τελικός\n21.07 400μ. εμπ. (Γ) ημιτελικός\n21.15 Μήκος (Α) Τελικός\n21.50 1500μ. (Α) Τελικός\n22.10 3000μ. στ. (Γ) Τελικός\n22.40 200μ. (Γ) Τελικός \n7η ημέρα – Τετάρτη (7/8) \n08.30 Μαραθώνια σκυταλ. βάδην (Χ)\n11.05 Ύψος (Α) προκρ.\n11.15 100μ. εμπ. (Γ) προκρ.\n11.25 Ακοντισμός (Γ) πρ. α’ γκρουπ\n12.10 5000 μ. (Α) προκρ.\n12.50 Ακοντισμός (Γ) πρ. β’ γκρουπ\n12.55 800μ. (Α) προκρ.\n13.45 1500μ. (Γ) ρεπ. \n19:15 (αντί 20.00) Επί κοντώ (Γ) Τελικός\n20.05 110μ. εμπ. (Α) ημιτ.\n20.15 Τριπλούν (Α) προκρ.\n20.35 400μ. εμπ. (Α) ημιτ.\n21.02 200μ. (Α) ημιτ.\n21.25 Δισκοβολία (Α) Τελικός\n21.45 400μ. (Γ) ημιτ.\n22.20 400μ. (Α) Τελικός\n22.43 3000μ. στ. (Α) Τελικός \n8η ημέρα – Πέμπτη (8/8) \n11.05 100μ. εμπ. 7αθλο-1\n11.25 Σφαιροβολία (Γ) προκρ.\n11.35 100μ. εμπ. (Γ) ρεπ.\n12.05 Ύψος 7αθλο-2\n12.10 4Χ100μ. (Γ) προκρ.\n12.35 4Χ100μ. (Α) προκρ.\n13.00 800μ. (Α) ρεπ. \n20.35 1500μ. (Γ) ημιτ.\n20.35 Σφαιροβολία (Γ) 7αθλο-3\n21.00 Μήκος (Γ) Τελικός\n21.25 Ακοντισμός (Α) Τελικός\n21.30 200μ. (Α) Τελικός\n21.55 200μ. (Γ) 7αθλο-4\n22.25 400μ. εμπ. (Γ) Τελικός\n22.45 110μ. επ. (Α) Τελικός \n9η ημέρα – Παρασκευή (9/8) \n11.05 Μήκος 7αθλο-5\n11.40 4Χ400μ. (Γ) προκρ.\n12.05 4Χ400μ. (Α) προκρ.\n12.20 Ακοντισμός α’γκρουπ 7αθλο-6\n12.30 800μ. (Α) ημιτ.\n13.05 100μ. εμπ. (Γ) ημιτ.\n13.30 Ακοντισμός β’ γκρουπ 7αθλο-6 \n20.30 4Χ100μ. (Γ) Τελικός\n20.37 Σφαιροβολία (Γ) Τελικός\n20.47 4Χ100μ. (Α) Τελικός\n21.00 400μ. (Γ) Τελικός\n21.13 Τριπλούν (Α) Τελικός\n21.55 800μ. (Γ) 7αθλο-7\n21.57 10.000 μ. (Γ) Τελικός\n22.45 400μ. εμπ. (Α) Τελικός \n10η ημέρα – Σάββατο (10/8) \n09.00 Μαραθώνιος (Α) \n20.00 Ύψος (Α) Τελικός\n20.15 800μ. (Α) Τελικός\n20.30 Ακοντισμός (Γ) Τελικός\n20.35 100μ. εμπ. (Γ) Τελικός\n20.50 5000μ. (Α) Τελικός\n21.15 1500μ. (Γ) Τελικός\n22.00 4Χ400μ. (Α) Τελικός\n22.14 4Χ400μ. (Γ) Τελικός \n11η ημέρα – Κυριακή (11/8) \n09.00 Μαραθώνιος (Γ) \n 
URL:https://www.stivoz.gr/event/paris2024/
CATEGORIES:Ημερολόγιο αγώνων
END:VEVENT
END:VCALENDAR