BEGIN:VCALENDAR
VERSION:2.0
PRODID:-//StivoZ.gr - ECPv5.16.4//NONSGML v1.0//EN
CALSCALE:GREGORIAN
METHOD:PUBLISH
X-WR-CALNAME:StivoZ.gr
X-ORIGINAL-URL:https://www.stivoz.gr
X-WR-CALDESC:StivoZ.gr - Εκδηλώσεις
BEGIN:VTIMEZONE
TZID:Europe/Athens
BEGIN:DAYLIGHT
TZOFFSETFROM:+0200
TZOFFSETTO:+0300
TZNAME:EEST
DTSTART:20210328T010000
END:DAYLIGHT
BEGIN:STANDARD
TZOFFSETFROM:+0300
TZOFFSETTO:+0200
TZNAME:EET
DTSTART:20211031T010000
END:STANDARD
END:VTIMEZONE
BEGIN:VEVENT
DTSTART;VALUE=DATE:20210612
DTEND;VALUE=DATE:20210613
DTSTAMP:20260419T162519
CREATED:20210602T090849Z
LAST-MODIFIED:20210610T084842Z
UID:78441-1623456000-1623542399@www.stivoz.gr
SUMMARY:Παπαναστάσεια (ΠΓΣ) αναβολή
DESCRIPTION:-> Κ.Παπαναστασίου \nΛόγω των υγειονομικών συνθηκών που διαμορφώθηκαν από την πανδημία του Covid\, η Διοίκηση του Πανελληνίου ΓΣ\, αναβάλλει τους αγώνες στίβου “10α Παπαναστάσεια”. Η νέα ημερομηνία θα ανακοινωθεί μετά από συνεννόηση με τις αρμόδιες αρχές. \nΠρόγραμμα: \n15.15 ΣΦΥΡΑ Γυναικών 8 αθλήτριες\n16.00 ΕΠΙ ΚΟΝΤΩ (Κ18) Κορασίδων 12 αθλήτριες\n16.00 ΤΡΙΠΛΟΥΝ (Κ20) Εφήβων 12 αθλητές\n16.00 ΣΦΑΙΡΑ Γυναικών 8 αθλήτριες\n16.50 100 μ. Ανδρών 3 σειρές\n17.10 100 μ. Γυναικών 3 σειρές\n17.10 ΔΙΣΚΟΣ Γυναικών 8 αθλήτριες\n17.30 ΤΡΙΠΛΟΥΝ Γυναικών 12 αθλήτριες\n17.30 400 μ. Ανδρών 3 σειρές\n17.50 400 μ. Γυναικών 3 σειρές\n18.10 ΕΠΙ ΚΟΝΤΩ (Κ18) Παίδων 12 αθλητές\n18.10 800 μ. Ανδρών 2 σειρές\n18.30 800 μ Γυναικών 2 σειρές\n18.30 ΔΙΣΚΟΣ Ανδρών 8 αθλητές\n18.50 ΜΗΚΟΣ Ανδρών 12 αθλητές\n18.50 1500μ Ανδρών 2 σειρές\n19.10 1500μ Γυναικών 2 σειρές \nΟι δηλώσεις συμμετοχής θα γίνουν δεκτές έως και την Παρασκευή 4/6/2021 (τα στοιχεία των αθλητών-τριών να είναι πλήρη και να αναγράφεται η ατομική τους επίδοση διότι οι συμμετοχές θα είναι αυστηρά περιορισμένες και με βάση την ατομική επίδοση \n\n\n\n\n\n\nΠροσοχή: ΔΕΝ ΙΣΧΥΕΙ για τις αθλήτριες και τους αθλητές που πρόκειται να συμμετάσχουν και είναι μαθητές\, το self test που καταθέτουν στο σχολείο τους.\nΑλλά πραγματοποίηση μοριακού ελέγχου ( RT-PCR) 24-48 ώρες πριν την ημέρα του αγώνα ή με άμεσο τεστ αντιγόνου ( Rapid Antigen Test\, RAT) του κορονωιού SARS-CoV-2\, την ημέρα του αγώνα ή το τελευταίο 24 ωρο πριν τον αγώνα\, για τις αθλήτριες και τους αθλητές που πρόκειται να συμμετάσχουν στη διοργάνωση.
URL:https://www.stivoz.gr/event/papanastaseia-2021/
LOCATION:Πανελλήνιος ΓΣ\, Ευελπίδων 2\, Αθήνα\, 11474\, Ελλάδα
CATEGORIES:Ημερολόγιο αγώνων
END:VEVENT
END:VCALENDAR