BEGIN:VCALENDAR
VERSION:2.0
PRODID:-//StivoZ.gr - ECPv5.16.4//NONSGML v1.0//EN
CALSCALE:GREGORIAN
METHOD:PUBLISH
X-WR-CALNAME:StivoZ.gr
X-ORIGINAL-URL:https://www.stivoz.gr
X-WR-CALDESC:StivoZ.gr - Εκδηλώσεις
BEGIN:VTIMEZONE
TZID:Europe/Athens
BEGIN:DAYLIGHT
TZOFFSETFROM:+0200
TZOFFSETTO:+0300
TZNAME:EEST
DTSTART:20160327T010000
END:DAYLIGHT
BEGIN:STANDARD
TZOFFSETFROM:+0300
TZOFFSETTO:+0200
TZNAME:EET
DTSTART:20161030T010000
END:STANDARD
END:VTIMEZONE
BEGIN:VEVENT
DTSTART;VALUE=DATE:20160604
DTEND;VALUE=DATE:20160606
DTSTAMP:20260419T162401
CREATED:20160505T130107Z
LAST-MODIFIED:20210602T085627Z
UID:29100-1465030800-1465153200@www.stivoz.gr
SUMMARY:Παπαναστάσεια (ΠΓΣ)
DESCRIPTION:Σχετικά θέματα:\n– www.stivoz.com/content.php?5604-Atomiko-i-Sofani-kalo-agwna-o-Filippidis-sta-Papanastaseia\n– www.stivoz.com/forum/showthread.php?15196 (αποτελέσματα) \n-> Συμμετοχές Α/Γ  \nΝέο πρόγραμμα: \nΣΑΒΒΑΤΟ 4 ΙΟΥΝΙΟΥ \n09:00 400μ. εμπ. Π\n09:20 100μ. εμπ. Κ\n09:30 80μ. εμπ. ΠΚΑ΄\n09:30 ΜΗΚΟΣ ΠΚΑ΄\n10:00 300μ. ΠΚΑ΄\n10:20 200μ. Κ\n10:30 200μ. Ν\n10:40 80μ. ΠΠ Α΄\n11:00 80μ. ΠΚ Α΄\n11:00 ΜΗΚΟΣ Π\n11:00 ΣΦΑΙΡΟΒΟΛΙΑ ΠΚΑ’\n11:30 100μ. Π\n11:50 600μ.ΠΚΑ’\n12:00 600μ.ΠΠΑ΄\n12:00 ΔΙΣΚΟΒΟΛΙΑ ΠΚΑ΄\n13:10 ΣΦΥΡΟΒΟΛΙΑ ΠΚΑ΄- Κ & Γ \n15:30 ΣΦΥΡΟΒΟΛΙΑ Α\n17:10 110μ εμπ. Π\n17:20 ΕΠΙΚΟΝΤΩ Κ & Γ\n17:20 150μ. ΠΚΑ’\n17:45 150μ. ΠΠΑ’\n17:45 ΔΙΣΚΟΒΟΛΙΑ Ε\n18:10 800μ Π\n18:10 ΤΡΙΠΛΟΥΝ Π\n18:20 2.000μ. ΠΚΑ΄\n19:00 3.000μ. Π & ΠΠΑ’\n19:00 ΔΙΣΚΟΒΟΛΙΑ Α\n19:15 1000μ. ΠΠΑ’ \nΚΥΡΙΑΚΗ 5 ΙΟΥΝΙΟΥ \n16:00 ΔΙΣΚΟΒΟΛΙΑ Γ\n17:00 400μ. εμπ. Α\n17:00 ΕΠΙΚΟΝΤΩ Α\n17:00 ΤΡΙΠΛΟΥΝ Α\n17:00 ΑΚΟΝΤΙΟ Α\n17:00 ΣΦΑΙΡΑ Α\n17:20 110μ. εμπ. Α\n17:30 400μ. Α\n17:45 400μ. Γ\n18:00 100μ. Α\n18:00 ΎΨΟΣ Ε\n18:00 ΣΦΑΙΡΟΒΟΛΙΑ Γ\n18:15 100μ. Γ\n18:15 ΑΚΟΝΤΙΟ Γ\n18:20 800μ. Γ\n18:20 ΤΡΙΠΛΟΥΝ Γ\n18:30 1.500μ Α\n18:45 3.000μ. φ.εμπ. Α \nΔηλώσεις συμμετοχής έως Παρασκευή 27/5 στο: 1panell@otenet.gr
URL:https://www.stivoz.gr/event/papanastaseia-2016/
CATEGORIES:Ημερολόγιο αγώνων
END:VEVENT
END:VCALENDAR