BEGIN:VCALENDAR
VERSION:2.0
PRODID:-//StivoZ.gr - ECPv5.16.4//NONSGML v1.0//EN
CALSCALE:GREGORIAN
METHOD:PUBLISH
X-WR-CALNAME:StivoZ.gr
X-ORIGINAL-URL:https://www.stivoz.gr
X-WR-CALDESC:StivoZ.gr - Εκδηλώσεις
BEGIN:VTIMEZONE
TZID:Europe/Athens
BEGIN:STANDARD
TZOFFSETFROM:+0200
TZOFFSETTO:+0200
TZNAME:EET
DTSTART:20110101T000000
END:STANDARD
END:VTIMEZONE
BEGIN:VEVENT
DTSTART;VALUE=DATE:20110529
DTEND;VALUE=DATE:20260426
DTSTAMP:20260425T000422
CREATED:20110505T110327Z
LAST-MODIFIED:20210602T085714Z
UID:28529-1306627200-0@www.stivoz.gr
SUMMARY:Παπαναστάσεια (ΠΓΣ)
DESCRIPTION:Σχετικά θέματα:\n– http://www.stivoz.com/forum/showthread.php?5047\n– http://www.stivoz.com/forum/showthread.php?5087\n– http://www.stivoz.gr/?p=16896 (αποτελέσματα) \nΠΡΟΓΡΑΜΜΑ ΑΓΩΝΩΝ \nΠΡΩΙ \n08:45	5.000 Βάδην Παίδων\n08:45	5.000 Βάδην  Κορασίδων\n08:45	  3.000 Βάδην ΠΚ Α΄\n09:00		ΑΛΜΑ ΣΕ ΜΗΚΟΣ Κορασίδων\n09:30	110μ. με Εμπόδια Παίδων\n09:30 ΑΛΜΑ ΣΕ ΥΨΟΣ Παίδων\n09:45	80μ. ΠΠ Αʼ\n10:15	80μ. ΠΚ Αʼ\n10:15 ΑΛΜΑ ΕΠΙ ΚΟΝΤΩ Γυναικών\n10:40		ΑΛΜΑ ΣΕ ΜΗΚΟΣ Παίδων\n10:50	300μ. με Εμπόδια ΠΠ Αʼ\n11:05	300μ. ΠΠ Αʼ\n11:15		ΑΛΜΑ ΣΕ ΥΨΟΣ Κορασίδων\n11:25	300μ. ΠΚ Αʼ\n11:45	600μ. ΠΚ Αʼ\n12:00	1000μ. ΠΠ Αʼ\n12:20	2.000μ.με Φ.Ε. Παίδων\n12:20 ΑΛΜΑ ΤΡΙΠΛΟΥΝ Κορασίδων \nΑΠΟΓΕΥΜΑ \n16:00	400μ. με Εμπόδια Γυναικών\n16:00 ΑΛΜΑ ΣΕ ΜΗΚΟΣ Ανδρών\n16:00 ΔΙΣΚΟΒΟΛΙΑ Ανδρών\n16:20	110μ. με Εμπόδια Ανδρών\n16:35	400μ. Ανδρών\n17:00	400μ. Γυναικών\n17:20	100μ. Ανδρών\n17:20 ΑΛΜΑ ΕΠΙ ΚΟΝΤΩ Ανδρών\n17:30			ΣΦΑΙΡΟΒΟΛΙΑ Ανδρών\n17:40		ΑΛΜΑ ΣΕ ΜΗΚΟΣ Γυναικών\n17:40 ΔΙΣΚΟΒΟΛΙΑ Γυναικών\n18:15	100μ. Γυναικών\n18:55	1.500μ. Ανδρών\n19:15	800μ. Γυναικών\n19:20		ΑΛΜΑ ΤΡΙΠΛΟΥΝ Ανδρών\n19:20 ΑΚΟΝΤΙΣΜΟΣ Γυναικών\n19:35	1.500μ. Γυναικών\n19:50	5.000μ. Ανδρών
URL:https://www.stivoz.gr/event/papanastaseia-2011/
CATEGORIES:Ημερολόγιο αγώνων
END:VEVENT
END:VCALENDAR