BEGIN:VCALENDAR
VERSION:2.0
PRODID:-//StivoZ.gr - ECPv5.16.4//NONSGML v1.0//EN
CALSCALE:GREGORIAN
METHOD:PUBLISH
X-WR-CALNAME:StivoZ.gr
X-ORIGINAL-URL:https://www.stivoz.gr
X-WR-CALDESC:StivoZ.gr - Εκδηλώσεις
BEGIN:VTIMEZONE
TZID:Europe/Athens
BEGIN:DAYLIGHT
TZOFFSETFROM:+0200
TZOFFSETTO:+0300
TZNAME:EEST
DTSTART:20240331T010000
END:DAYLIGHT
BEGIN:STANDARD
TZOFFSETFROM:+0300
TZOFFSETTO:+0200
TZNAME:EET
DTSTART:20241027T010000
END:STANDARD
END:VTIMEZONE
BEGIN:VEVENT
DTSTART;VALUE=DATE:20240512
DTEND;VALUE=DATE:20240513
DTSTAMP:20260422T210613
CREATED:20240416T082732Z
LAST-MODIFIED:20240513T210744Z
UID:113842-1715472000-1715558399@www.stivoz.gr
SUMMARY:Παπαφλέσσεια (Καλαμάτα)
DESCRIPTION:κατ.”D” \nΣχετικά θέματα:\n– www.stivoz.gr/kalamata-grigoro-800ari-despollari-kai-roussou/\n– www.stivoz.gr/papaflesseia-2024/ (αποτελέσματα) \n-> ιστορικό \nΠρόγραμμα: \n17.50 ΑΚΟΝΤΙΣΜΟΣ ΑΝΔΡΩΝ\n18.00 100Μ ΕΜΠ ΓΥΝΑΙΚΩΝ\n18.00 ΜΗΚΟΣ ΑΝΔΡΩΝ\n18.10 ΤΕΛΕΤΗ ΕΝΑΡΞΗΣ\n18.20 100 Μ ΑΝΔΡΩΝ\n18.35 100Μ ΓΥΝΑΙΚΩΝ\n18.35 ΥΨΟΣ ΓΥΝΑΙΚΩΝ\n18.50 800Μ ΑΝΔΡΩΝ\n19.05 800Μ ΓΥΝΑΙΚΩΝ\n19.10 ΑΚΟΝΤΙΣΜΟΣ ΓΥΝΑΙΚΩΝ\n19.15 ΣΚΥΤΑΛΟΔΡΟΜΙΑ 4Χ50Μ ΜΕΙΚΤΗ Κ 14\n19.30 200Μ ΓΥΝΑΙΚΩΝ\n19.45 200Μ ΑΝΔΡΩΝ\n20.00 400Μ ΕΜΠ ΑΝΔΡΩΝ\n20.10 80Μ ΑΓΟΡΙΩΝ Κ16\n20.15 80Μ ΚΟΡΙΤΣΙΩΝ Κ16\n20.20 60Μ SPECIAL OLYMPICS
URL:https://www.stivoz.gr/event/papaflesseia-2024/
CATEGORIES:Ημερολόγιο αγώνων
END:VEVENT
END:VCALENDAR