BEGIN:VCALENDAR
VERSION:2.0
PRODID:-//StivoZ.gr - ECPv5.16.4//NONSGML v1.0//EN
CALSCALE:GREGORIAN
METHOD:PUBLISH
X-WR-CALNAME:StivoZ.gr
X-ORIGINAL-URL:https://www.stivoz.gr
X-WR-CALDESC:StivoZ.gr - Εκδηλώσεις
BEGIN:VTIMEZONE
TZID:Europe/Athens
BEGIN:DAYLIGHT
TZOFFSETFROM:+0200
TZOFFSETTO:+0300
TZNAME:EEST
DTSTART:20190331T010000
END:DAYLIGHT
BEGIN:STANDARD
TZOFFSETFROM:+0300
TZOFFSETTO:+0200
TZNAME:EET
DTSTART:20191027T010000
END:STANDARD
END:VTIMEZONE
BEGIN:VEVENT
DTSTART;VALUE=DATE:20190619
DTEND;VALUE=DATE:20190620
DTSTAMP:20260419T202451
CREATED:20181223T110620Z
LAST-MODIFIED:20220504T183914Z
UID:41383-1560902400-1560988799@www.stivoz.gr
SUMMARY:Παπαφλέσσεια (Καλαμάτα)
DESCRIPTION:http://www.papaflessia.com/el/ \nΣχετικά θέματα:\n– https://www.stivoz.gr/kalamata-katevike-ta-60-i-chatzipoyrgani/\n– https://www.stivoz.gr/papaflesseia-2019/ (αποτελέσματα) \n-> συμμετοχές \nΤην Τρίτη (18/6) στις 14.00 θα αναχωρήσει λεωφορείο από το κλειστό προπονητήριο του ΟΑΚΑ \nΠρόγραμμα: \n17.45   50 μ. ΑΓΟΡΙΩΝ ΔΗΜ ΣΧΟΛΕΙΩΝ\n18:00   100μ. ΓΥΝΑΙΚΩΝ\n18:00   ΜΗΚΟΣ ΓΥΝΑΙΚΩΝ\n18:10   ΑΚΟΝΤΙΣΜΟΣ ΓΥΝΑΙΚΩΝ\n18:10   ΤΕΛΕΤΗ ΕΝΑΡΞΗΣ\n18:20   100μ. ΑΝΔΡΩΝ\n18:30   80μ. ΠΑΓΚΟΡΑΣΙΔΩΝ Α΄\n18:40   80Μ. ΠΑΜΠΑΙΔΩΝ Α΄\n18:55   400μ. εμπ. ΓΥΝΑΙΚΩΝ\n19:15  400μ. εμπ. ΑΝΔΡΩΝ\n19:20   ΜΗΚΟΣ ΑΝΔΡΩΝ\n19:20   ΑΚΟΝΤΙΣΜΟΣ ΑΝΔΡΩΝ\n19:25   100μ. ΑΘΛΗΤΩΝ ΜΕ ΤΥΦΛΟΤΗΤΑ\n19:35   1.500μ. ΓΥΝΑΙΚΩΝ\n19:45   1.500μ. ΑΝΔΡΩΝ\n19:55   200μ. ΓΥΝΑΙΚΩΝ\n20:05   200μ ΑΝΔΡΩΝ \nΟι Δηλώσεις Συμμετοχής των αθλητών-τριών θα υποβάλλονται το αργότερο μέχρι τη Δευτέρα 14 Ιουνίου 2019 ηλεκτρονικά\, στην ηλεκτρονική διεύθυνση Dimitrpoulopoulos@gmail.com με πλήρη στοιχεία του αθλητή-τριας (Ονοματεπώνυμο\, Ε.Γ.\, Αριθμό Μητρώου ΣΕΓΑΣ\, Αγώνισμα).
URL:https://www.stivoz.gr/event/papaflesseia-2019/
LOCATION:Δημοτικό Στάδιο Καλαμάτας\, Εθνικού Σταδίου\, Καλαμάτα\, Μεσσηνίας\, 24100\, Ελλάδα
CATEGORIES:Ημερολόγιο αγώνων
END:VEVENT
END:VCALENDAR