BEGIN:VCALENDAR
VERSION:2.0
PRODID:-//StivoZ.gr - ECPv5.16.4//NONSGML v1.0//EN
CALSCALE:GREGORIAN
METHOD:PUBLISH
X-WR-CALNAME:StivoZ.gr
X-ORIGINAL-URL:https://www.stivoz.gr
X-WR-CALDESC:StivoZ.gr - Εκδηλώσεις
BEGIN:VTIMEZONE
TZID:Europe/Athens
BEGIN:STANDARD
TZOFFSETFROM:+0200
TZOFFSETTO:+0200
TZNAME:EET
DTSTART:20160101T000000
END:STANDARD
END:VTIMEZONE
BEGIN:VEVENT
DTSTART;VALUE=DATE:20160528
DTEND;VALUE=DATE:20260420
DTSTAMP:20260419T162944
CREATED:20151021T201019Z
LAST-MODIFIED:20220504T183927Z
UID:29031-1464393600-0@www.stivoz.gr
SUMMARY:Παπαφλέσσεια (Καλαμάτα)
DESCRIPTION:Σχετικά θέματα:\n– www.stivoz.com/content.php?5581-Altes-pera-apo-ta-oria-stin-Kalamata-Tentoglou-Aleksouli-gia-Rio-kai-o-Parellis\n– www.stivoz.com/forum/showthread.php?15140 (αποτελέσματα) \n-> συμμετοχές \nΠρόγραμμα  \n17:00             ΤΡΙΠΛΟΥΝ ΑΝΔΡΩΝ\n18:00             100μ. EMΠ. ΓΥΝΑΙΚΩΝ\n18:00             ΑΚΟΝΤΙΣΜΟΣ ΑΝΔΡΩΝ\n18:00             ΜΗΚΟΣ ΑΝΔΡΩΝ\n18:10             ΤΕΛΕΤΗ ΕΝΑΡΞΗΣ\n18:20             100μ. ΑΝΔΡΩΝ\n18:30             100μ. ΓΥΝΑΙΚΩΝ\n18:40             80μ. ΠΑΓΚΟΡΑΣΙΔΩΝ Α΄\n18:50             80μ. ΠΑΜΠΑΙΔΩΝ Α΄\n19:00             ΣΦΑΙΡΟΒΟΛΙΑ ΑΝΔΡΩΝ\n19:05             400μ. ΑΝΔΡΩΝ\n19:15             400μ. ΓΥΝΑΙΚΩΝ\n19:15             ΜΗΚΟΣ ΓΥΝΑΙΚΩΝ\n19:30             800μ. ΑΝΔΡΩΝ\n19:40             400μ. ΕΜΠ. ΓΥΝΑΙΚΩΝ\n19:50             400μ. ΕΜΠ. ΑΝΔΡΩΝ\n20:00             200μ. ΑΝΔΡΩΝ\n20:10             150μ. ΠΑΓΚΟΡΑΣΙΔΩΝ Α΄ \nΓια τη συμμετοχή των αθλητών –τριών και τις δηλώσεις συμμετοχής\nαπαραίτητη επικοινωνία με τον κ Δημήτρη Πουλόπουλο στο τηλ. 6974711317\nκαι δηλώσεων στο  email: Dimitrpoulopoulos@gmail.com με πλήρη στοιχεία του αθλητή –τριας και αριθμό δελτίου ΣΕΓΑΣ μέχρι τη Δευτέρα 23-5-2016 \nΟι ενδιαφερόμενοι για την συμμετοχή τους παρακαλούνται να επικοινωνούν τον κ Πουλόπουλο Δημήτριο στο τηλ. 6974711317\nή στο e mail Dimitrpoulopoulos@gmail.com τόσο για το αγωνιστικό μέρος όσο και για την κάλυψη εξόδων μετακίνησης διαμονής διατροφής.
URL:https://www.stivoz.gr/event/papaflesseia-2016/
CATEGORIES:Ημερολόγιο αγώνων
END:VEVENT
END:VCALENDAR