BEGIN:VCALENDAR
VERSION:2.0
PRODID:-//StivoZ.gr - ECPv5.16.4//NONSGML v1.0//EN
CALSCALE:GREGORIAN
METHOD:PUBLISH
X-WR-CALNAME:StivoZ.gr
X-ORIGINAL-URL:https://www.stivoz.gr
X-WR-CALDESC:StivoZ.gr - Εκδηλώσεις
BEGIN:VTIMEZONE
TZID:Europe/Athens
BEGIN:STANDARD
TZOFFSETFROM:+0200
TZOFFSETTO:+0200
TZNAME:EET
DTSTART:20110101T000000
END:STANDARD
END:VTIMEZONE
BEGIN:VEVENT
DTSTART;VALUE=DATE:20110604
DTEND;VALUE=DATE:20260423
DTSTAMP:20260422T110517
CREATED:20110113T132431Z
LAST-MODIFIED:20211210T103039Z
UID:28541-1307145600-0@www.stivoz.gr
SUMMARY:meeting Παπαφλέσσεια (Καλαμάτα)
DESCRIPTION:ΠΡΟΓΡΑΜΜΑ\n17.30 Τερματισμός «Παπαφλέσσειου Δρόμου»\n17.30 Επί κοντώ Α\n17.50 Τελετή Έναρξης\n17.50 * Μήκος Γ\n18.00 * 110μ εμπόδια Α\n18.00 * Ακοντισμός Γ\n18.20 100μ Νέων Α (κάτω των 23 ετών)\n18.30 * 100μ Γ\n18.45 * 400μ εμπόδια Γ\n19.00 600μ Παγκορασίδων\n19.00 Μήκος Α\n19.00 * Ύψος Γ\n19.10 * 800μ Γ\n19.25 * 800μ Α\n19.25 * Ακοντισμός Α\n19.35 * 400μ Α\n19.50 * 400μ Γ\n20.10 Τριπλούν Α\n20.10 600μ Παμπαίδων \n* = αγώνας-κριτήριο
URL:https://www.stivoz.gr/event/papaflesseia-2011/
CATEGORIES:Ημερολόγιο αγώνων
END:VEVENT
END:VCALENDAR