BEGIN:VCALENDAR
VERSION:2.0
PRODID:-//StivoZ.gr - ECPv5.16.4//NONSGML v1.0//EN
CALSCALE:GREGORIAN
METHOD:PUBLISH
X-WR-CALNAME:StivoZ.gr
X-ORIGINAL-URL:https://www.stivoz.gr
X-WR-CALDESC:StivoZ.gr - Εκδηλώσεις
BEGIN:VTIMEZONE
TZID:Europe/Athens
BEGIN:STANDARD
TZOFFSETFROM:+0200
TZOFFSETTO:+0200
TZNAME:EET
DTSTART:20100101T000000
END:STANDARD
END:VTIMEZONE
BEGIN:VEVENT
DTSTART;VALUE=DATE:20100529
DTEND;VALUE=DATE:20260421
DTSTAMP:20260420T032709
CREATED:20100104T151213Z
LAST-MODIFIED:20211210T105028Z
UID:28362-1275091200-0@www.stivoz.gr
SUMMARY:meeting Παπαφλέσσεια (Καλαμάτα)
DESCRIPTION:http://www.papaflessia.gr \nΣχετικά θέματα:\nhttp://www.stivoz.com/forum/showthread.php?t=3957\nhttp://www.stivoz.gr/?p=10705\nhttp://www.stivoz.gr/?p=16834 (αποτελέσματα) \nΠρόγραμμα:\n18:00\nΆφιξη Ιερής Φλόγας\nΤερματισμός Δρόμου Θυσίας\nΤελετή Έναρξης\n18:00 Ακόντιο Γ\n18:00 Μήκος Α\n18:15 Ύψος Γ\n18:30 100μ Α\n18:45 80μ Παμπαίδων\n18:55 80μ Παγκορασίδων\n19:00 400μ Γ\n19:15 400μ Α (U23)\n19:15 Σφαίρα Γ\n19:30 Ακόντιο Α\n19:30 400μ εμπόδια Γ (U23)\n19:30 Τριπλούν Γ\n19:30 Ύψος Α\n19:45 1.500μ Γ\n20:00 3.000μ Α\n20:20 200μ Α
URL:https://www.stivoz.gr/event/papaflesseia-2010/
CATEGORIES:Ημερολόγιο αγώνων
END:VEVENT
END:VCALENDAR