BEGIN:VCALENDAR
VERSION:2.0
PRODID:-//StivoZ.gr - ECPv5.16.4//NONSGML v1.0//EN
CALSCALE:GREGORIAN
METHOD:PUBLISH
X-WR-CALNAME:StivoZ.gr
X-ORIGINAL-URL:https://www.stivoz.gr
X-WR-CALDESC:StivoZ.gr - Εκδηλώσεις
BEGIN:VTIMEZONE
TZID:Europe/Athens
BEGIN:STANDARD
TZOFFSETFROM:+0200
TZOFFSETTO:+0200
TZNAME:EET
DTSTART:20090101T000000
END:STANDARD
END:VTIMEZONE
BEGIN:VEVENT
DTSTART;VALUE=DATE:20090530
DTEND;VALUE=DATE:20260421
DTSTAMP:20260420T014422
CREATED:20081101T094439Z
LAST-MODIFIED:20220504T184000Z
UID:28266-1243641600-0@www.stivoz.gr
SUMMARY:Παπαφλέσσεια (Καλαμάτα)
DESCRIPTION:Σχετικά θέματα:\nhttp://www.stivoz.gr/?p=28362\nhttp://www.stivoz.gr/?p=16776 \n17.30 Τριπλούν Γ\, ύψος Γ\, άφιξη «Παπαφλέσσειου Δρόμου»\n17.45 Τελετή Έναρξης\n18.00 100μ Γ (Τελικές σειρές)\, ακόντιο Α\n18.15 100μ Α (Τελικές σειρές)\n18.30 400μ Γ\n18.45 400μ Α. μήκος Α\, ύψος Α\n19.00 Ακόντιο Γ\, σκυταλοδρομία 8χ50μ Αγοριών\n19.15 800μ Γ\n19.30 800μ Α\n19.45 200μ Γ\n19.55 200μ Α\n20.10 3.000μ στιπλ \nΟι αγώνες θα καλυφθούν απευθείας από την ΕΤ\, με έναρξη από τις 19.00.
URL:https://www.stivoz.gr/event/papaflesseia-2009/
CATEGORIES:Ημερολόγιο αγώνων
END:VEVENT
END:VCALENDAR