BEGIN:VCALENDAR
VERSION:2.0
PRODID:-//StivoZ.gr - ECPv5.16.4//NONSGML v1.0//EN
CALSCALE:GREGORIAN
METHOD:PUBLISH
X-WR-CALNAME:StivoZ.gr
X-ORIGINAL-URL:https://www.stivoz.gr
X-WR-CALDESC:StivoZ.gr - Εκδηλώσεις
BEGIN:VTIMEZONE
TZID:Europe/Athens
BEGIN:DAYLIGHT
TZOFFSETFROM:+0200
TZOFFSETTO:+0300
TZNAME:EEST
DTSTART:20190331T010000
END:DAYLIGHT
BEGIN:STANDARD
TZOFFSETFROM:+0300
TZOFFSETTO:+0200
TZNAME:EET
DTSTART:20191027T010000
END:STANDARD
END:VTIMEZONE
BEGIN:VEVENT
DTSTART;VALUE=DATE:20190616
DTEND;VALUE=DATE:20190617
DTSTAMP:20260419T221813
CREATED:20190524T101353Z
LAST-MODIFIED:20190627T165119Z
UID:50190-1560643200-1560729599@www.stivoz.gr
SUMMARY:Πανθρακικοί αγώνες (Αλεξανδρούπολη)
DESCRIPTION:Σχετικά θέματα:\n– https://www.stivoz.gr/panthrakikoi-2019/ (αποτελέσματα) \nΠρόγραμμα \n16.20 Τελετή Έναρξης\n16.30 ΣΦΑΙΡΑ Α & Π\n16.30 ΤΡΙΠΛΟΥΝ Γ\n16.30 110 εμπ. Α\n16.45 80 ΠΠΑ\n16.45 ΥΨΟΣ Κ\n17.00 ΜΗΚΟΣ Α\n17.00 ΑΚΟΝΤΙΟ Γ & Κ\n17.00 100 Γ\n17.15 100 Α\n17.30 150 ΠΚΑ\n17.30 ΣΦΑΙΡΑ Γ\n17.50 1000 ΠΚΑ\n17.50 ΥΨΟΣ Π\n17.50 ΔΙΣΚΟΣ Π\n18.00 1000 ΠΠΑ\n18.15 ΜΗΚΟΣ Γ\n18.15 ΑΚΟΝΤΙΟ Α\n18.15 200 Κ\n18.30 200 Α\n18.30 ΔΙΣΚΟΣ Κ\n18.50 800 Γ\n19.00 800 Α\n19.15 400 Γ\n19.30 400 Α \nΟι αθλητές-τριες που επιθυμούν να λάβουν μέρος στους αγώνες θα πρέπει να δηλώσουν τη συμμετοχή τους μέχρι την ΠΕΜΠΤΗ 13/6/2019 στην ΕΑΣ ΣΕΓΑΣ ΑΝ. ΜΑΚΕΔΟΝΙΑΣ-ΘΡΑΚΗΣ ηλεκτρονικά στο e-mail: eassegas.anmth@gmail.com στο ειδικό έντυπο δήλωσης συμμετοχής .
URL:https://www.stivoz.gr/event/panthrakikoi-2019/
CATEGORIES:Ημερολόγιο αγώνων
END:VEVENT
END:VCALENDAR