BEGIN:VCALENDAR
VERSION:2.0
PRODID:-//StivoZ.gr - ECPv5.16.4//NONSGML v1.0//EN
CALSCALE:GREGORIAN
METHOD:PUBLISH
X-WR-CALNAME:StivoZ.gr
X-ORIGINAL-URL:https://www.stivoz.gr
X-WR-CALDESC:StivoZ.gr - Εκδηλώσεις
BEGIN:VTIMEZONE
TZID:Europe/Athens
BEGIN:DAYLIGHT
TZOFFSETFROM:+0200
TZOFFSETTO:+0300
TZNAME:EEST
DTSTART:20240331T010000
END:DAYLIGHT
BEGIN:STANDARD
TZOFFSETFROM:+0300
TZOFFSETTO:+0200
TZNAME:EET
DTSTART:20241027T010000
END:STANDARD
END:VTIMEZONE
BEGIN:VEVENT
DTSTART;VALUE=DATE:20240707
DTEND;VALUE=DATE:20240708
DTSTAMP:20260420T072433
CREATED:20240628T131528Z
LAST-MODIFIED:20240709T082048Z
UID:117354-1720310400-1720396799@www.stivoz.gr
SUMMARY:Panionios pole vault meet.
DESCRIPTION:Σχετικά θέματα:\n– www.stivoz.gr/panionios-pole-vault-meet-2024/ (αποτελέσματα) \nΠρόγραμμα: \n16:30 Επί κοντώ Α\n18:15 Επί κοντώ Γ \nΔηλώσεις συμμετοχής μέχρι τη Δευτέρα 1η Ιουλίου στο tc@pgss.com
URL:https://www.stivoz.gr/event/panionios-pole-vault-meet-2024/
CATEGORIES:Ημερολόγιο αγώνων
END:VEVENT
END:VCALENDAR