BEGIN:VCALENDAR
VERSION:2.0
PRODID:-//StivoZ.gr - ECPv5.16.4//NONSGML v1.0//EN
CALSCALE:GREGORIAN
METHOD:PUBLISH
X-WR-CALNAME:StivoZ.gr
X-ORIGINAL-URL:https://www.stivoz.gr
X-WR-CALDESC:StivoZ.gr - Εκδηλώσεις
BEGIN:VTIMEZONE
TZID:Europe/Athens
BEGIN:DAYLIGHT
TZOFFSETFROM:+0200
TZOFFSETTO:+0300
TZNAME:EEST
DTSTART:20140330T010000
END:DAYLIGHT
BEGIN:STANDARD
TZOFFSETFROM:+0300
TZOFFSETTO:+0200
TZNAME:EET
DTSTART:20141026T010000
END:STANDARD
END:VTIMEZONE
BEGIN:VEVENT
DTSTART;VALUE=DATE:20140614
DTEND;VALUE=DATE:20140616
DTSTAMP:20260422T035225
CREATED:20131123T132223Z
LAST-MODIFIED:20181218T094600Z
UID:28842-1402736400-1402866000@www.stivoz.gr
SUMMARY:Πανελλήνιο Νέων (Τρίκαλα)
DESCRIPTION:Σχετικά θέματα\n– www.stivoz.com/content.php?4052-panellinio-protathlima-neon-1h-mera-proi-me-rekor-xekinise-i-pesiridou\n– www.stivoz.com/content.php?4054-panellinio-protathlima-neon-1h-mera-apogevma\n– www.stivoz.com/content.php?4060-Panellinio-Newn-2i-mera-proi-Liga-prokrimatika-24-66-i-Tsioutsioumanou\n– www.stivoz.com/content.php?4061-Panellinio-Newn-2i-mera-apogeyma-Orio-o-Xenikakis-aggikse-ta-8m\n– www.stivoz.com/forum/showthread.php?11976 (αποτελέσματα) \nΟι αγώνες δεν θα μεταδοθούν ζωντανά σε σύνδεση livestreaming μέσω της ιστοσελίδας του ΣΕΓΑΣ λόγω τεχνικού προβλήματος\nαλλά θα βιντεοσκοπηθούν και θα μεταδοθούν εντός της ερχόμενης εβδομάδας.  \nΣυμμετοχές (από ΣΕΓΑΣ)\n– Νέοι\n– Νέες \nΗ ομοσπονδία κάνει γνωστό πως λόγω της κακής κατάστασης\, στην οποία βρίσκεται ο 7ος διάδρομος του σταδίου των Τρικάλων τροποποιούνται οι διαδικασίες των προκριματικών και τελικών σειρών. \nΝέο Πρόγραμμα: \nδεν θα γίνει προκριματικός σε:\nΝέοι: 110 μ. εμπ.\, 400 μ. εμπ.\, Υψος\, Τριπλούν\, Επί κοντώ\, Σφυροβολία\nΝέες: 100 μ. εμπ.\, 400 μ. εμπ.\, Επί κοντώ\, Τριπλούν\, Σφαιροβολία\, Δισκοβολία\, Ακοντισμός\, Σφυροβολία \nΣΑΒΒΑΤΟ 14 ΙΟΥΝΙΟΥ 2014 \n8:00	ΣΦΥΡΟΒΟΛΙΑ	Γ	Προκριματικός	Κεντρικό / Όριο: 47\,00μ.\n8:30	ΑΛΜΑ ΕΠΙ ΚΟΝΤΩ	Γ	Προκριματικός	Όριο: 3\,50μ.\n9:00	ΑΛΜΑ ΤΡΙΠΛΟΥΝ	Α	Προκριματικός	Όριο: 14\,40μ.\n9:30	ΔΙΣΚΟΒΟΛΙΑ	Γ	Προκριματικός	Κεντρικό / Όριο: 40\,00μ.\n9:00	100μ. με Εμπόδια	Γ	Προκριματικός	 \n9:20	110μ. με Εμπόδια	Α	Προκριματικός	 \n9:50	100μ.	Γ	Προκριματικός\n10:00	ΑΛΜΑ ΣΕ ΥΨΟΣ	Α	Προκριματικός	Όριο: 2\,00μ.\n10:15	100μ.	Α	Προκριματικός\n10:30	ΑΛΜΑ ΣΕ ΜΗΚΟΣ	Γ	Προκριματικός	Όριο: 5\,60μ.\n10:50	400μ.	Γ	Προκριματικός\n11:00	ΣΦΑΙΡΟΒΟΛΙΑ	Α	Προκριματικός	Κεντρικό / Όριο: 14\,20μ.\n11:00	ΑΚΟΝΤΙΣΜΟΣ	Α	Προκριματικός	Κεντρικό / Όριο: 59\,00μ.\n11:15	400μ.	Α	Προκριματικός	  \n16:00	ΣΦΥΡΟΒΟΛΙΑ	Γ	ΤΕΛΙΚΟΣ	Κεντρικό\n16:45	ΑΛΜΑ ΕΠΙ ΚΟΝΤΩ	Γ	ΤΕΛΙΚΟΣ\n17:50	ΑΛΜΑ ΤΡΙΠΛΟΥΝ	Α	ΤΕΛΙΚΟΣ\n17:40	ΔΙΣΚΟΒΟΛΙΑ	Γ	ΤΕΛΙΚΟΣ	Κεντρικό\n17:30	110μ. με Εμπόδια	Α	ΤΕΛΙΚΗ ΣΕΙΡΑ\n17:45	100μ. με Εμπόδια	Γ	ΤΕΛΙΚΗ ΣΕΙΡΑ\n18:00	100μ. 	Γ	ΤΕΛΙΚΗ ΣΕΙΡΑ 1\n18:06	100μ. 	Γ	ΤΕΛΙΚΗ ΣΕΙΡΑ 2\n18:15	100μ. 	Α	ΤΕΛΙΚΗ ΣΕΙΡΑ 1\n18:21	100μ. 	Α	ΤΕΛΙΚΗ ΣΕΙΡΑ 2\n18:40	ΑΛΜΑ ΣΕ ΥΨΟΣ	Α	ΤΕΛΙΚΟΣ\n18:35	400μ. 	Γ	ΤΕΛΙΚΗ ΣΕΙΡΑ 1\n18:42	400μ. 	Γ	ΤΕΛΙΚΗ ΣΕΙΡΑ 2\n18:50	400μ. 	Α	ΤΕΛΙΚΗ ΣΕΙΡΑ 1\n18:57	400μ. 	Α	ΤΕΛΙΚΗ ΣΕΙΡΑ 2\n19:00	ΣΦΑΙΡΟΒΟΛΙΑ	Α	ΤΕΛΙΚΟΣ	Κεντρικό\n19:05	1500μ.	Α	ΤΕΛΙΚΗ ΣΕΙΡΑ 1\n19:15	1500μ.	Α	ΤΕΛΙΚΗ ΣΕΙΡΑ 2\n19:25	1500μ.	Γ	ΤΕΛΙΚΗ ΣΕΙΡΑ 1\n19:35	1500μ.	Γ	ΤΕΛΙΚΗ ΣΕΙΡΑ 2\n19:30	ΑΛΜΑ ΣΕ ΜΗΚΟΣ	Γ	ΤΕΛΙΚΟΣ\n19:40	ΑΚΟΝΤΙΣΜΟΣ	Α	ΤΕΛΙΚΟΣ	Κεντρικό\n19:45	3.000μ. με Φ.Ε.	Γ	ΤΕΛΙΚΟΣ\n20:05	3.000μ. με Φ.Ε. 	Α	ΤΕΛΙΚΟΣ\n20:25	4 X 100μ. 	Α	ΤΕΛΙΚΕΣ ΣΕΙΡΕΣ\n20:50	4 X 100μ. 	Γ	ΤΕΛΙΚΕΣ ΣΕΙΡΕΣ	  \nΚΥΡΙΑΚΗ 15 ΙΟΥΝΙΟΥ 2014 \n8:00	ΣΦΥΡΟΒΟΛΙΑ	Α	Προκριματικός	Κεντρικό / Όριο: 50\,00μ.\n8:30	ΑΛΜΑ ΕΠΙ ΚΟΝΤΩ	Α	Προκριματικός	Όριο: 4\,50μ.\n9:00	ΑΛΜΑ ΤΡΙΠΛΟΥΝ	Γ	Προκριματικός	Όριο: 12\,00μ.\n9:00	400μ. με Εμπόδια	Γ	Προκριματικός	 \n9:25	400μ. με Εμπόδια	Α	Προκριματικός	 \n9:30	ΔΙΣΚΟΒΟΛΙΑ	Α	Προκριματικός	Βοηθητικό / Όριο: 44\,00μ.\n9:55	800μ.	Γ	Προκριματικός\n10:00	ΑΛΜΑ ΣΕ ΥΨΟΣ	Γ	Προκριματικός	Όριο: 1\,68μ.\n10:15	800μ.	Α	Προκριματικός\n10:30	ΑΛΜΑ ΣΕ ΜΗΚΟΣ	Α	Προκριματικός	Όριο: 7\,00μ.\n10:40	200μ.	Α	Προκριματικός\n10:45	ΣΦΑΙΡΟΒΟΛΙΑ	Γ	Προκριματικός	Κεντρικό / Όριο: 12\,50μ.\n11:10	200μ.	Γ	Προκριματικός\n11:15	ΑΚΟΝΤΙΣΜΟΣ	Γ	Προκριματικός	Κεντρικό / Όριο: 42\,00μ. \n16:00	ΣΦΥΡΟΒΟΛΙΑ	Α	ΤΕΛΙΚΟΣ	Κεντρικό\n16:45	ΑΛΜΑ ΕΠΙ ΚΟΝΤΩ	Α	ΤΕΛΙΚΟΣ\n17:30	ΑΛΜΑ ΤΡΙΠΛΟΥΝ	Γ	ΤΕΛΙΚΟΣ\n17:40	ΔΙΣΚΟΒΟΛΙΑ	Α	ΤΕΛΙΚΟΣ	Κεντρικό\n18:00	400μ. με Εμπόδια	Γ	ΤΕΛΙΚΗ ΣΕΙΡΑ\n18:15	400μ. με Εμπόδια	Α	ΤΕΛΙΚΗ ΣΕΙΡΑ\n18:35	ΑΛΜΑ ΣΕ ΥΨΟΣ	Γ	ΤΕΛΙΚΟΣ\n18:30	200μ. 	Γ	ΤΕΛΙΚΗ ΣΕΙΡΑ 1\n18:36	200μ. 	Γ	ΤΕΛΙΚΗ ΣΕΙΡΑ 2\n18:50	ΣΦΑΙΡΟΒΟΛΙΑ	Γ	ΤΕΛΙΚΟΣ	Κεντρικό\n18:45	200μ. 	Α	ΤΕΛΙΚΗ ΣΕΙΡΑ 1\n18:51	200μ. 	Α	ΤΕΛΙΚΗ ΣΕΙΡΑ 2\n19:00	800μ.	Γ	ΤΕΛΙΚΟΣ\n19:10	800μ.	Α	ΤΕΛΙΚΟΣ\n19:15	ΑΛΜΑ ΣΕ ΜΗΚΟΣ	Α	ΤΕΛΙΚΟΣ\n19:30	ΑΚΟΝΤΙΣΜΟΣ	Γ	ΤΕΛΙΚΟΣ	Κεντρικό\n19:20	5.000μ.	Α	ΤΕΛΙΚΟΣ\n19:40	5.000μ. 	Γ	ΤΕΛΙΚΟΣ\n20:10	4 X 400μ. 	Γ	ΤΕΛΙΚΕΣ ΣΕΙΡΕΣ\n20:30	4 X 400μ. 	Α	ΤΕΛΙΚΕΣ ΣΕΙΡΕΣ
URL:https://www.stivoz.gr/event/panellinio-u23-2014/
CATEGORIES:Ημερολόγιο αγώνων
END:VEVENT
END:VCALENDAR