BEGIN:VCALENDAR
VERSION:2.0
PRODID:-//StivoZ.gr - ECPv5.16.4//NONSGML v1.0//EN
CALSCALE:GREGORIAN
METHOD:PUBLISH
X-WR-CALNAME:StivoZ.gr
X-ORIGINAL-URL:https://www.stivoz.gr
X-WR-CALDESC:StivoZ.gr - Εκδηλώσεις
BEGIN:VTIMEZONE
TZID:Europe/Athens
BEGIN:DAYLIGHT
TZOFFSETFROM:+0200
TZOFFSETTO:+0300
TZNAME:EEST
DTSTART:20130331T010000
END:DAYLIGHT
BEGIN:STANDARD
TZOFFSETFROM:+0300
TZOFFSETTO:+0200
TZNAME:EET
DTSTART:20131027T010000
END:STANDARD
END:VTIMEZONE
BEGIN:VEVENT
DTSTART;VALUE=DATE:20130615
DTEND;VALUE=DATE:20130617
DTSTAMP:20260422T035732
CREATED:20130111T135841Z
LAST-MODIFIED:20181218T095418Z
UID:28750-1371286800-1371416400@www.stivoz.gr
SUMMARY:Πανελλήνιο Πρωτάθλημα Νέων (Σέρρες)
DESCRIPTION:Σχετικά θέματα:\n– www.stivoz.com/forum/showthread.php?9049 (Α’ πρ.)\n– www.stivoz.com/forum/showthread.php?9053 (Α’ τελ.)\n– www.stivoz.com/forum/showthread.php?9057 (Β’ τελ.)\n– www.stivoz.com/forum/showthread.php?9046 (αποτελέσματα) \nΣΑΒΒΑΤΟ\, 15 ΙΟΥΝΙΟΥ 2013	 \nΠΡΩΪΝΟ ΠΡΟΓΡΑΜΜΑ	 \n08:00	ΣΦΥΡΟΒΟΛΙΑ	Γ	Προκριματικός	Κεντρικό / Όριο: 47\,00μ. δεν θα διεξαχθεί\n08:30	ΑΛΜΑ ΕΠΙ ΚΟΝΤΩ	Γ	Προκριματικός	Όριο: 3\,50μ.\n09:00	ΑΛΜΑ ΤΡΙΠΛΟΥΝ	Α	Προκριματικός	Όριο: 14\,60μ.\n09:00	ΔΙΣΚΟΒΟΛΙΑ	Γ	Προκριματικός	Βοηθητικό / Όριο: 40\,00μ.\n09:00	100μ. με Εμπόδια	Γ	Προκριματικός\n09:20	110μ. με Εμπόδια	Α	Προκριματικός\n09:50	100μ.	Γ	Προκριματικός\n10:00	ΑΛΜΑ ΣΕ ΥΨΟΣ	Α	Προκριματικός	Όριο: 2\,03μ. δεν θα διεξαχθεί\n10:15	ΣΦΑΙΡΟΒΟΛΙΑ	Α	Προκριματικός	Κεντρικό / Όριο: 14\,50μ.\n10:15	100μ.	Α	Προκριματικός\n10:30	ΑΛΜΑ ΣΕ ΜΗΚΟΣ	Γ	Προκριματικός	Όριο: 5\,70μ.\n10:50	400μ.	Γ	Προκριματικός\n11:00	ΑΚΟΝΤΙΣΜΟΣ	Α	Προκριματικός	Κεντρικό / Όριο: 59\,00μ.\n11:15	400μ.	Α	Προκριματικός	  \nΑΠΟΓΕΥΜΑΤΙΝΟ ΠΡΟΓΡΑΜΜΑ	 \n16:00	ΣΦΥΡΟΒΟΛΙΑ	Γ	ΤΕΛΙΚΟΣ	Κεντρικό\n17:15	ΑΛΜΑ ΕΠΙ ΚΟΝΤΩ	Γ	ΤΕΛΙΚΟΣ\n17:35	ΑΛΜΑ ΤΡΙΠΛΟΥΝ	Α	ΤΕΛΙΚΟΣ\n17:45	ΔΙΣΚΟΒΟΛΙΑ	Γ	ΤΕΛΙΚΟΣ	Κεντρικό\n18:00	110μ. με Εμπόδια	Α	ΤΕΛΙΚΟΣ\n18:15	100μ. με Εμπόδια	Γ  ΤΕΛΙΚΟΣ\n18:25	ΑΛΜΑ ΣΕ ΥΨΟΣ	Α	ΤΕΛΙΚΟΣ\n18:30	100μ. 	Γ	ΤΕΛΙΚΗ ΣΕΙΡΑ 1\n18:36	100μ. 	Γ	ΤΕΛΙΚΗ ΣΕΙΡΑ 2\n18:45	100μ. 	Α	ΤΕΛΙΚΗ ΣΕΙΡΑ 1\n18:51	100μ. 	Α	ΤΕΛΙΚΗ ΣΕΙΡΑ 2\n19:00	400μ. 	Γ	ΤΕΛΙΚΟΣ\n19:10	400μ. 	Α	ΤΕΛΙΚΗ ΣΕΙΡΑ 1\n19:15	ΑΛΜΑ ΣΕ ΜΗΚΟΣ	Γ	ΤΕΛΙΚΟΣ\n19:17	400μ. 	Α	ΤΕΛΙΚΗ ΣΕΙΡΑ 2\n19:30	ΣΦΑΙΡΟΒΟΛΙΑ	Α	ΤΕΛΙΚΟΣ	Κεντρικό\n19:30	1500μ.	Α	ΤΕΛΙΚΗ ΣΕΙΡΑ 1\n19:45	ΑΚΟΝΤΙΣΜΟΣ	Α	ΤΕΛΙΚΟΣ	Κεντρικό\n19:40	1500μ.	Α	ΤΕΛΙΚΗ ΣΕΙΡΑ 2\n19:50	1500μ.	Γ	ΤΕΛΙΚΗ ΣΕΙΡΑ 1\n20:00	1500μ.	Γ	ΤΕΛΙΚΗ ΣΕΙΡΑ 2\n20:10	3.000μ. με Φ.Ε.	Γ	ΤΕΛΙΚΟΣ\n20:30	3.000μ. με Φ.Ε. 	Α	ΤΕΛΙΚΟΣ\n20:55	4 X 100μ. 	Α	ΤΕΛΙΚΕΣ ΣΕΙΡΕΣ\n21:20	4 X 100μ. 	Γ	ΤΕΛΙΚΕΣ ΣΕΙΡΕΣ	  \nΚΥΡΙΑΚΗ\, 16 ΙΟΥΝΙΟΥ 2013	 \nΠΡΩΪΝΟ ΠΡΟΓΡΑΜΜΑ \n08:00	ΣΦΥΡΟΒΟΛΙΑ	Α	Προκριματικός	Κεντρικό / Όριο: 50\,00μ.\n08:30	ΑΛΜΑ ΕΠΙ ΚΟΝΤΩ	Α	Προκριματικός	Όριο: 4\,50μ.\n09:00	ΑΛΜΑ ΤΡΙΠΛΟΥΝ	Γ	Προκριματικός	Όριο: 12\,10μ.\n09:00	ΔΙΣΚΟΒΟΛΙΑ	Α	Προκριματικός	Βοηθητικό / Όριο: 45\,00μ.\n09:00	400μ. με Εμπόδια	Γ	Προκριματικός\n09:25	400μ. με Εμπόδια	Α	Προκριματικός\n09:55	800μ.	Γ	Προκριματικός\n10:00	ΑΛΜΑ ΣΕ ΥΨΟΣ	Γ	Προκριματικός	Όριο: 1\,68μ.\n10:15	ΣΦΑΙΡΟΒΟΛΙΑ	Γ	Προκριματικός	Κεντρικό / Όριο: 12\,80μ.\n10:15	800μ.	Α	Προκριματικός\n10:30	ΑΛΜΑ ΣΕ ΜΗΚΟΣ	Α	Προκριματικός	Όριο: 7\,20μ.\n10:40	200μ.	Α	Προκριματικός\n11:00	ΑΚΟΝΤΙΣΜΟΣ	Γ	Προκριματικός	Κεντρικό / Όριο: 43\,00μ.\n11:10	200μ.	Γ	Προκριματικός	  \nΑΠΟΓΕΥΜΑΤΙΝΟ ΠΡΟΓΡΑΜΜΑ	 \n16:00	ΣΦΥΡΟΒΟΛΙΑ	Α	ΤΕΛΙΚΟΣ	Κεντρικό\n17:15	ΑΛΜΑ ΕΠΙ ΚΟΝΤΩ	Α	ΤΕΛΙΚΟΣ\n17:30	ΑΛΜΑ ΤΡΙΠΛΟΥΝ	Γ	ΤΕΛΙΚΟΣ\n17:40	ΔΙΣΚΟΒΟΛΙΑ	Α	ΤΕΛΙΚΟΣ	Κεντρικό\n18:00	400μ. με Εμπόδια	Γ	ΤΕΛΙΚΗ ΣΕΙΡΑ 1\n18:07	400μ. με Εμπόδια	Γ	ΤΕΛΙΚΗ ΣΕΙΡΑ 2\n18:20	400μ. με Εμπόδια	Α	ΤΕΛΙΚΗ ΣΕΙΡΑ 1\n18:27	400μ. με Εμπόδια	Α	ΤΕΛΙΚΗ ΣΕΙΡΑ 2\n18:30	ΑΛΜΑ ΣΕ ΥΨΟΣ	Γ	ΤΕΛΙΚΟΣ\n18:35	200μ. 	Γ	ΤΕΛΙΚΗ ΣΕΙΡΑ 1\n18:41	200μ. 	Γ	ΤΕΛΙΚΗ ΣΕΙΡΑ 2\n18:50	200μ. 	Α	ΤΕΛΙΚΗ ΣΕΙΡΑ 1\n18:56	200μ. 	Α	ΤΕΛΙΚΗ ΣΕΙΡΑ 2\n19:05	800μ.	Γ	ΤΕΛΙΚΟΣ\n19:10	ΑΛΜΑ ΣΕ ΜΗΚΟΣ	Α	ΤΕΛΙΚΟΣ\n19:15	800μ.	Α	ΤΕΛΙΚΟΣ\n19:20	ΑΚΟΝΤΙΣΜΟΣ	Γ	ΤΕΛΙΚΟΣ	Κεντρικό\n19:25	5.000μ.	Α	ΤΕΛΙΚΟΣ\n19:30	ΣΦΑΙΡΟΒΟΛΙΑ	Γ	ΤΕΛΙΚΟΣ	Κεντρικό\n19:45	5.000μ. 	Γ	ΤΕΛΙΚΟΣ\n20:15	4 X 400μ. 	Γ	ΤΕΛΙΚΕΣ ΣΕΙΡΕΣ\n20:35	4 X 400μ. 	Α	ΤΕΛΙΚΕΣ ΣΕΙΡΕΣ
URL:https://www.stivoz.gr/event/panellinio-u23-2013/
CATEGORIES:Ημερολόγιο αγώνων
END:VEVENT
END:VCALENDAR