BEGIN:VCALENDAR
VERSION:2.0
PRODID:-//StivoZ.gr - ECPv5.16.4//NONSGML v1.0//EN
CALSCALE:GREGORIAN
METHOD:PUBLISH
X-WR-CALNAME:StivoZ.gr
X-ORIGINAL-URL:https://www.stivoz.gr
X-WR-CALDESC:StivoZ.gr - Εκδηλώσεις
BEGIN:VTIMEZONE
TZID:Europe/Athens
BEGIN:DAYLIGHT
TZOFFSETFROM:+0200
TZOFFSETTO:+0300
TZNAME:EEST
DTSTART:20210328T010000
END:DAYLIGHT
BEGIN:STANDARD
TZOFFSETFROM:+0300
TZOFFSETTO:+0200
TZNAME:EET
DTSTART:20211031T010000
END:STANDARD
END:VTIMEZONE
BEGIN:VEVENT
DTSTART;VALUE=DATE:20210703
DTEND;VALUE=DATE:20210705
DTSTAMP:20260419T162516
CREATED:20210602T092646Z
LAST-MODIFIED:20210707T132551Z
UID:78458-1625270400-1625443199@www.stivoz.gr
SUMMARY:Πανελ.πρωτ. Κ20 (Θεσσαλονίκη)
DESCRIPTION:-> livestream \nΣχετικά θέματα:\n– www.stivoz.gr/thessaloniki-xekinima-me-oria-mpachos-mortzakis-kai-karalis-rapti/\n– www.stivoz.gr/thessaloniki-oria-chytas-vasilogiannakopoulos-xryses-oi-afes-rapti/\n– www.stivoz.gr/thessaloniki-megalo-rekor-k20-i-filippidou/\n– www.stivoz.gr/thessaloniki-archi-me-diplo-orio-i-chatzipourgani-megali-voli-o-bouzakis/\n– www.stivoz.gr/thessaloniki-finale-sto-panellinio-k20-me-oria-kai-prosdokies-gia-to-mellon/ \n\nwww.stivoz.gr/panellinio-u20-2021/ (αποτελέσματα)\n\n-> Προκήρυξη \nΝέο Πρόγραμμα: \n(Χωρίς προκριματικό: υψηλά εμπόδια\, 400μ εμπ. Α\, ύψος Α\, δισκος Γ\, σφύρα) \nΑ΄ ΗΜΕΡΑ – ΣΑΒΒΑΤΟ 3 ΙΟΥΛΙΟΥ 2021 \n08.00 10.000μ ΒΑΔΗΝ ΑΝΔΡΩΝ ΤΕΛΙΚΟΣ\n08.00 10.000μ ΒΑΔΗΝ ΓΥΝΑΙΚΩΝ ΤΕΛΙΚΟΣ\n09.15 ΕΠΙ ΚΟΝΤΩ ΑΝΔΡΩΝ ΑΓΩΝΑΣ ΕΠΙΛΟΓΗΣ 4.35μ\n09.15 ΤΡΙΠΛΟΥΝ ΓΥΝΑΙΚΩΝ ΑΓΩΝΑΣ ΕΠΙΛΟΓΗΣ 12.00μ.\n09.20 ΥΨΟΣ ΓΥΝΑΙΚΩΝ ΑΓΩΝΑΣ ΕΠΙΛΟΓΗΣ 1.65μ.\n09.20 400μ ΓΥΝΑΙΚΩΝ ΠΡΟΚΡΙΜΑΤΙΚΟΣ\n09.40 400μ ΑΝΔΡΩΝ ΠΡΟΚΡΙΜΑΤΙΚΟΣ\n09.50 ΣΦΑΙΡΟΒΟΛΙΑ ΑΝΔΡΩΝ ΑΓΩΝΑΣ ΕΠΙΛΟΓΗΣ 14.60μ.\n10.00 100μ ΕΜΠ. ΕΠΤΑΘΛΟΥ 1\n10.25 100μ. ΔΕΚΑΘΛΟΥ 1 \n10.30 ΤΡΙΠΛΟΥΝ ΑΝΔΡΩΝ ΑΓΩΝΑΣ ΕΠΙΛΟΓΗΣ 14.00μ\n10.35 100μ ΓΥΝΑΙΚΩΝ ΠΡΟΚΡΙΜΑΤΙΚΟΣ\n11.00 ΥΨΟΣ ΕΠΤΑΘΛΟΥ 2 \n11.05 100μ ΑΝΔΡΩΝ ΠΡΟΚΡΙΜΑΤΙΚΟΣ\n11.10 ΜΗΚΟΣ ΔΕΚΑΘΛΟΥ 2\n11.30 ΑΚΟΝΤΙΣΜΟΣ ΓΥΝΑΙΚΩΝ ΑΓΩΝΑΣ ΕΠΙΛΟΓΗΣ 39.00μ\n12.30 ΣΦΑΙΡΑ ΔΕΚΑΘΛΟΥ 3  \n17.30 ΣΦΥΡΟΒΟΛΙΑ ΑΝΔΡΩΝ ΤΕΛΙΚΟΣ\n18.00 ΥΨΟΣ ΓΥΝΑΙΚΩΝ ΤΕΛΙΚΟΣ\n18.15 400μ ΓΥΝΑΙΚΩΝ ΤΕΛΙΚΟΣ\n18.30 ΣΦΑΙΡΟΒΟΛΙΑ ΑΝΔΡΩΝ ΤΕΛΙΚΟΣ\n18.30 ΕΠΙ ΚΟΝΤΩ ΑΝΔΡΩΝ ΤΕΛΙΚΟΣ\n18.30 ΤΡΙΠΛΟΥΝ ΑΝΔΡΩΝ ΤΕΛΙΚΟΣ\n18.30 400μ ΑΝΔΡΩΝ ΤΕΛΙΚΟΣ\n18.45 1500μ ΓΥΝΑΙΚΩΝ ΤΕΛΙΚΕΣ ΣΕΙΡΕΣ\n19.00 1500μ ΑΝΔΡΩΝ ΤΕΛΙΚΕΣ ΣΕΙΡΕΣ\n19.15 ΔΙΣΚΟΒΟΛΙΑ ΓΥΝΑΙΚΩΝ ΤΕΛΙΚΟΣ\n19.15 3000 μ Φ.Ε ΓΥΝΑΙΚΩΝ ΤΕΛΙΚΟΣ\n19.35 3000 μ Φ.Ε ΑΝΔΡΩΝ ΤΕΛΙΚΟΣ\n19.40 ΥΨΟΣ ΔΕΚΑΘΛΟΥ 4\n19.40 ΣΦΑΙΡΑ ΕΠΤΑΘΛΟΥ 3\n20.00 ΤΡΙΠΛΟΥΝ ΓΥΝΑΙΚΩΝ ΤΕΛΙΚΟΣ\n20.00 100μ ΕΜΠ ΓΥΝΑΙΚΩΝ ΤΕΛΙΚΟΣ\n20.15 110μ ΕΜΠ ΑΝΔΡΩΝ ΤΕΛΙΚΟΣ\n20.30 100μ ΓΥΝΑΙΚΩΝ ΤΕΛΙΚΟΣ\n20.35 ΑΚΟΝΤΙΣΜΟΣ ΓΥΝΑΙΚΩΝ ΤΕΛΙΚΟΣ\n20.45 100μ ΑΝΔΡΩΝ ΤΕΛΙΚΟΣ\n21.00 5000μ ΓΥΝΑΙΚΩΝ ΤΕΛΙΚΟΣ\n21.25 5000μ ANΔΡΩΝ ΤΕΛΙΚΟΣ\n21.45 200μ ΕΠΤΑΘΛΟΥ 4\n22.00 400μ ΔΕΚΑΘΛΟΥ 5 \n22.10 4Χ100μ ΓΥΝΑΙΚΩΝ ΤΕΛΙΚΕΣ ΣΕΙΡΕΣ\n22.25 4Χ100μ ΑΝΔΡΩΝ ΤΕΛΙΚΕΣ ΣΕΙΡΕΣ \nΒ΄ ΗΜΕΡΑ – ΚΥΡΙΑΚΗ 4 ΙΟΥΛΙΟΥ 2021 \n09.00 110μ ΕΜΠ ΔΕΚΑΘΛΟΥ 6 \n09.00 ΜΗΚΟΣ ΕΠΤΑΘΛΟΥ 5 \n09.00 ΕΠΙ ΚΟΝΤΩ ΓΥΝΑΙΚΩΝ ΑΓΩΝΑΣ ΕΠΙΛΟΓΗΣ 3.50μ.\n09.00 ΑΚΟΝΤΙΣΜΟΣ ΑΝΔΡΩΝ ΑΓΩΝΑΣ ΕΠΙΛΟΓΗΣ 54.00μ.\n09.30 400μ ΕΜΠ ΓΥΝΑΙΚΩΝ ΠΡΟΚΡΙΜΑΤΙΚΟΣ\n09.50 ΔΙΣΚΟΣ ΔΕΚΑΘΛΟΥ 7 \n10.00 800μ ΓΥΝΑΙΚΩΝ ΠΡΟΚΡΙΜΑΤΙΚΟΣ\n10.00 ΜΗΚΟΣ ΓΥΝΑΙΚΩΝ ΑΓΩΝΑΣ ΕΠΙΛΟΓΗΣ 5.80μ\n10.15 800μ ΑΝΔΡΩΝ ΠΡΟΚΡΙΜΑΤΙΚΟΣ\n10.30 ΣΦΑΙΡΟΒΟΛΙΑ ΓΥΝΑΙΚΩΝ ΑΓΩΝΑΣ ΕΠΙΛΟΓΗΣ 11.50μ\n10.30 ΑΚΟΝΤΙΟ ΕΠΤΑΘΛΟΥ 6 \n10.30 200μ ΓΥΝΑΙΚΩΝ ΠΡΟΚΡΙΜΑΤΙΚΟΣ\n11.00 200μ ΑΝΔΡΩΝ ΠΡΟΚΡΙΜΑΤΙΚΟΣ\n11.00 ΕΠΙ ΚΟΝΤΩ ΔΕΚΑΘΛΟΥ 8 \n11.10 ΔΙΣΚΟΒΟΛΙΑ ΑΝΔΡΩΝ ΑΓΩΝΑΣ ΕΠΙΛΟΓΗΣ 45.00μ\n11.15 ΜΗΚΟΣ ΑΝΔΡΩΝ ΑΓΩΝΑΣ ΕΠΙΛΟΓΗΣ 6.95μ \n17.00 ΣΦΥΡΟΒΟΛΙΑ ΓΥΝΑΙΚΩΝ ΤΕΛΙΚΟΣ\n18.00 ΥΨΟΣ ΑΝΔΡΩΝ ΤΕΛΙΚΟΣ\n18.00 ΜΗΚΟΣ ΓΥΝΑΙΚΩΝ ΤΕΛΙΚΟΣ\n18.00 400μ ΕΜΠ. ΓΥΝΑΙΚΩΝ ΤΕΛΙΚΟΣ\n18.15 400μ ΕΜΠ ΑΝΔΡΩΝ ΤΕΛΙΚΟΣ\n18.20 ΑΚΟΝΤΙΟ ΔΕΚΑΘΛΟΥ 9\n18.25 ΔΙΣΚΟΒΟΛΙΑ ΑΝΔΡΩΝ ΤΕΛΙΚΟΣ\n18.30 ΕΠΙ ΚΟΝΤΩ ΓΥΝΑΙΚΩΝ ΤΕΛΙΚΟΣ\n18.30 ΣΦΑΙΡΟΒΟΛΙΑ ΓΥΝΑΙΚΩΝ ΤΕΛΙΚΟΣ\n18.30 800μ ΕΠΤΑΘΛΟΥ 7 \n18.45 800μ ΓΥΝΑΙΚΩΝ ΤΕΛΙΚΟΣ\n19.00 800μ ΑΝΔΡΩΝ ΤΕΛΙΚΟΣ\n19.20 200μ ΓΥΝΑΙΚΩΝ ΤΕΛΙΚΟΣ\n19.40 200μ ΑΝΔΡΩΝ ΤΕΛΙΚΟΣ\n19.40 ΜΗΚΟΣ ΑΝΔΡΩΝ ΤΕΛΙΚΟΣ\n19.45 ΑΚΟΝΤΙΣΜΟΣ ΑΝΔΡΩΝ ΤΕΛΙΚΟΣ\n20.00 3000μ ΓΥΝΑΙΚΩΝ ΤΕΛΙΚΟΣ\n20.20 3000μ ΑΝΔΡΩΝ ΤΕΛΙΚΟΣ\n20.40 1500 ΔΕΚΑΘΛΟΥ 10\n20.45 4Χ400 μ ΓΥΝΑΙΚΩΝ ΤΕΛΙΚΕΣ ΣΕΙΡΕΣ\n21.00 4Χ400 μ ΑΝΔΡΩΝ ΤΕΛΙΚΕΣ ΣΕΙΡΕΣ \nΣτα αγωνίσματα που διεξάγονται σε διάδρομο\, θα είναι 32 αθλητές.\nΣτα υπόλοιπα αγωνίσματα\, 24 αθλητές.\nΕλεύθερη συμμετοχή σε σύνθετα και σκυταλοδρομίες. \nΟι δηλώσεις συμμετοχής θα πρέπει να αποσταλούν ΜΕΤΑ από την ανακοίνωση της κατάταξης των αθλητών ανά αγώνισμα με email μέχρι και τη ΔΕΥΤΕΡΑ 28 ΙΟΥΝΙΟΥ 2021 και ώρα 14:00 στον Σ.Ε.Γ.Α.Σ. στην ηλεκτρονική διεύθυνση  development@segas.gr  καθώς και στις κατά τόπους Ε.Α.Σ. Σ.Ε.Γ.Α.Σ. \n 
URL:https://www.stivoz.gr/event/panellinio-u20-2021/
CATEGORIES:Ημερολόγιο αγώνων
END:VEVENT
END:VCALENDAR