BEGIN:VCALENDAR
VERSION:2.0
PRODID:-//StivoZ.gr - ECPv5.16.4//NONSGML v1.0//EN
CALSCALE:GREGORIAN
METHOD:PUBLISH
X-WR-CALNAME:StivoZ.gr
X-ORIGINAL-URL:https://www.stivoz.gr
X-WR-CALDESC:StivoZ.gr - Εκδηλώσεις
BEGIN:VTIMEZONE
TZID:Europe/Athens
BEGIN:DAYLIGHT
TZOFFSETFROM:+0200
TZOFFSETTO:+0300
TZNAME:EEST
DTSTART:20180325T010000
END:DAYLIGHT
BEGIN:STANDARD
TZOFFSETFROM:+0300
TZOFFSETTO:+0200
TZNAME:EET
DTSTART:20181028T010000
END:STANDARD
END:VTIMEZONE
BEGIN:VEVENT
DTSTART;VALUE=DATE:20180616
DTEND;VALUE=DATE:20180618
DTSTAMP:20260422T035836
CREATED:20180427T105501Z
LAST-MODIFIED:20190621T190952Z
UID:29347-1529107200-1529279999@www.stivoz.gr
SUMMARY:Πανελ.πρωτ. Ε/Ν (Τρίκαλα)
DESCRIPTION:Σχετικά θέματα:\n– www.stivoz.com/content.php?6744-Trikala-Rekor-o-Mouzenidis-Wraies-kourses-se-100m-kai-1500m\n– www.stivoz.com/content.php?6745-Trikala-4-oria-ti-B-imera-Double-Karydi-Spyroy-SAKA-kai-GS-Kifisias-prwtoi-syllogoi\n– www.stivoz.com/forum/showthread.php?17777 (αποτελέσματα) \n-> Όρια πανελ.πρωταθλημάτων\n-> Όρια παγκοσμίου Ε/Ν \nΣυμμετοχές:\n– Έφηβοι\n– Νεάνιδες\n– χωρίς δικαίωμα \nΟι εκπρόσωποι των Συλλόγων θα μπορούν να παραλαμβάνουν τους φακέλλους με τους αριθμούς συμμετοχής των αθλητριών και αθλητών τους που πρόκειται να αγωνιστούν στο πρωτάθλημα\, το Σάββατο από τις 13:00 στο Στάδιο των Τρικάλων \nΛόγω τροποποίησης των εξετάσεων στα ΕΠΑΛ ο ΣΕΓΑΣ προχωρησε σε αλλαγές:\nΤην Α’ ημέρα θα γίνει μόνο απογευματινό πρόγραμμα με προκριματικά μόνο στα 100μ. Δεν θα υπάρξουν συμμετοχές χωρίς όριο στα αγωνίσματα της Α’ ημέρας. Το βάδην θα γίνει τη Β’ ημέρα στις 8πμ και οι τελικοί της Β’ ημέρας από τις 5μμ ως τις 7.20μμ ώστε να είναι δυνατή η επιστροφή νωρίτερα \nΟ ΣΕΓΑΣ θα μεταδώσει σε ζωντανή σύνδεση μέσω της ιστοσελίδας της Ομοσπονδίας το πρωτάθλημα σύμφωνα με το ωρολόγιο πρόγραμμα \nΠρόγραμμα: \nΣΑΒΒΑΤΟ 16 / 6 / 2018 \n16.00 ΣΦΥΡΟΒΟΛΙΑ ΕΦΗΒΩΝ ΤΕΛΙΚΟΣ – Βοηθητικό\n16.00 100 ΝΕΑΝΙΔΩΝ ΠΡΟΚΡΙΜΑΤΙΚΟΣ\n16.35 100 ΕΦΗΒΩΝ ΠΡΟΚΡΙΜΑΤΙΚΟΣ\n17.00 ΕΠΙ ΚΟΝΤΩ ΕΦΗΒΩΝ ΤΕΛΙΚΟΣ\n17.15 100 μ ΕΜΠ. ΝΕΑΝΙΔΩΝ ΤΕΛΙΚΕΣ ΣΕΙΡΕΣ\n17.35 110 μ ΕΜΠ ΕΦΗΒΩΝ ΤΕΛΙΚΕΣ ΣΕΙΡΕΣ\n17.45 (νέα ώρα) ΤΡΙΠΛΟΥΝ ΝΕΑΝΙΔΩΝ ΤΕΛΙΚΟΣ\n17.55 400 ΝΕΑΝΙΔΩΝ ΤΕΛΙΚΕΣ ΣΕΙΡΕΣ\n18.00 ΔΙΣΚΟΒΟΛΙΑ ΝΕΑΝΙΔΩΝ ΤΕΛΙΚΟΣ – Βοηθητικό\n18.25 400 μ ΕΦΗΒΩΝ ΤΕΛΙΚΟΣ\n19.00 100 ΝΕΑΝΙΔΩΝ ΤΕΛΙΚΕΣ ΣΕΙΡΕΣ\n19.15 100 ΕΦΗΒΩΝ ΤΕΛΙΚΕΣ ΣΕΙΡΕΣ\n19.30 ΥΨΟΣ ΝΕΑΝΙΔΩΝ ΤΕΛΙΚΟΣ\n19.30 1.500 ΝΕΑΝΙΔΩΝ ΤΕΛΙΚΕΣ ΣΕΙΡΕΣ\n19.50 1.500 ΝΕΑΝΙΔΩΝ ΤΕΛΙΚΕΣ ΣΕΙΡΕΣ\n19.50 ΣΦΑΙΡΑ ΕΦΗΒΩΝ ΤΕΛΙΚΟΣ\n20.00 ΤΡΙΠΛΟΥΝ ΕΦΗΒΩΝ ΤΕΛΙΚΟΣ\n20.00 ΑΚΟΝΤΙΣΜΟΣ ΝΕΑΝΙΔΩΝ ΤΕΛΙΚΟΣ\n20.10 3.000 Φ.Ε. ΝΕΑΝΙΔΩΝ ΤΕΛΙΚΟΣ\n20.30 3.000 Φ.Ε. ΕΦΗΒΩΝ ΤΕΛΙΚΟΣ\n20.50 5.000 ΝΕΑΝΙΔΩΝ ΤΕΛΙΚΟΣ\n21.20 4 Χ 100 ΝΕΑΝΙΔΩΝ ΤΕΛΙΚΕΣ ΣΕΙΡΕΣ\n21.40 4 Χ 100 ΕΦΗΒΩΝ ΤΕΛΙΚΕΣ ΣΕΙΡΕΣ \nΚΥΡΙΑΚΗ 17 / 6 / 2018 \n08.00 10.000 μ ΒΑΔΗΝ ΝΕΑΝΙΔΩΝ ΤΕΛΙΚΟΣ\n08.05 10.000 μ ΒΑΔΗΝ ΕΦΗΒΩΝ ΤΕΛΙΚΟΣ\n 08.30 ΣΦΥΡΟΒΟΛΙΑ ΝΕΑΝΙΔΩΝ ΑΓΩΝΑΣ ΕΠΙΛΟΓΗΣ 43.00 μ. – Βοηθητικό [δεν θα γίνει προκριματικός]\n09.00 ΕΠΙ ΚΟΝΤΩ ΝΕΑΝΙΔΩΝ ΑΓΩΝΑΣ ΕΠΙΛΟΓΗΣ 3.40μ. [δεν θα γίνει προκριματικός]\n09.00 ΜΗΚΟΣ ΝΕΑΝΙΔΩΝ ΑΓΩΝΑΣ ΕΠΙΛΟΓΗΣ 5.60 μ.\n09.00 ΑΚΟΝΤΙΣΜΟΣ ΕΦΗΒΩΝ ΑΓΩΝΑΣ ΕΠΙΛΟΓΗΣ 53.00 μ.\n09.00 400 μ ΕΜΠ. ΝΕΑΝΙΔΩΝ ΠΡΟΚΡΙΜΑΤΙΚΟΣ\n09.20 400 μ ΕΜΠ ΕΦΗΒΩΝ ΠΡΟΚΡΙΜΑΤΙΚΟΣ\n09.30 ΥΨΟΣ ΕΦΗΒΩΝ ΑΓΩΝΑΣ ΕΠΙΛΟΓΗΣ 1.90 μ.\n09.40 800 μ ΝΕΑΝΙΔΩΝ ΠΡΟΚΡΙΜΑΤΙΚΟΣ\n09.55 800 μ ΕΦΗΒΩΝ ΠΡΟΚΡΙΜΑΤΙΚΟΣ\n10.00 ΣΦΑΙΡΟΒΟΛΙΑ ΝΕΑΝΙΔΩΝ ΑΓΩΝΑΣ ΕΠΙΛΟΓΗΣ 11.20 μ.\n10.20 200 μ ΝΕΑΝΙΔΩΝ ΠΡΟΚΡΙΜΑΤΙΚΟΣ\n10.30 ΜΗΚΟΣ ΕΦΗΒΩΝ ΑΓΩΝΑΣ ΕΠΙΛΟΓΗΣ 6.70 μ.\n10.30 ΔΙΣΚΟΒΟΛΙΑ ΕΦΗΒΩΝ ΑΓΩΝΑΣ ΕΠΙΛΟΓΗΣ 44.00 μ. – Βοηθητικό\n10.50 200 μ ΕΦΗΒΩΝ ΠΡΟΚΡΙΜΑΤΙΚΟΣ \n17.00 ΣΦΥΡΟΒΟΛΙΑ ΝΕΑΝΙΔΩΝ ΤΕΛΙΚΟΣ – Βοηθητικό\n17.00 ΕΠΙ ΚΟΝΤΩ ΝΕΑΝΙΔΩΝ ΤΕΛΙΚΟΣ\n17.00 ΜΗΚΟΣ ΝΕΑΝΙΔΩΝ ΤΕΛΙΚΟΣ\n17.00 ΑΚΟΝΤΙΣΜΟΣ ΕΦΗΒΩΝ ΤΕΛΙΚΟΣ\n17.00 400 μ ΕΜΠ. ΝΕΑΝΙΔΩΝ ΤΕΛΙΚΟΣ\n17.15 400 μ ΕΜΠ ΕΦΗΒΩΝ ΤΕΛΙΚΟΣ\n17.30 800 μ ΝΕΑΝΙΔΩΝ ΤΕΛΙΚΟΣ\n17.40 800 μ ΕΦΗΒΩΝ ΤΕΛΙΚΟΣ\n17.45 ΣΦΑΙΡΟΒΟΛΙΑ ΝΕΑΝΙΔΩΝ ΤΕΛΙΚΟΣ\n17.55 200 μ ΝΕΑΝΙΔΩΝ ΤΕΛΙΚΟΣ\n18.00 ΥΨΟΣ ΕΦΗΒΩΝ ΤΕΛΙΚΟΣ\n18.05 200 μ ΕΦΗΒΩΝ ΤΕΛΙΚΟΣ\n18.20 3.000 μ ΝΕΑΝΙΔΩΝ ΤΕΛΙΚΟΣ\n18.30 ΜΗΚΟΣ ΕΦΗΒΩΝ ΤΕΛΙΚΟΣ\n18.30 ΔΙΣΚΟΒΟΛΙΑ ΕΦΗΒΩΝ ΤΕΛΙΚΟΣ – Βοηθητικό\n18.40 5.000 μ ΕΦΗΒΩΝ ΤΕΛΙΚΟΣ\n19.05 4Χ400 μ ΝΕΑΝΙΔΩΝ ΤΕΛΙΚΕΣ ΣΕΙΡΕΣ\n19.20 4Χ400 μ ΕΦΗΒΩΝ ΤΕΛΙΚΕΣ ΣΕΙΡΕΣ. \nΕιδικά στις σκυταλοδρομίες 4Χ100μ. και 4Χ400μ. Εφήβων – Νεανίδων\, στα 110 Εμπόδια Εφήβων\, στα 3.000μ. και στα 3.000μ. Φ.Ε. Νεανίδων\, θα δίνεται επιπλέον η δυνατότητα να συμμετέχει ένας συγκεκριμένος αριθμός ομάδων και αθλητών – αθλητριών αντίστοιχα\, ώστε να εξασφαλιστεί η σωστή διεξαγωγή των αγωνισμάτων \nΟι δηλώσεις συμμετοχής πρέπει να σταλούν με email μέχρι την Παρασκευή 08 Ιουνίου 2018 και ώρα 15:00\nστον Σ.Ε.Γ.Α.Σ. στην ηλεκτρονική διεύθυνση development@segas.gr καθώς και στις κατά τόπου Ε.Α.Σ. Σ.Ε.Γ.Α.Σ.\nΣημείωση: σε περίπτωση προβλήματος θα πρέπει να επικοινωνήσετε με την κ. Μαίρη Παναγιωτάκη\, στο τηλέφωνο 211 1877732
URL:https://www.stivoz.gr/event/panellinio-u20-2018/
CATEGORIES:Ημερολόγιο αγώνων
END:VEVENT
END:VCALENDAR