BEGIN:VCALENDAR
VERSION:2.0
PRODID:-//StivoZ.gr - ECPv5.16.4//NONSGML v1.0//EN
CALSCALE:GREGORIAN
METHOD:PUBLISH
X-WR-CALNAME:StivoZ.gr
X-ORIGINAL-URL:https://www.stivoz.gr
X-WR-CALDESC:StivoZ.gr - Εκδηλώσεις
BEGIN:VTIMEZONE
TZID:Europe/Athens
BEGIN:DAYLIGHT
TZOFFSETFROM:+0200
TZOFFSETTO:+0300
TZNAME:EEST
DTSTART:20150329T010000
END:DAYLIGHT
BEGIN:STANDARD
TZOFFSETFROM:+0300
TZOFFSETTO:+0200
TZNAME:EET
DTSTART:20151025T010000
END:STANDARD
END:VTIMEZONE
BEGIN:VEVENT
DTSTART;VALUE=DATE:20150627
DTEND;VALUE=DATE:20150629
DTSTAMP:20260419T182055
CREATED:20141220T210913Z
LAST-MODIFIED:20181218T093438Z
UID:28944-1435395600-1435525200@www.stivoz.gr
SUMMARY:Πανελλήνιο πρωτ. Ε/Ν (Σέρρες)
DESCRIPTION:-> Όρια πρόκρισης & βαθμολόγησης\n-> Όρια/επιτεύξεις Ευρωπαικού \nΣχετικά θέματα:\n– www.stivoz.com/content.php?5030-Kai-Neoi-gia-orio-sto-panellinio-E-N\n– www.stivoz.com/content.php?5033-to-vlemma-stis-serres-oi-symmetoxes (Συμμετοχές)\n– www.stivoz.com/content.php?5038-Atomika-rekor-kai-oria-tin-A-hmera-stis-Serres\n– www.stivoz.com/content.php?5043-Neo-rekor-paidwn-o-Tentoglou-3-oria-mikrwn-kai-Skarveli-sto-E-N \n-> www.stivoz.com/forum/showthread.php?14011 (αποτελέσματα) \nΠρόγραμμα \nΣΑΒΒΑΤΟ  27 / 6 / 15 \n08.30	ΤΡΙΠΛΟΥΝ	ΕΦΗΒΩΝ	ΑΓΩΝΑΣ ΕΠΙΛΟΓΗΣ 14.00 μ.\n08.30	ΣΦΥΡΟΒΟΛΙΑ	ΕΦΗΒΩΝ	ΑΓΩΝΑΣ ΕΠΙΛΟΓΗΣ	53.00 μ.\n09.00	110 μ ΕΜΠ.	ΕΦΗΒΩΝ	ΠΡΟΚΡΙΜΑΤΙΚΟΣ\n09.00	ΥΨΟΣ	ΝΕΑΝΙΔΩΝ	ΑΓΩΝΑΣ ΕΠΙΛΟΓΗΣ	1.65 μ.\n09.00	ΔΙΣΚΟΒΟΛΙΑ	ΝΕΑΝΙΔΩΝ	ΑΓΩΝΑΣ ΕΠΙΛΟΓΗΣ	35.00 μ. Βοηθητικό\n09.20	100 μ ΕΜΠ.	ΝΕΑΝΙΔΩΝ	ΠΡΟΚΡΙΜΑΤΙΚΟΣ\n09.30	100μΕΜΠ. ΕΠΤΑΘΛΟΥ	ΝΕΑΝΙΔΩΝ		\n09.30	ΕΠΙ ΚΟΝΤΩ	ΕΦΗΒΩΝ	ΑΓΩΝΑΣ ΕΠΙΛΟΓΗΣ 4.20 μ.\n09.45	100μ. ΔΕΚΑΘΛΟΥ	ΕΦΗΒΩΝ		\n10.00	100 μ	ΝΕΑΝΙΔΩΝ	ΠΡΟΚΡΙΜΑΤΙΚΟΣ\n10.15	ΜΗΚΟΣ ΔΕΚΑΘΛΟΥ	ΕΦΗΒΩΝ		\n10.20	100 μ	ΕΦΗΒΩΝ	ΠΡΟΚΡΙΜΑΤΙΚΟΣ\n10.20	ΥΨΟΣ ΕΠΤΑΘΛΟΥ	ΝΕΑΝΙΔΩΝ		\n10.30	ΣΦΑΙΡΟΒΟΛΙΑ	ΕΦΗΒΩΝ	ΑΓΩΝΑΣ ΕΠΙΛΟΓΗΣ	14.70 μ\n10.30	ΑΚΟΝΤΙΣΜΟΣ	ΝΕΑΝΙΔΩΝ	ΑΓΩΝΑΣ ΕΠΙΛΟΓΗΣ 39.00 μ\n10.45	400 μ	ΝΕΑΝΙΔΩΝ	ΠΡΟΚΡΙΜΑΤΙΚΟΣ\n11.00	ΤΡΙΠΛΟΥΝ	ΝΕΑΝΙΔΩΝ	ΑΓΩΝΑΣ ΕΠΙΛΟΓΗΣ	11.40 μ.\n11.00	ΣΦΑΙΡΑ ΔΕΚΑΘΛΟΥ	ΕΦΗΒΩΝ		Βοηθητικό\n11.05	400 μ	ΕΦΗΒΩΝ	ΠΡΟΚΡΙΜΑΤΙΚΟΣ	 \n16.45	ΣΦΥΡΟΒΟΛΙΑ	ΕΦΗΒΩΝ	ΤΕΛΙΚΟΣ\n17.00	ΥΨΟΣ ΔΕΚΑΘΛΟΥ	ΕΦΗΒΩΝ		\n17.30	ΤΕΛΕΤΗ 	ΕΝΑΡΞΗΣ\n17.45	100 μ ΕΜΠ.	ΝΕΑΝΙΔΩΝ	ΤΕΛΙΚΟΣ\n17.45	ΣΦΑΙΡΑ ΕΠΤΑΘΛΟΥ	ΝΕΑΝΙΔΩΝ		\n18.00	110 μ ΕΜΠ	ΕΦΗΒΩΝ	ΤΕΛΙΚΟΣ\n18.15	100 μ	ΝΕΑΝΙΔΩΝ	ΤΕΛΙΚΟΣ\n18.15	ΤΡΙΠΛΟΥΝ	ΕΦΗΒΩΝ	ΤΕΛΙΚΟΣ\n18.30	100 μ	ΕΦΗΒΩΝ	ΤΕΛΙΚΟΣ\n18.30	ΔΙΣΚΟΒΟΛΙΑ	ΝΕΑΝΙΔΩΝ	ΤΕΛΙΚΟΣ\n18.45	400 μ	ΝΕΑΝΙΔΩΝ	ΤΕΛΙΚΟΣ\n19.00	400 μ	ΕΦΗΒΩΝ	ΤΕΛΙΚΟΣ\n19.00	ΥΨΟΣ	ΝΕΑΝΙΔΩΝ	ΤΕΛΙΚΟΣ\n19.00	ΕΠΙ ΚΟΝΤΩ	ΕΦΗΒΩΝ	ΤΕΛΙΚΟΣ\n19.15	1.500 μ	ΝΕΑΝΙΔΩΝ	ΤΕΛΙΚΕΣ  ΣΕΙΡΕΣ\n19.25	1.500 μ	        ΕΦΗΒΩΝ	ΤΕΛΙΚΕΣ  ΣΕΙΡΕΣ\n19.35	400 μ ΔΕΚΑΘΛΟΥ	ΕΦΗΒΩΝ		\n19.45	200 μ ΕΠΤΑΘΛΟΥ	ΝΕΑΝΙΔΩΝ	\n19.50	ΤΡΙΠΛΟΥΝ	ΝΕΑΝΙΔΩΝ	ΤΕΛΙΚΟΣ\n20.00	3.000 μ  Φ.Ε.	ΝΕΑΝΙΔΩΝ	ΤΕΛΙΚΟΣ\n20.00	ΣΦΑΙΡΟΒΟΛΙΑ 	ΕΦΗΒΩΝ	ΤΕΛΙΚΟΣ	ΡIΨΕΩΝ\n20.00	ΑΚΟΝΤΙΣΜΟΣ	ΝΕΑΝΙΔΩΝ	ΤΕΛΙΚΟΣ\n20.20	3.000 μ  Φ.Ε.	ΕΦΗΒΩΝ	ΤΕΛΙΚΟΣ\n20.35	5.000	ΝΕΑΝΙΔΩΝ	ΤΕΛΙΚΟΣ\n21.05	4Χ100 μ	ΝΕΑΝΙΔΩΝ	ΤΕΛΙΚΕΣ  ΣΕΙΡΕΣ\n21.20	4Χ100 μ	ΕΦΗΒΩΝ	ΤΕΛΙΚΕΣ  ΣΕΙΡΕΣ\n21.45	10.000 μΒΑΔΗΝ	ΕΦΗΒΩΝ ΝΕΑΝΙΔΩΝ	ΤΕΛΙΚΟΣ	 \nΚΥΡΙΑΚΗ  28  / 6 / 15 \n08.30	110 μ ΕΜΠ ΔΕΚΑΘΛΟΥ	ΕΦΗΒΩΝ		\n08.30	ΜΗΚΟΣ ΕΠΤΑΘΛΟΥ	ΝΕΑΝΙΔΩΝ		\n08.30	ΔΙΣΚΟΒΟΛΙΑ	ΕΦΗΒΩΝ	ΑΓΩΝΑΣ ΕΠΙΛΟΓΗΣ	44.00 μ.Βοηθητικό\n08.30	ΣΦΥΡΟΒΟΛΙΑ	ΝΕΑΝΙΔΩΝ	ΑΓΩΝΑΣ ΕΠΙΛΟΓΗΣ	42.00 μ.\n09.00	400 μ ΕΜΠ.	ΝΕΑΝΙΔΩΝ	ΠΡΟΚΡΙΜΑΤΙΚΟΣ\n09.00	ΥΨΟΣ	ΕΦΗΒΩΝ	ΑΓΩΝΑΣ ΕΠΙΛΟΓΗΣ	1.95 μ.\n09.00	ΕΠΙ ΚΟΝΤΩ	ΝΕΑΝΙΔΩΝ	ΑΓΩΝΑΣ ΕΠΙΛΟΓΗΣ	3.30μ.\n09.20	400 μ ΕΜΠ	ΕΦΗΒΩΝ	ΠΡΟΚΡΙΜΑΤΙΚΟΣ\n09.30	ΜΗΚΟΣ	ΝΕΑΝΙΔΩΝ	ΑΓΩΝΑΣ ΕΠΙΛΟΓΗΣ 5.50 μ.\n09.30	ΔΙΣΚΟΣ ΔΕΚΑΘΛΟΥ	ΕΦΗΒΩΝ		\n09.40	800 μ	ΝΕΑΝΙΔΩΝ	ΠΡΟΚΡΙΜΑΤΙΚΟΣ\n09.55	800 μ	ΕΦΗΒΩΝ	ΠΡΟΚΡΙΜΑΤΙΚΟΣ\n10.15	ΣΦΑΙΡΟΒΟΛΙΑ	ΝΕΑΝΙΔΩΝ	ΑΓΩΝΑΣ ΕΠΙΛΟΓΗΣ	11.30 μ.\n10.15	ΑΚΟΝΤΙΟ ΕΠΤΑΘΛΟΥ	ΝΕΑΝΙΔΩΝ		\n10.20	200 μ	ΝΕΑΝΙΔΩΝ ΠΡΟΚΡΙΜΑΤΙΚΟΣ\n10.50	ΜΗΚΟΣ	ΕΦΗΒΩΝ	ΑΓΩΝΑΣ ΕΠΙΛΟΓΗΣ 6.80 μ.\n10.50	200 μ	ΕΦΗΒΩΝ	ΠΡΟΚΡΙΜΑΤΙΚΟΣ\n10.50	ΕΠΙ ΚΟΝΤΩ ΔΕΚΑΘΛΟΥ	ΕΦΗΒΩΝ		\n11.15	ΑΚΟΝΤΙΣΜΟΣ	ΕΦΗΒΩΝ	ΑΓΩΝΑΣ ΕΠΙΛΟΓΗΣ	54.00 μ. \n16.45	ΣΦΥΡΟΒΟΛΙΑ	ΝΕΑΝΙΔΩΝ	ΤΕΛΙΚΟΣ\n17.45	400 μ ΕΜΠ.	ΝΕΑΝΙΔΩΝ	ΤΕΛΙΚΟΣ\n18.00	400 μ ΕΜΠ	ΕΦΗΒΩΝ	ΤΕΛΙΚΟΣ\n18.00	ΜΗΚΟΣ	ΝΕΑΝΙΔΩΝ	ΤΕΛΙΚΟΣ\n18.00	ΑΚΟΝΤΙΟ ΔΕΚΑΘΛΟΥ	ΕΦΗΒΩΝ		\n18.15	ΥΨΟΣ 	ΕΦΗΒΩΝ	ΤΕΛΙΚΟΣ\n18.15	ΕΠΙ ΚΟΝΤΩ	ΝΕΑΝΙΔΩΝ	ΤΕΛΙΚΟΣ\n18.15	800 μ   ΕΠΤΑΘΛΟΥ	ΝΕΑΝΙΔΩΝ		\n18.30	800 μ	ΝΕΑΝΙΔΩΝ	ΤΕΛΙΚΟΣ\n18.30	ΔΙΣΚΟΒΟΛΙΑ	ΕΦΗΒΩΝ	ΤΕΛΙΚΟΣ\n18.40	800 μ	ΕΦΗΒΩΝ ΤΕΛΙΚΟΣ\n18.55	200 μ	ΝΕΑΝΙΔΩΝ	ΤΕΛΙΚΟΣ\n19.05	200 μ	ΕΦΗΒΩΝ	ΤΕΛΙΚΟΣ\n19.20	3.000 μ	ΝΕΑΝΙΔΩΝ	ΤΕΛΙΚΟΣ\n19.30	ΜΗΚΟΣ	ΕΦΗΒΩΝ	ΤΕΛΙΚΟΣ\n19.30	ΣΦΑΙΡΟΒΟΛΙΑ	ΝΕΑΝΙΔΩΝ	ΤΕΛΙΚΟΣ\n19.40	1.500 ΔΕΚΑΘΛΟΥ	ΕΦΗΒΩΝ		\n19.50	5.000 μ	ΕΦΗΒΩΝ	ΤΕΛΙΚΟΣ\n20.00	ΑΚΟΝΤΙΣΜΟΣ	ΕΦΗΒΩΝ	ΤΕΛΙΚΟΣ\n20.15	4Χ400 μ	ΝΕΑΝΙΔΩΝ	ΤΕΛΙΚΕΣ  ΣΕΙΡΕΣ\n20.30	4Χ400 μ	ΕΦΗΒΩΝ	ΤΕΛΙΚΕΣ  ΣΕΙΡΕΣ	 \nΟι δηλώσεις συμμετοχής πρέπει να σταλούν με e-mail το αργότερο μέχρι τη Δευτέρα  22 Ιουνίου 2015 στο Σ.Ε.Γ.Α.Σ.\nστην ηλεκτρονική διεύθυνση: development@segas.gr  καθώς και στις κατά τόπου Ε.Α.Σ. Σ.Ε.Γ.Α.Σ.
URL:https://www.stivoz.gr/event/panellinio-u20-2015/
CATEGORIES:Ημερολόγιο αγώνων
END:VEVENT
END:VCALENDAR