BEGIN:VCALENDAR
VERSION:2.0
PRODID:-//StivoZ.gr - ECPv5.16.4//NONSGML v1.0//EN
CALSCALE:GREGORIAN
METHOD:PUBLISH
X-WR-CALNAME:StivoZ.gr
X-ORIGINAL-URL:https://www.stivoz.gr
X-WR-CALDESC:StivoZ.gr - Εκδηλώσεις
BEGIN:VTIMEZONE
TZID:Europe/Athens
BEGIN:DAYLIGHT
TZOFFSETFROM:+0200
TZOFFSETTO:+0300
TZNAME:EEST
DTSTART:20130331T010000
END:DAYLIGHT
BEGIN:STANDARD
TZOFFSETFROM:+0300
TZOFFSETTO:+0200
TZNAME:EET
DTSTART:20131027T010000
END:STANDARD
END:VTIMEZONE
BEGIN:VEVENT
DTSTART;VALUE=DATE:20130629
DTEND;VALUE=DATE:20130701
DTSTAMP:20260421T004014
CREATED:20130111T135941Z
LAST-MODIFIED:20181218T095307Z
UID:28751-1372496400-1372626000@www.stivoz.gr
SUMMARY:Πανελλήνιο Πρωτάθλημα Ε/Ν (Λάρισα)
DESCRIPTION:-> Συμμετοχές\n-> όρια πανευρωπαικού \nΣχετικά θέματα:\n– www.stivoz.com/forum/showthread.php?9247 (Α’ ημέρα)\n– www.stivoz.com/forum/showthread.php?9256 (Β’ ημέρα)\n– www.stivoz.com/forum/showthread.php?9242 (αποτελέσματα) \nΠρόγραμμα \nΣΑΒΒΑΤΟ 29/6 \nπρωί – προκριματικοί \n08.30 Τριπλούν Ε (14\,10μ)\n09.00 Ύψος Ν (1\,65μ)\n09.00 Δίσκος Ν (36\,00μ)\n09.00 Σφύρα Ε (53\,00μ) βοηθητικο\n09.00 110μ εμπ. Ε\n09.20 100μ εμπ. Ν\n09.30 100μ εμπ. 7θλο\n09.30 Επικοντώ Ε (4\,30μ)\n09.45 100μ 10θλο\n10.00 100μ Ν\n10.15 Μήκος 10θλο\n10.20 Ύψος 7θλο\n10.20 100μ Ε\n10.30 Σφαίρα Ε (14\,60μ)\n10.30 Ακόντιο Ν (40\,00μ)\n10.45 400μ Ν\n11.00 Τριπλούν Ν (11\,50μ)\n11.00 Σφαίρα 10θλο\n11.05 400μ Ε \nαπόγευμα – τελικοί \n17.00 Ύψος 10θλο\n17.45 Σφαίρα 7θλο\n18.00 Σφύρα Ε (βοηθητικό)\n18.00 Τελετή έναρξης\n18.15 Τριπλούν Ε\n18.15 100μ εμπ. Ν\n18.30 110μ εμπ. Ε\n18.30 Δίσκος Ν\n18.45 100μ Ν\n19.00 100μ Ε\n19.00 Ύψος Ν\n19.00 Επικοντώ Ε\n19.15 400μ Ν\n19.30 400μ Ε\n19.40 400 μ 10θλο\n19.50 200μ 7θλο\n19.50 Τριπλούν Ν\n20.00 Σφαίρα Ε (βοηθητικό)\n20.00 Ακόντιο Ν\n20.00 1500μ Ν\n20.15 1500μ Ε\n20.30 3χλμ στηπλ Ν\n20.50 3χλμ στηπλ Ε\n21.05 5χλμ Ν\n21.35 4χ100μ Ν\n21.50 4χ100μ Ε \nΚΥΡΙΑΚΗ 30/6 \nπρωί – προκριματικοί \n08.30 110μ εμπ. 10θλο\n08.30 Μήκος 7θλο\n08.30 Σφύρα Ν (44\,00μ) βοηθητικό\n08.30 Δίσκος Ε (43\,50μ)\n09.00 Ύψος Ε (1\,95μ)\n09.00 Επικοντώ Ν (3\,30μ)\n09.00 400μ εμπ. Ν\n09.20 400μ εμπ. Ε\n09.30 Μήκος Ν (5\,50μ)\n09.30 Δίσκος 10θλο\n09.40 800μ Ν\n09.55 800μ Ε\n10.15 Ακόντιο 7θλο\n10.15 Σφαίρα Ν (11\,50μ)\n10.20 200μ Ν\n10.50 200μ Ε\n10.50 Επικοντώ 10θλο\n10.50 Μήκος Ε (6\,80μ)\n11.15 Ακόντιο Ε (55\,00μ) \nαπόγευμα – τελικοί \n17.30 Ακόντιο 10θλο\n17.45 400μ εμπ. Ν\n18.00 400μ εμπ. Ε\n18.00 Σφύρα Ν (βοηθητικό)\n18.00 Μηκος Ν\n18.15 Επικοντώ Ν\n18.15 Ύψος Ε\n18.15 Δίσκος Ε\n18.15 800μ 7θλο\n18.30 800μ Ν\n18.40 800μ Ε\n18.55 200μ Ν\n19.05 200μ Ε\n19.20 3χλμ Ν\n19.30 Μήκος Ε\n19.30 Ακόντιο Ε\n19.30 Σφαίρα Ν\n19.40 1500μ 10θλο\n19.50 5χλμ Ε\n20.15 4χ400μ Ν\n20.30 4χ400μ Ε\n20.45 10χλμ βάδην Ν & Ε
URL:https://www.stivoz.gr/event/panellinio-u20-2013/
CATEGORIES:Ημερολόγιο αγώνων
END:VEVENT
END:VCALENDAR