BEGIN:VCALENDAR
VERSION:2.0
PRODID:-//StivoZ.gr - ECPv5.16.4//NONSGML v1.0//EN
CALSCALE:GREGORIAN
METHOD:PUBLISH
X-WR-CALNAME:StivoZ.gr
X-ORIGINAL-URL:https://www.stivoz.gr
X-WR-CALDESC:StivoZ.gr - Εκδηλώσεις
BEGIN:VTIMEZONE
TZID:Europe/Athens
BEGIN:DAYLIGHT
TZOFFSETFROM:+0200
TZOFFSETTO:+0300
TZNAME:EEST
DTSTART:20250330T010000
END:DAYLIGHT
BEGIN:STANDARD
TZOFFSETFROM:+0300
TZOFFSETTO:+0200
TZNAME:EET
DTSTART:20251026T010000
END:STANDARD
END:VTIMEZONE
BEGIN:VEVENT
DTSTART;VALUE=DATE:20250621
DTEND;VALUE=DATE:20250623
DTSTAMP:20260422T055133
CREATED:20250411T062601Z
LAST-MODIFIED:20250626T073230Z
UID:123678-1750464000-1750636799@www.stivoz.gr
SUMMARY:Πανελ.πρωτ. Κ18 (Πάτρα)
DESCRIPTION:Σχετικά θέματα:\n– www.stivoz.gr/panellinio-u18-2025/ (αποτελέσματα) \n-> Όρια πρωταθλήματος \nΠρόγραμμα (αν\,20/6) \nΣΑΒ. 21/6 \nδεν θα διεξαχθούν προκρ.: Σφύρα Α  \n08.25 110μ. ΕΜΠ. ΑΝΔΡΩΝ προκρ.\n08.45 ΤΡΙΠΛΟΥΝ ΑΝΔΡΩΝ (Α+Β΄ Σκάμμα) προκρ. 13\,50μ.\n08.50 100μ. ΕΜΠ. ΓΥΝΑΙΚΩΝ προκρ.\n09.00 ΔΙΣΚΟΒΟΛΙΑ ΓΥΝΑΙΚΩΝ προκρ. 35\,50μ.\n09.15 ΥΨΟΣ ΓΥΝΑΙΚΩΝ (Α+Β΄ Γκρουπ) προκρ. 1\,65\n09.30 ΕΠΙ ΚΟΝΤΩ ΓΥΝΑΙΚΩΝ (Α΄ Γκρουπ) προκρ. 3\,40μ.\n10.00 ΣΦΑΙΡΟΒΟΛΙΑ ΑΝΔΡΩΝ (Βοηθητικό) προκρ. 14\,00μ.\n10.05 400μ. ΑΝΔΡΩΝ προκρ.\n10.15 ΕΠΙ ΚΟΝΤΩ ΓΥΝΑΙΚΩΝ (Β΄ Γκρουπ) προκρ. 3\,40μ.\n10.35 400μ. ΓΥΝΑΙΚΩΝ προκρ.\n10.30 ΤΡΙΠΛΟΥΝ ΓΥΝΑΙΚΩΝ (Α+Β΄ Σκάμμα) προκρ. 11\,75μ.\n11.25 100μ. ΑΝΔΡΩΝ προκρ.\n11.05 ΑΚΟΝΤΙΣΜΟΣ ΓΥΝΑΙΚΩΝ προκρ. 36\,50μ.\n12.15 100μ. ΓΥΝΑΙΚΩΝ προκρ. \n17.00 ΣΦΥΡΟΒΟΛΙΑ ΑΝΔΡΩΝ (Λαδόπουλου)\n17.45 110μ. ΕΜΠ. ΑΝΔΡΩΝ\n18.00 ΕΠΙ ΚΟΝΤΩ ΓΥΝΑΙΚΩΝ\n18.00 100μ. ΕΜΠ. ΓΥΝΑΙΚΩΝ\n18.00 ΔΙΣΚΟΒΟΛΙΑ ΓΥΝΑΙΚΩΝ\n18.15 ΤΡΙΠΛΟΥΝ ΑΝΔΡΩΝ\n18.20 100μ. ΑΝΔΡΩΝ\n18.40 100μ. ΓΥΝΑΙΚΩΝ\n19.00 400μ. ΑΝΔΡΩΝ\n19.20 400μ. ΓΥΝΑΙΚΩΝ\n19.20 ΣΦΑΙΡΟΒΟΛΙΑ ΑΝΔΡΩΝ\n20.00 1500μ. ΑΝΔΡΩΝ\n20.00 ΤΡΙΠΛΟΥΝ ΓΥΝΑΙΚΩΝ\n20.00 ΥΨΟΣ ΓΥΝΑΙΚΩΝ\n20.00 ΑΚΟΝΤΙΣΜΟΣ ΓΥΝΑΙΚΩΝ\n20.25 1500μ. ΓΥΝΑΙΚΩΝ\n21.10 2000μ. ST. ΑΝΔΡΩΝ\n21.25 2000μ. ST. ΓΥΝΑΙΚΩΝ\n21.45 4Χ100μ. ΑΝΔΡΩΝ τελ.σειρές\n22.10 4X100μ. ΓΥΝΑΙΚΩΝ τελ.σειρές\n22.35 5000μ. ΒΑΔΗΝ ΓΥΝΑΙΚΩΝ \nΚΥΡ 22/6 \nδεν θα διεξαχθούν προκρ.: Επί κοντώ Α \n08.30 5000μ. ΒΑΔΗΝ ΑΝΔΡΩΝ\n08.30 ΣΦΥΡΟΒΟΛΙΑ ΓΥΝΑΙΚΩΝ (Λαδόπουλου) προκρ. 51\,00μ.\n08.30 ΔΙΣΚΟΒΟΛΙΑ ΑΝΔΡΩΝ προκρ. 43\,00 μ.\n09.00 ΜΗΚΟΣ ΓΥΝΑΙΚΩΝ (Α+Β΄ Σκάμμα) προκρ. 5\,55μ.\n09.30 400μ. ΕΜΠ. ΑΝΔΡΩΝ προκρ.\n09.30 ΥΨΟΣ (Α+Β΄ Γκρουπ) ΑΝΔΡΩΝ προκρ. 1\,88μ.\n09.50 400μ. ΕΜΠ. ΓΥΝΑΙΚΩΝ προκρ.\n10.25 800μ. ΑΝΔΡΩΝ προκρ.\n10.30 ΣΦΑΙΡΟΒΟΛΙΑ ΓΥΝΑΙΚΩΝ (Βοηθητικό) προκρ. 12\,60μ.\n10.55 800μ. ΓΥΝΑΙΚΩΝ προκρ.\n11.20 200μ. ΑΝΔΡΩΝ προκρ.\n11.30 ΜΗΚΟΣ (Α+Β΄ Σκάμμα) ΑΝΔΡΩΝ προκρ. 6\,65μ.\n11.45 ΑΚΟΝΤΙΣΜΟΣ ΑΝΔΡΩΝ προκρ. 51\,00 μ.\n12.10 200μ. ΓΥΝΑΙΚΩΝ προκρ. \n17.00 ΣΦΥΡΟΒΟΛΙΑ ΓΥΝΑΙΚΩΝ (Λαδόπουλου)\n17.30 400μ. ΕΜΠ. ΑΝΔΡΩΝ\n17.50 400μ. ΕΜΠ. ΓΥΝΑΙΚΩΝ\n17.45 ΜΗΚΟΣ ΓΥΝΑΙΚΩΝ\n17.45 ΕΠΙ ΚΟΝΤΩ ΑΝΔΡΩΝ\n18.10 200μ. ΑΝΔΡΩΝ\n18.15 ΔΙΣΚΟΒΟΛΙΑ ΑΝΔΡΩΝ\n18.15 ΥΨΟΣ ΑΝΔΡΩΝ\n18.30 200μ. ΓΥΝΑΙΚΩΝ\n18.50 800μ. ΑΝΔΡΩΝ\n19.00 800μ. ΓΥΝΑΙΚΩΝ\n19.00 ΣΦΑΙΡΟΒΟΛΙΑ ΓΥΝΑΙΚΩΝ\n19.15 ΜΗΚΟΣ ΑΝΔΡΩΝ\n19.40 3000μ. ΑΝΔΡΩΝ α’ τελ.σειρά\n19.40 ΑΚΟΝΤΙΣΜΟΣ ΑΝΔΡΩΝ\n20.00 3000μ. ΑΝΔΡΩΝ β’ τελ.σειρά\n20.20 3000μ. ΓΥΝΑΙΚΩΝ\n20.45 4Χ400μ. ΑΝΔΡΩΝ τελ.σειρές\n21β.10 4Χ400μ. ΓΥΝΑΙΚΩΝ τελ.σειρές \nΔηλώσεις συμμετοχής μέχρι τη ΔΕΥΤΈΡΑ 16 Ιουνίου 2025 και ώρα 23:00 στον Σ.Ε.Γ.Α.Σ. στην ηλ. διεύθυνση entries@segas.gr καθώς και στις κατά τόπους Ε.Α.Σ. Σ.Ε.Γ.Α.Σ
URL:https://www.stivoz.gr/event/panellinio-u18-2025/
CATEGORIES:Ημερολόγιο αγώνων
END:VEVENT
END:VCALENDAR