BEGIN:VCALENDAR
VERSION:2.0
PRODID:-//StivoZ.gr - ECPv5.16.4//NONSGML v1.0//EN
CALSCALE:GREGORIAN
METHOD:PUBLISH
X-WR-CALNAME:StivoZ.gr
X-ORIGINAL-URL:https://www.stivoz.gr
X-WR-CALDESC:StivoZ.gr - Εκδηλώσεις
BEGIN:VTIMEZONE
TZID:Europe/Athens
BEGIN:DAYLIGHT
TZOFFSETFROM:+0200
TZOFFSETTO:+0300
TZNAME:EEST
DTSTART:20170326T010000
END:DAYLIGHT
BEGIN:STANDARD
TZOFFSETFROM:+0300
TZOFFSETTO:+0200
TZNAME:EET
DTSTART:20171029T010000
END:STANDARD
END:VTIMEZONE
BEGIN:VEVENT
DTSTART;VALUE=DATE:20170624
DTEND;VALUE=DATE:20170626
DTSTAMP:20260419T182524
CREATED:20170510T210632Z
LAST-MODIFIED:20181218T090746Z
UID:29198-1498292100-1498424400@www.stivoz.gr
SUMMARY:Πανελ.πρωτ. Π/Κ (Τρίκαλα)
DESCRIPTION:-> livestream\n-> τροποποιήσεις διεξαγωγής \nΣχετικά θέματα:\n– www.stivoz.com/content.php?6242-Trikala-entypwsiakos-o-Granitsiotis-kales-epidoseis-stis-ripseis-tin-A-imera\n– www.stivoz.com/content.php?6247-Trikala-Orio-o-Argyropoulos-psila-i-Adamopoulou-Double-o-Xenidakis-maxi-sto-3ari-sto-fnale\n– www.stivoz.com/forum/showthread.php?16730 (αποτελέσματα) \n-> Όρια πανελλήνίων πρωταθλημάτων\n-> Όρια Ευρωπαικού Ε/Ν\nγια Π/Κ ισχύουν τα όρια της ΕΑΑ. (Η Ελλάδα δεν θα συμμετάσχει στο παγκοσμιο Π/Κ)\n-> Τεχνικά στοιχεία \nΣυμμετοχές:\n– Παίδες\n– Κορασίδες \nΠρόγραμμα \nΠαρασκευή 23 Ιουνίου 2017 στην αίθουσα ”Νίτσα Λιάπη”(Δίπλα στο 1o Δημοτικό Σχολείο Καλαμπάκας) στις 21:00\,\n“Πως μετατρέπουμε το άγχος σύμμαχο στον αγώνα: Οδηγίες για αθλητές και προπονητές”\nομιλήτρια: κα Πατσού Φρόσω M.Sc Ψυχολογίας-Αθλητική Ψυχολόγος Επιστημονική Συνεργάτης Εθνικής Ομάδας Στίβου. \nΑ΄  ΗΜΕΡΑ: ΠΡΩΙ: – ΣΑΒΒΑΤΟ   24  ΙΟΥΝΙΟΥ 2017 \n08.15	ΣΦΥΡΟΒΟΛΙΑ 	ΠΑΙΔΩΝ	ΑΓΩΝΑΣ ΕΠΙΛΟΓΗΣ (Βοηθητικό)	51.00μ\n08.30	110 μ. ΕΜΠ. 	ΠΑΙΔΩΝ	ΠΡΟΚΡΙΜΑΤΙΚΟΣ\n08.45	ΤΡΙΠΛΟΥΝ 	ΠΑΙΔΩΝ	ΑΓΩΝΑΣ ΕΠΙΛΟΓΗΣ	13.30μ.\n08.50	100 μ. ΕΜΠ. 	ΚΟΡΑΣΙΔΩΝ	ΠΡΟΚΡΙΜΑΤΙΚΟΣ\n09.00	ΕΠΙ ΚΟΝΤΩ  	ΠΑΙΔΩΝ ΑΓΩΝΑΣ  ΕΠΙΛΟΓΗΣ 4.00μ\n09.00	ΥΨΟΣ 	ΚΟΡΑΣΙΔΩΝ ΑΓΩΝΑΣ ΕΠΙΛΟΓΗΣ	1.63μ.\n09.10	100 μ. ΕΜΠ ΕΠΤΑΘΛΟΥ 	ΚΟΡΑΣΙΔΩΝ\n09.30	100 μ.    ΔΕΚΑΘΛΟΥ	ΠΑΙΔΩΝ\n09.45	ΔΙΣΚΟΒΟΛΙΑ 	ΚΟΡΑΣΙΔΩΝ	ΑΓΩΝΑΣ  ΕΠΙΛΟΓΗΣ (Βοηθητικό)	34.50μ.\n09.50	400 μ. 	ΠΑΙΔΩΝ	ΠΡΟΚΡΙΜΑΤΙΚΟΣ\n10.00	ΣΦΑΙΡΟΒΟΛΙΑ 	ΠΑΙΔΩΝ	ΑΓΩΝΑΣ ΕΠΙΛΟΓΗΣ	14.80μ.\n10.10	ΜΗΚΟΣ ΔΕΚΑΘΛΟΥ	ΠΑΙΔΩΝ\n10.15	400 μ. 	ΚΟΡΑΣΙΔΩΝ	ΠΡΟΚΡΙΜΑΤΙΚΟΣ\n10.30	ΥΨΟΣ ΕΠΤΑΘΛΟΥ	ΚΟΡΑΣΙΔΩΝ\n10.45	100 μ.  	ΠΑΙΔΩΝ	ΠΡΟΚΡΙΜΑΤΙΚΟΣ\n11.00	ΑΚΟΝΤΙΣΜΟΣ 	ΚΟΡΑΣΙΔΩΝ	ΑΓΩΝΑΣ  ΕΠΙΛΟΓΗΣ	38.00μ.\n11.00	ΤΡΙΠΛΟΥΝ 	ΚΟΡΑΣΙΔΩΝ	ΑΓΩΝΑΣ ΕΠΙΛΟΓΗΣ	11.20μ.\n11.15	ΣΦΑΙΡΟΒΟΛΙΑ ΔΕΚΑΘΛΟΥ	ΠΑΙΔΩΝ\n11.25	100 μ. 	ΚΟΡΑΣΙΔΩΝ	ΠΡΟΚΡΙΜΑΤΙΚΟΣ		 \n17.00	ΣΦΥΡΟΒΟΛΙΑ 	ΠΑΙΔΩΝ	ΤΕΛΙΚΟΣ (Βοηθητικό)\n17.30	110 μ. ΕΜΠ.	ΠΑΙΔΩΝ	ΤΕΛΙΚΟΣ\n17.30	ΥΨΟΣ ΔΕΚΑΘΛΟΥ	ΠΑΙΔΩΝ\n17.50	100 μ. ΕΜΠ.	ΚΟΡΑΣΙΔΩΝ	ΤΕΛΙΚΟΣ\n18.00	ΤΡΙΠΛΟΥΝ	ΠΑΙΔΩΝ	ΤΕΛΙΚΟΣ\n18.00	ΣΦΑΙΡΟΒΟΛΙΑ ΕΠΤΑΘΛΟΥ	ΚΟΡΑΣΙΔΩΝ\n18.05	100 μ. 	ΠΑΙΔΩΝ	ΤΕΛΙΚΟΣ\n18.20	100 μ. 	ΚΟΡΑΣΙΔΩΝ	ΤΕΛΙΚΟΣ\n18.30	ΔΙΣΚΟΒΟΛΙΑ	ΚΟΡΑΣΙΔΩΝ	ΤΕΛΙΚΟΣ (ΡΙΨΕΩΝ)\n18.35	400 μ. 	ΠΑΙΔΩΝ	ΤΕΛΙΚΟΣ\n18.45	ΕΠΙ ΚΟΝΤΩ	ΠΑΙΔΩΝ ΤΕΛΙΚΟΣ\n18.50	400 μ.	ΚΟΡΑΣΙΔΩΝ	ΤΕΛΙΚΟΣ\n19.05	1.500 μ.	ΠΑΙΔΩΝ	ΤΕΛΙΚΟΣ\n19.15	1.500 μ.	ΚΟΡΑΣΙΔΩΝ	ΤΕΛΙΚΟΣ\n19.30	ΥΨΟΣ	ΚΟΡΑΣΙΔΩΝΤΕΛΙΚΟΣ\n19.30	ΤΡΙΠΛΟΥΝ	ΚΟΡΑΣΙΔΩΝ	ΤΕΛΙΚΟΣ\n19.30	200 μ. ΕΠΤΑΘΛΟΥ 	ΚΟΡΑΣΙΔΩΝ\n19.45	400 μ.  ΔΕΚΑΘΛΟΥ	ΠΑΙΔΩΝ\n19.45	ΣΦΑΙΡΟΒΟΛΙΑ	ΠΑΙΔΩΝ	ΤΕΛΙΚΟΣ\n20.00	2.000 μ. Φ.Ε.	ΠΑΙΔΩΝ	ΤΕΛΙΚΟΣ\n20.00	ΑΚΟΝΤΙΣΜΟΣ	ΚΟΡΑΣΙΔΩΝ	ΤΕΛΙΚΟΣ\n20.15	2.000 μ. Φ.Ε.	ΚΟΡΑΣΙΔΩΝ	ΤΕΛΙΚΟΣ\n20.35	4 Χ 100 μ. 	ΠΑΙΔΩΝ	ΤΕΛΙΚΕΣ ΣΕΙΡΕΣ\n21.00	4 X100 μ.	ΚΟΡΑΣΙΔΩΝ	ΤΕΛΙΚΕΣ ΣΕΙΡΕΣ\n21.30	5.000 μ. ΒΑΔΗΝ	ΚΟΡΑΣΙΔΩΝ	ΤΕΛΙΚΟΣ \nΒ΄ ΗΜΕΡΑ:  ΠΡΩΪ –  ΚΥΡΙΑΚΗ  25 ΙΟΥΝΙΟΥ  2017 \n08.00	10.000 μ. ΒΑΔΗΝ	ΠΑΙΔΩΝ	ΤΕΛΙΚΟΣ\n08.10	ΣΦΥΡΟΒΟΛΙΑ 	ΚΟΡΑΣΙΔΩΝ	ΑΓΩΝΑΣ ΕΠΙΛΟΓΗΣ (Βοηθητικό)	47.00μ.\n08.30	ΜΗΚΟΣ 	ΚΟΡΑΣΙΔΩΝ	ΑΓΩΝΑΣ ΕΠΙΛΟΓΗΣ  5.40μ.\n08.45	ΕΠΙ ΚΟΝΤΩ 	ΚΟΡΑΣΙΔΩΝ ΑΓΩΝΑΣ ΕΠΙΛΟΓΗΣ	3.20μ.\n09.00	110 μ. ΕΜΠ ΔΕΚΑΘΛΟΥ	ΠΑΙΔΩΝ\n09.00	ΥΨΟΣ 	ΠΑΙΔΩΝ ΑΓΩΝΑΣ ΕΠΙΛΟΓΗΣ	1.88 μ.\n09.20	400 μ. ΕΜΠ. 	ΠΑΙΔΩΝ	ΠΡΟΚΡΙΜΑΤΙΚΟΣ\n09.30	ΑΚΟΝΤΙΣΜΟΣ	ΠΑΙΔΩΝ	ΑΓΩΝΑΣ ΕΠΙΛΟΓΗΣ 53.00μ.\n09.40 ΔΙΣΚΟΒΟΛΙΑ ΔΕΚΑΘΛΟΥ	ΠΑΙΔΩΝ (Βοηθητικό)\n09.45	400 μ. ΕΜΠ. 	ΚΟΡΑΣΙΔΩΝ	ΠΡΟΚΡΙΜΑΤΙΚΟΣ\n10.05 800 μ. 	ΠΑΙΔΩΝ	ΠΡΟΚΡΙΜΑΤΙΚΟΣ\n10.15	ΜΗΚΟΣ ΕΠΤΑΘΛΟΥ	ΚΟΡΑΣΙΔΩΝ\n10.25 800 μ. 	ΚΟΡΑΣΙΔΩΝ	ΠΡΟΚΡΙΜΑΤΙΚΟΣ\n10.30	ΣΦΑΙΡΟΒΟΛΙΑ 	ΚΟΡΑΣΙΔΩΝ	ΑΓΩΝΑΣ ΕΠΙΛΟΓΗΣ	12.80μ.\n10.45	ΔΙΣΚΟΒΟΛΙΑ 	ΠΑΙΔΩΝ	ΑΓΩΝΑΣ ΕΠΙΛΟΓΗΣ (Βοηθητικό) 44.50μ.\n10.45 200 μ. 	ΠΑΙΔΩΝ	ΠΡΟΚΡΙΜΑΤΙΚΟΣ\n11.00	ΜΗΚΟΣ 	ΠΑΙΔΩΝ	ΑΓΩΝΑΣ ΕΠΙΛΟΓΗΣ 6.60 μ.\n11.00	ΕΠΙ ΚΟΝΤΩ ΔΕΚΑΘΛΟΥ	ΠΑΙΔΩΝ\n11.20 200 μ. 	ΚΟΡΑΣΙΔΩΝ	ΠΡΟΚΡΙΜΑΤΙΚΟΣ\n12.00	ΑΚΟΝΤΙΣΜΟΣ ΕΠΤΑΘΛΟΥ	ΚΟΡΑΣΙΔΩΝ		 \n16.30	ΣΦΥΡΟΒΟΛΙΑ	ΚΟΡΑΣΙΔΩΝ	ΤΕΛΙΚΟΣ (Βοηθητικό)\n17.30	400 μ. ΕΜΠ.	ΠΑΙΔΩΝ	ΤΕΛΙΚΟΣ\n17.45	400 μ. ΕΜΠ.	ΚΟΡΑΣΙΔΩΝ	ΤΕΛΙΚΟΣ\n18.00	ΔΙΣΚΟΒΟΛΙΑ	ΠΑΙΔΩΝ	ΤΕΛΙΚΟΣ (Βοηθητικό)\n18.00	ΜΗΚΟΣ	ΚΟΡΑΣΙΔΩΝ	ΤΕΛΙΚΟΣ\n18.05	200 μ.  	ΠΑΙΔΩΝ	ΤΕΛΙΚΟΣ\n18.25	200 μ. 	ΚΟΡΑΣΙΔΩΝ	ΤΕΛΙΚΟΣ\n18.30	ΕΠΙ ΚΟΝΤΩ	ΠΑΙΔΩΝ	ΤΕΛΙΚΟΣ\n18.30	ΥΨΟΣ	ΚΟΡΑΣΙΔΩΝ	ΤΕΛΙΚΟΣ\n18.45	800 μ.  ΕΠΤΑΘΛΟΥ	ΚΟΡΑΣΙΔΩΝ	\n18.45	ΑΚΟΝΤΙΣΜΟΣ ΔΕΚΑΘΛΟΥ	ΠΑΙΔΩΝ	\n19.00	ΣΦΑΙΡΟΒΟΛΙΑ	ΚΟΡΑΣΙΔΩΝ	ΤΕΛΙΚΟΣ\n19.00	800 μ.	ΠΑΙΔΩΝ	ΤΕΛΙΚΟΣ\n19.15	800 μ.	ΚΟΡΑΣΙΔΩΝ	ΤΕΛΙΚΟΣ\n19.30	3.000 μ.	ΠΑΙΔΩΝ	ΤΕΛΙΚΟΣ\n19.30	ΜΗΚΟΣ	ΠΑΙΔΩΝ	ΤΕΛΙΚΟΣ\n19.45	ΑΚΟΝΤΙΣΜΟΣ	ΠΑΙΔΩΝ	ΤΕΛΙΚΟΣ\n20.00	3.000 μ.	ΚΟΡΑΣΙΔΩΝ	ΤΕΛΙΚΟΣ\n20.15	1.500 μ. ΔΕΚΑΘΛΟΥ	ΠΑΙΔΩΝ	\n20.40	4 Χ 400 μ. 	ΠΑΙΔΩΝ	ΤΕΛΙΚΕΣ ΣΕΙΡΕΣ\n21.00	4 Χ 400 μ.	ΚΟΡΑΣΙΔΩΝ	ΤΕΛΙΚΕΣ ΣΕΙΡΕΣ \nΟι δηλώσεις συμμετοχής πρέπει να σταλούν με e-mail μέχρι τη Δευτέρα 19 Ιουνίου 2017 και ώρα 13.00 στον Σ.Ε.Γ.Α.Σ.\nστην ηλεκτρονική διεύθυνση: development@segas.gr  καθώς και στις κατά τόπου Ε.Α.Σ. Σ.Ε.Γ.Α.Σ. \nΜετέχουν\, έως 2 αγωνίσματα\, οι αθλητές γεν.2000-2001 και υπό προυποθέσεις οι γεν.2002-2003
URL:https://www.stivoz.gr/event/panellinio-u18-2017/
CATEGORIES:Ημερολόγιο αγώνων
END:VEVENT
END:VCALENDAR