BEGIN:VCALENDAR
VERSION:2.0
PRODID:-//StivoZ.gr - ECPv5.16.4//NONSGML v1.0//EN
CALSCALE:GREGORIAN
METHOD:PUBLISH
X-WR-CALNAME:StivoZ.gr
X-ORIGINAL-URL:https://www.stivoz.gr
X-WR-CALDESC:StivoZ.gr - Εκδηλώσεις
BEGIN:VTIMEZONE
TZID:Europe/Athens
BEGIN:DAYLIGHT
TZOFFSETFROM:+0200
TZOFFSETTO:+0300
TZNAME:EEST
DTSTART:20130331T010000
END:DAYLIGHT
BEGIN:STANDARD
TZOFFSETFROM:+0300
TZOFFSETTO:+0200
TZNAME:EET
DTSTART:20131027T010000
END:STANDARD
END:VTIMEZONE
BEGIN:VEVENT
DTSTART;VALUE=DATE:20130622
DTEND;VALUE=DATE:20130624
DTSTAMP:20260421T040905
CREATED:20130111T140036Z
LAST-MODIFIED:20181218T095350Z
UID:28752-1371891600-1372021200@www.stivoz.gr
SUMMARY:Πανελλήνιο Πρωτάθλημα Π/Κ (Τρίκαλα)
DESCRIPTION:-> Συμμετοχές \nΣχετικά θέματα:\n– www.stivoz.com/forum/showthread.php?9151 (Α’ ημέρα)\n– www.stivoz.com/forum/showthread.php?9166 (Β’ ημέρα) \n– www.stivoz.com/forum/showthread.php?9150 (αποτελέσματα) \nΠρόγραμμα: \nΣαββατο 22/6 \nπρωί (προκριματικοί) \n08.15 Σφύρα Π (55\,00μ)\n08.30 Επικοντώ Κ (3\,30μ)\n08.40 110μ εμπ. Π\n09.00 Ύψος Π (1\,88μ)\n09.00 Τριπλούν Π (13\,50μ)\n09.10 100μ εμπ. 7θλου\n09.15 Δίσκος Κ (35\,00μ) βοηθητικό\n09.35 100μ εμπ. Κ\n10.00 100μ 8θλου\n10.20 400μ Π\n10.30 Τριπλούν Κ (11\,10μ)\n10.30 Σφαίρα Π (15\,40μ)\n10.30 Ύψος 7θλου\n10.40 400μ Κ\n10.45 Ακόντιο Κ (43\,00μ)\n10.55 100μ Π\n11.30 100μ Κ\n11.45 Μήκος 8θλου \nαπόγευμα (τελικοί) \n16.00 Σφύρα Π\n16.15 Σφαίρα 8θλου\n17.30 Επικοντώ Κ\n17.30 Τριπλούν Π\n17.30 110μ εμπ. Π\n17.45 Σφαίρα 7θλου\n17.45 Δίσκος Κ\n17.50 100μ εμπ. Κ\n18.05 100μ Π\n18.20 100μ Κ\n18.30 Ύψος Π\n18.35 400μ Π\n18.45 400μ Κ\n19.00 400μ 8θλου\n19.00 Τριπλούν Κ\n19.00 Σφαίρα Π\n19.15 1500μ Π\n19.30 1500μ Κ\n19.30 Ακοντιο Κ\n19.45 200μ 7θλου\n20.00 2χλμ στηπλ Π\n20.15 2χλμ στηπλ Κ\n20.40 4χ100μ Π\n21.00 4χ100μ Κ\n21.30 10χλμ βάδην Π \nΚυριακή 23/6 \nπρωί (προκριματικά) \n08.00 5χλμ βάδην Κ τελικός\n08.15 Σφύρα Κ\n08.15 Μήκος 7θλου\n08.30 Επικοντώ Π (4\,10μ)\n08.45 110μ εμπ. 8θλου\n09.00 Ύψος Κ (1\,65μ)\n09.00 Δίσκος Π (45\,00μ)\n09.05 400μ εμπ. Π\n09.15 Μήκος Κ (5\,30μ)\n09.30 400μ εμπ. Κ\n09.50 800μ Π\n10.10 800μ Κ\n10.30 200μ Π\n10.30 Σφαίρα Κ (14\,00μ)\n10.45 Μήκος Π (6\,40μ)\n10.45 Ύψος 8θλου\n11.00 200μ Κ\n11.30 Ακόντιο 7θλου \nαπόγευμα (τελικοί) \n16.00 Σφύρα Κ\n17.00 Δίσκος Π\n17.00 400μ εμπ. Π\n17.15 400μ εμπ. Κ\n17.15 Επικοντώ Π\n17.15 Μήκος Κ\n17.35 200μ Π\n17.55 200μ Κ\n18.15 Ακόντιο 8θλου\n18.15 Ύψος Κ\n18.15 800μ Π\n18.30 800μ Κ\n18.45 Μήκος Π\n18.45 Σφαίρα Κ\n18.45 3χλμ Π\n19.00 3χλμ Κ\n19.00 Ακόντιο Π\n19.15 100μ 8θλου\n19.30 800μ 7θλου\n19.50 4χ400μ Π\n20.10 4χ400μ Κ \n20.25 10χλμ Εφήβων
URL:https://www.stivoz.gr/event/panellinio-u18-2013/
CATEGORIES:Ημερολόγιο αγώνων
END:VEVENT
END:VCALENDAR