BEGIN:VCALENDAR
VERSION:2.0
PRODID:-//StivoZ.gr - ECPv5.16.4//NONSGML v1.0//EN
CALSCALE:GREGORIAN
METHOD:PUBLISH
X-WR-CALNAME:StivoZ.gr
X-ORIGINAL-URL:https://www.stivoz.gr
X-WR-CALDESC:StivoZ.gr - Εκδηλώσεις
BEGIN:VTIMEZONE
TZID:Europe/Athens
BEGIN:DAYLIGHT
TZOFFSETFROM:+0200
TZOFFSETTO:+0300
TZNAME:EEST
DTSTART:20260329T010000
END:DAYLIGHT
BEGIN:STANDARD
TZOFFSETFROM:+0300
TZOFFSETTO:+0200
TZNAME:EET
DTSTART:20261025T010000
END:STANDARD
END:VTIMEZONE
BEGIN:VEVENT
DTSTART;VALUE=DATE:20260613
DTEND;VALUE=DATE:20260615
DTSTAMP:20260420T064814
CREATED:20260325T101029Z
LAST-MODIFIED:20260325T101652Z
UID:128706-1781308800-1781481599@www.stivoz.gr
SUMMARY:Πανελ.πρωτ. αναπτυξ. Κ16 (2 όμιλοι)
DESCRIPTION:Βόρειος όμιλος : Ελευθερούπολη\nΝότιος όμιλος : Χαλκίδα\n\n-> Όρια βαθμολόγησης\n-> Ρεκόρ Κ16\n-> κατηγορίες-αγωνίσματα-τεχνικά στοιχεία \nΓια την τελική φάση προκρίνονται οι 3 πρώτοι από κάθε όμιλο και οι 6 καλύτερες επιδόσεις και από τους δύο ομίλους.
URL:https://www.stivoz.gr/event/panellinio-u16-2026/
CATEGORIES:Ημερολόγιο αγώνων
END:VEVENT
END:VCALENDAR