BEGIN:VCALENDAR
VERSION:2.0
PRODID:-//StivoZ.gr - ECPv5.16.4//NONSGML v1.0//EN
CALSCALE:GREGORIAN
METHOD:PUBLISH
X-WR-CALNAME:StivoZ.gr
X-ORIGINAL-URL:https://www.stivoz.gr
X-WR-CALDESC:StivoZ.gr - Εκδηλώσεις
BEGIN:VTIMEZONE
TZID:Europe/Athens
BEGIN:DAYLIGHT
TZOFFSETFROM:+0200
TZOFFSETTO:+0300
TZNAME:EEST
DTSTART:20180325T010000
END:DAYLIGHT
BEGIN:STANDARD
TZOFFSETFROM:+0300
TZOFFSETTO:+0200
TZNAME:EET
DTSTART:20181028T010000
END:STANDARD
END:VTIMEZONE
BEGIN:VEVENT
DTSTART;VALUE=DATE:20180630
DTEND;VALUE=DATE:20180702
DTSTAMP:20260419T163258
CREATED:20180608T134404Z
LAST-MODIFIED:20190712T220704Z
UID:29386-1530347400-1530477000@www.stivoz.gr
SUMMARY:Πανελ.πρωτ. ΠΠ/ΠΚ (2 όμιλοι)
DESCRIPTION:Όμιλοι: \n-Βόρειος [Μακεδονία\, Θράκη\, Θεσσαλία\, Ήπειρος\, Αν.Στερεά (Ευρυτανία\, Φθιώτιδα\, Φωκίδα)\, Ιόνιο]\n-Νότιος [Αθήνα-Αττική\, Πειραιάς\, Δυτ.Στερεά (Βοιωτία&Εύβοια)\, Αιγαίο\, Κρήτη] \nΣχετικά θέματα:\n– www.stivoz.com/content.php?6776-Emfaniseis-gemates-yposxeseis-apo-tous-mikrous-se-Kavala-kai-Xalkida\n– http://www.stivoz.gr/?p=16468 (αποτελέσματα) \n-> Όρια\n-> Ρεκόρ κατηγορίας \nΠρόγραμμα ανά όμιλο: \n-> Τροποποιήσεις \nΝΟΤΟΣ – Χαλκίδα: \nΣΑΒΒΑΤΟ  30 / 6 / 2018 \n08.30	ΣΦΥΡΟΒΟΛΙΑ	ΠΑΜΠΑΙΔΩΝ	ΑΓΩΝΑΣ ΕΠΙΛΟΓΗΣ	43.00 μ.\n09.00	 ΤΡΙΠΛΟΥΝ ΠΑΜΠΑΙΔΩΝ	ΑΓΩΝΑΣ ΕΠΙΛΟΓΗΣ	12.00 μ.\n09.00	ΕΠΙ ΚΟΝΤΩ	ΠΑΓΚΟΡΑΣΙΔΩΝ ΑΓΩΝΑΣ ΕΠΙΛΟΓΗΣ	2.70 μ.\n09.00	100 ΕΜΠ 6αθλου ΠΑΜΠΑΙΔΩΝ		\n09.20	80 ΕΜΠ 5αθλου ΠΑΓΚΟΡΑΣΙΔΩΝ	\n09.30	ΑΚΟΝΤΙΣΜΟΣ	ΠΑΓΚΟΡΑΣΙΔΩΝ	ΑΓΩΝΑΣ ΕΠΙΛΟΓΗΣ	33.00 μ.\n09.40	300 μ. ΕΜΠ.	ΠΑΜΠΑΙΔΩΝ	ΠΡΟΚΡΙΜΑΤΙΚΟΣ\n10.00	300 μ. ΕΜΠ	ΠΑΓΚΟΡΑΣΙΔΩΝ	ΠΡΟΚΡΙΜΑΤΙΚΟΣ\n10.00	ΜΗΚΟΣ 6αθλου ΠΑΜΠΑΙΔΩΝ\n10.20	300 μ	ΠΑΜΠΑΙΔΩΝ	ΠΡΟΚΡΙΜΑΤΙΚΟΣ\n10:30	ΥΨΟΣ	ΠΑΜΠΑΙΔΩΝ	ΑΓΩΝΑΣ ΕΠΙΛΟΓΗΣ		     1.65 μ.\n10.30	ΣΦΑΙΡΟΒΟΛΙΑ	ΠΑΜΠΑΙΔΩΝ	ΑΓΩΝΑΣ ΕΠΙΛΟΓΗΣ	13.00 μ.\n10.40	300 μ	ΠΑΓΚΟΡΑΣΙΔΩΝ	ΠΡΟΚΡΙΜΑΤΙΚΟΣ\n10.45	ΜΗΚΟΣ 5αθλου ΠΑΓΚΟΡΑΣΙΔΩΝ\n11.30	ΔΙΣΚΟΒΟΛΙΑ	ΠΑΓΚΟΡΑΣΙΔΩΝ	ΑΓΩΝΑΣ ΕΠΙΛΟΓΗΣ	27.00 μ. \n16.30	ΣΦΑΙΡΟΒΟΛΙΑ 6αθλου ΠΑΜΠΑΙΔΩΝ\n16.30	ΣΦΥΡΟΒΟΛΙΑ	ΠΑΜΠΑΙΔΩΝ	ΤΕΛΙΚΟΣ\n16.45	ΥΨΟΣ	ΠΑΜΠΑΙΔΩΝ	ΤΕΛΙΚΟΣ\n17.20	ΣΦΑΙΡΟΒΟΛΙΑ 5αθλου ΠΑΓΚΟΡΑΣΙΔΩΝ\n17.15	300 μ. ΕΜΠ.	ΠΑΜΠΑΙΔΩΝ	ΤΕΛΙΚΟΣ\n17.30	300 μ. ΕΜΠ	ΠΑΓΚΟΡΑΣΙΔΩΝ	ΤΕΛΙΚΟΣ\n17.30	ΑΚΟΝΤΙΣΜΟΣ	ΠΑΓΚΟΡΑΣΙΔΩΝ	ΤΕΛΙΚΟΣ\n17.45	ΕΠΙ ΚΟΝΤΩ	ΠΑΓΚΟΡΑΣΙΔΩΝ ΤΕΛΙΚΟΣ\n17.45	300 μ.	ΠΑΜΠΑΙΔΩΝ	ΤΕΛΙΚΟΣ\n18.00	300 μ.	ΠΑΓΚΟΡΑΣΙΔΩΝ	ΤΕΛΙΚΟΣ\n18.10	ΤΡΙΠΛΟΥΝ ΠΑΜΠΑΙΔΩΝ	ΤΕΛΙΚΟΣ\n18.15	600 μ.	ΠΑΜΠΑΙΔΩΝ	ΤΕΛΙΚΕΣ ΣΕΙΡΕΣ\n18.30	600 μ.	ΠΑΓΚΟΡΑΣΙΔΩΝ	ΤΕΛΙΚΕΣ ΣΕΙΡΕΣ\n18.30	ΣΦΑΙΡΟΒΟΛΙΑ	ΠΑΜΠΑΙΔΩΝ	ΤΕΛΙΚΟΣ\n18.45	ΥΨΟΣ 6αθλου ΠΑΜΠΑΙΔΩΝ\n18.45	ΑΚΟΝΤΙΣΜΟΣ 5αθλου ΠΑΓΚΟΡΑΣΙΔΩΝ\n18.45	1.000 μ.	ΠΑΜΠΑΙΔΩΝ	ΤΕΛΙΚΕΣ ΣΕΙΡΕΣ\n19.00	1.000 μ	ΠΑΓΚΟΡΑΣΙΔΩΝ	ΤΕΛΙΚΕΣ ΣΕΙΡΕΣ\n19.15	2.000 μ.	ΠΑΓΚΟΡΑΣΙΔΩΝ	ΤΕΛΙΚΟΣ\n19.40	4 Χ 80 μ.	ΠΑΜΠΑΙΔΩΝ	ΤΕΛΙΚΕΣ ΣΕΙΡΕΣ\n19.45	ΔΙΣΚΟΒΟΛΙΑ	ΠΑΓΚΟΡΑΣΙΔΩΝ	ΤΕΛΙΚΟΣ\n19.55	4 Χ 80 μ.	ΠΑΓΚΟΡΑΣΙΔΩΝ	ΤΕΛΙΚΕΣ ΣΕΙΡΕΣ\n20.20	5.000 μ. ΒΑΔΗΝ	ΠΑΜΠΑΙΔΩΝ	ΤΕΛΙΚΟΣ	 \nΚΥΡΙΑΚΗ  1 / 7 / 2018 \n08.30	3.000 μ. ΒΑΔΗΝ	ΠΑΓΚΟΡΑΣΙΔΩΝ	ΤΕΛΙΚΟΣ\n08.30	ΣΦΥΡΟΒΟΛΙΑ	ΠΑΓΚΟΡΑΣΙΔΩΝ	ΑΓΩΝΑΣ ΕΠΙΛΟΓΗΣ	38.00 μ.\n09.00	ΣΦΑΙΡΟΒΟΛΙΑ	ΠΑΓΚΟΡΑΣΙΔΩΝ	ΑΓΩΝΑΣ ΕΠΙΛΟΓΗΣ	10.60 μ.\n09.00	ΕΠΙ ΚΟΝΤΩ	ΠΑΜΠΑΙΔΩΝ ΑΓΩΝΑΣ ΕΠΙΛΟΓΗΣ	3.30 μ.\n09.00 ΜΗΚΟΣ ΠΑΓΚΟΡΑΣΙΔΩΝ	ΑΓΩΝΑΣ ΕΠΙΛΟΓΗΣ	5.10 μ.\n09.00	100 μ. ΕΜΠ	ΠΑΜΠΑΙΔΩΝ	ΠΡΟΚΡΙΜΑΤΙΚΟΣ\n09.30	80 μ. ΕΜΠ	ΠΑΓΚΟΡΑΣΙΔΩΝ ΠΡΟΚΡΙΜΑΤΙΚΟΣ\n09.15 & 10:30	ΥΨΟΣ	ΠΑΓΚΟΡΑΣΙΔΩΝ	ΑΓΩΝΑΣ ΕΠΙΛΟΓΗΣ	1.50 μ.\n09.30	ΑΚΟΝΤΙΣΜΟΣ 6αθλου ΠΑΜΠΑΙΔΩΝ		\n10.00	600 μ. 5αθλου ΠΑΓΚΟΡΑΣΙΔΩΝ		\n10.20	150 μ	ΠΑΜΠΑΙΔΩΝ	ΠΡΟΚΡΙΜΑΤΙΚΟΣ\n10.30 ΜΗΚΟΣ ΠΑΜΠΑΙΔΩΝ ΑΓΩΝΑΣ ΕΠΙΛΟΓΗΣ	5.90 μ.\n10.40	150 μ	ΠΑΓΚΟΡΑΣΙΔΩΝ	ΠΡΟΚΡΙΜΑΤΙΚΟΣ\n10.40	ΔΙΣΚΟΒΟΛΙΑ	ΠΑΜΠΑΙΔΩΝ	ΑΓΩΝΑΣ ΕΠΙΛΟΓΗΣ	44.50 μ.\n11.00	1.000 μ. 6αθλου ΠΑΜΠΑΙΔΩΝ		\n11.20	80 μ	ΠΑΜΠΑΙΔΩΝ	ΠΡΟΚΡΙΜΑΤΙΚΟΣ\n11.40	ΑΚΟΝΤΙΣΜΟΣ	ΠΑΜΠΑΙΔΩΝ	ΑΓΩΝΑΣ ΕΠΙΛΟΓΗΣ	43.00 μ.\n11.50	80 μ	ΠΑΓΚΟΡΑΣΙΔΩΝ	ΠΡΟΚΡΙΜΑΤΙΚΟΣ	 \n15.30	ΣΦΥΡΟΒΟΛΙΑ	ΠΑΓΚΟΡΑΣΙΔΩΝ	ΤΕΛΙΚΟΣ\n16.30	ΕΠΙ ΚΟΝΤΩ	ΠΑΜΠΑΙΔΩΝ ΤΕΛΙΚΟΣ\n16.30	ΜΗΚΟΣ ΠΑΓΚΟΡΑΣΙΔΩΝ ΤΕΛΙΚΟΣ\n16.45	ΔΙΣΚΟΒΟΛΙΑ	ΠΑΜΠΑΙΔΩΝ	ΤΕΛΙΚΟΣ\n16.45	100 μ. ΕΜΠ	ΠΑΜΠΑΙΔΩΝ	ΤΕΛΙΚΟΣ\n17.00	80 μ. ΕΜΠ	ΠΑΓΚΟΡΑΣΙΔΩΝ	ΤΕΛΙΚΟΣ\n17.20	150 μ.	ΠΑΜΠΑΙΔΩΝ	ΤΕΛΙΚΟΣ\n17.30	150 μ.	ΠΑΓΚΟΡΑΣΙΔΩΝ	ΤΕΛΙΚΟΣ\n17.45	ΥΨΟΣ	ΠΑΓΚΟΡΑΣΙΔΩΝ	ΤΕΛΙΚΟΣ\n17.45	80 μ.	ΠΑΜΠΑΙΔΩΝ	ΤΕΛΙΚΟΣ\n17.55	ΣΦΑΙΡΟΒΟΛΙΑ	ΠΑΓΚΟΡΑΣΙΔΩΝ	ΤΕΛΙΚΟΣ\n18.00	80 μ.	ΠΑΓΚΟΡΑΣΙΔΩΝ	ΤΕΛΙΚΟΣ\n18.00	ΜΗΚΟΣ ΠΑΜΠΑΙΔΩΝ	ΤΕΛΙΚΟΣ\n18.05	ΑΚΟΝΤΙΣΜΟΣ	ΠΑΜΠΑΙΔΩΝ	ΤΕΛΙΚΟΣ\n18.15	3.000 μ.	ΠΑΜΠΑΙΔΩΝ	ΤΕΛΙΚΟΣ\n18.30	4 Χ 300	ΠΑΜΠΑΙΔΩΝ	ΤΕΛΙΚΟΣ\n18.45	4 Χ 300	ΠΑΓΚΟΡΑΣΙΔΩΝ ΤΕΛΙΚΕΣ ΣΕΙΡΕΣ	 \nΒΟΡΕΙΟΣ – Καβάλα: \nΣΑΒΒΑΤΟ  30 / 6 / 2018 \n08.30 ΣΦΥΡΟΒΟΛΙΑ ΠΑΜΠΑΙΔΩΝ ΑΓΩΝΑΣ ΕΠΙΛΟΓΗΣ 43.00 μ.\n09.00 ΕΠΙ ΚΟΝΤΩ ΠΑΓΚΟΡΑΣΙΔΩΝ ΑΓΩΝΑΣ ΕΠΙΛΟΓΗΣ 2.80 μ.\n09.00 ΤΡΙΠΛΟΥΝ ΠΑΜΠΑΙΔΩΝ ΑΓΩΝΑΣ ΕΠΙΛΟΓΗΣ 12.00 μ.\n09.10 100 ΕΜΠ 6αθλου ΠΑΜΠΑΙΔΩΝ\n09.35 300 μ ΕΜΠ ΠΑΜΠΑΙΔΩΝ ΠΡΟΚΡΙΜΑΤΙΚΟΣ\n09.40 ΑΚΟΝΤΙΣΜΟΣ ΠΑΓΚΟΡΑΣΙΔΩΝ ΑΓΩΝΑΣ ΕΠΙΛΟΓΗΣ 33.00 μ.\n09.50 300 μ ΕΜΠ ΠΑΓΚΟΡΑΣΙΔΩΝ ΠΡΟΚΡΙΜΑΤΙΚΟΣ\n10.00 ΣΦΑΙΡΟΒΟΛΙΑ ΠΑΜΠΑΙΔΩΝ ΑΓΩΝΑΣ ΕΠΙΛΟΓΗΣ 13.00 μ.\n10.10 ΜΗΚΟΣ 6αθλου ΠΑΜΠΑΙΔΩΝ\n10.10 300 μ ΠΑΜΠΑΙΔΩΝ ΠΡΟΚΡΙΜΑΤΙΚΟΣ\n10:15 ΥΨΟΣ ΠΑΜΠΑΙΔΩΝ ΑΓΩΝΑΣ ΕΠΙΛΟΓΗΣ 1.65 μ.\n10.30 300 μ ΠΑΓΚΟΡΑΣΙΔΩΝ ΠΡΟΚΡΙΜΑΤΙΚΟΣ\n11.00 ΔΙΣΚΟΒΟΛΙΑ ΠΑΓΚΟΡΑΣΙΔΩΝ ΑΓΩΝΑΣ ΕΠΙΛΟΓΗΣ 27.00 μ. \n16.30 ΣΦΥΡΟΒΟΛΙΑ ΠΑΜΠΑΙΔΩΝ ΤΕΛΙΚΟΣ\n17.00 ΕΠΙ ΚΟΝΤΩ ΠΑΓΚΟΡΑΣΙΔΩΝ ΤΕΛΙΚΟΣ\n17.00 ΥΨΟΣ ΠΑΜΠΑΙΔΩΝ ΤΕΛΙΚΟΣ\n17.00 80 ΕΜΠ 5αθλου ΠΑΓΚΟΡΑΣΙΔΩΝ\n17.15 ΣΦΑΙΡΟΒΟΛΙΑ 6αθλου ΠΑΜΠΑΙΔΩΝ\n17.30 ΜΗΚΟΣ 5αθλου ΠΑΓΚΟΡΑΣΙΔΩΝ\n17.40 300 μ. ΕΜΠ. ΠΑΜΠΑΙΔΩΝ ΤΕΛΙΚΟΣ\n17.45 ΑΚΟΝΤΙΣΜΟΣ ΠΑΓΚΟΡΑΣΙΔΩΝ ΤΕΛΙΚΟΣ\n17.55 300 μ. ΕΜΠ ΠΑΓΚΟΡΑΣΙΔΩΝ ΤΕΛΙΚΟΣ\n18.20 300 μ. ΠΑΜΠΑΙΔΩΝ ΤΕΛΙΚΟΣ\n18.30 ΥΨΟΣ 6αθλου ΠΑΜΠΑΙΔΩΝ\n18.40 ΣΦΑΙΡΟΒΟΛΙΑ 5αθλου ΠΑΓΚΟΡΑΣΙΔΩΝ\n18.40 300 μ. ΠΑΓΚΟΡΑΣΙΔΩΝ ΤΕΛΙΚΟΣ\n18.45 ΤΡΙΠΛΟΥΝ ΠΑΜΠΑΙΔΩΝ ΤΕΛΙΚΟΣ\n19.00 ΔΙΣΚΟΒΟΛΙΑ ΠΑΓΚΟΡΑΣΙΔΩΝ ΤΕΛΙΚΟΣ\n19.00 600 μ. ΠΑΜΠΑΙΔΩΝ ΤΕΛΙΚΕΣ ΣΕΙΡΕΣ\n19.10 600 μ. ΠΑΓΚΟΡΑΣΙΔΩΝ ΤΕΛΙΚΕΣ ΣΕΙΡΕΣ\n19.25 1.000 μ. ΠΑΜΠΑΙΔΩΝ ΤΕΛΙΚΕΣ ΣΕΙΡΕΣ\n19.35 1.000 μ ΠΑΓΚΟΡΑΣΙΔΩΝ ΤΕΛΙΚΕΣ ΣΕΙΡΕΣ\n19.40 ΣΦΑΙΡΟΒΟΛΙΑ ΠΑΜΠΑΙΔΩΝ ΤΕΛΙΚΟΣ\n19.50 2.000 μ. ΠΑΓΚΟΡΑΣΙΔΩΝ ΤΕΛΙΚΟΣ\n20.10 4 Χ 80 μ. ΠΑΜΠΑΙΔΩΝ ΤΕΛΙΚΕΣ ΣΕΙΡΕΣ\n20.20 4 Χ 80 μ. ΠΑΓΚΟΡΑΣΙΔΩΝ ΤΕΛΙΚΕΣ ΣΕΙΡΕΣ\n20.30 5.000 μ. ΒΑΔΗΝ ΠΑΜΠΑΙΔΩΝ ΤΕΛΙΚΟΣ \nΚΥΡΙΑΚΗ  1 / 7 / 2018 \n08.30 3.000 μ. ΒΑΔΗΝ ΠΑΓΚΟΡΑΣΙΔΩΝ ΤΕΛΙΚΟΣ\n08.30 ΣΦΥΡΟΒΟΛΙΑ ΠΑΓΚΟΡΑΣΙΔΩΝ ΑΓΩΝΑΣ ΕΠΙΛΟΓΗΣ 38.00 μ\n09.00 ΕΠΙ ΚΟΝΤΩ ΠΑΜΠΑΙΔΩΝ ΑΓΩΝΑΣ ΕΠΙΛΟΓΗΣ 3.30 μ.\n10.45 ΜΗΚΟΣ ΠΑΓΚΟΡΑΣΙΔΩΝ ΑΓΩΝΑΣ ΕΠΙΛΟΓΗΣ 4.90 μ.\n09.00 ΑΚΟΝΤΙΣΜΟΣ 6αθλου ΠΑΜΠΑΙΔΩΝ\n09.10 100 μ ΕΜΠ ΠΑΜΠΑΙΔΩΝ ΠΡΟΚΡΙΜΑΤΙΚΟΣ\n09.30 80 μ ΕΜΠ ΠΑΓΚΟΡΑΣΙΔΩΝ ΠΡΟΚΡΙΜΑΤΙΚΟΣ\n09.50 150 μ ΠΑΜΠΑΙΔΩΝ ΠΡΟΚΡΙΜΑΤΙΚΟΣ\n10.00 ΔΙΣΚΟΒΟΛΙΑ ΠΑΜΠΑΙΔΩΝ ΑΓΩΝΑΣ ΕΠΙΛΟΓΗΣ 41.00 μ.\n10.10 150 μ ΠΑΓΚΟΡΑΣΙΔΩΝ ΠΡΟΚΡΙΜΑΤΙΚΟΣ\n10.15 ΥΨΟΣ ΠΑΓΚΟΡΑΣΙΔΩΝ ΑΓΩΝΑΣ ΕΠΙΛΟΓΗΣ 1.50 μ\n10.30 ΜΗΚΟΣ ΠΑΜΠΑΙΔΩΝ ΑΓΩΝΑΣ ΕΠΙΛΟΓΗΣ 5.90 μ.\n10.30 ΣΦΑΙΡΟΒΟΛΙΑ ΠΑΓΚΟΡΑΣΙΔΩΝ ΑΓΩΝΑΣ ΕΠΙΛΟΓΗΣ 10.80 μ.\n10.30 1.000 6αθλου ΠΑΜΠΑΙΔΩΝ\n10.50 ΑΚΟΝΤΙΣΜΟΣ 5αθλου ΠΑΓΚΟΡΑΣΙΔΩΝ\n10.45 80 μ ΠΑΜΠΑΙΔΩΝ ΠΡΟΚΡΙΜΑΤΙΚΟΣ\n11.15 80 μ ΠΑΓΚΟΡΑΣΙΔΩΝ ΠΡΟΚΡΙΜΑΤΙΚΟΣ\n11.30 ΑΚΟΝΤΙΣΜΟΣ ΠΑΜΠΑΙΔΩΝ ΑΓΩΝΑΣ ΕΠΙΛΟΓΗΣ 40.00 μ.\n11.45 600μ 5αθλου ΠΑΓΚΟΡΑΣΙΔΩΝ \n16.30 ΣΦΥΡΟΒΟΛΙΑ ΠΑΓΚΟΡΑΣΙΔΩΝ ΤΕΛΙΚΟΣ\n16.45 ΕΠΙ ΚΟΝΤΩ ΠΑΜΠΑΙΔΩΝ ΤΕΛΙΚΟΣ\n16.45 ΜΗΚΟΣ ΠΑΓΚΟΡΑΣΙΔΩΝ ΤΕΛΙΚΟΣ\n17.20 100 μ. ΕΜΠ ΠΑΜΠΑΙΔΩΝ ΤΕΛΙΚΟΣ\n17.40 80 μ. ΕΜΠ ΠΑΓΚΟΡΑΣΙΔΩΝ ΤΕΛΙΚΟΣ\n17.45 ΔΙΣΚΟΒΟΛΙΑ ΠΑΜΠΑΙΔΩΝ ΤΕΛΙΚΟΣ\n17.55 150 μ. ΠΑΜΠΑΙΔΩΝ ΤΕΛΙΚΟΣ\n18.10 150 μ. ΠΑΓΚΟΡΑΣΙΔΩΝ ΤΕΛΙΚΟΣ\n18.15 ΜΗΚΟΣ ΠΑΜΠΑΙΔΩΝ ΤΕΛΙΚΟΣ\n18.20 ΥΨΟΣ ΠΑΓΚΟΡΑΣΙΔΩΝ ΤΕΛΙΚΟΣ\n18.30 ΣΦΑΙΡΟΒΟΛΙΑ ΠΑΓΚΟΡΑΣΙΔΩΝ ΤΕΛΙΚΟΣ\n18.30 80 μ. ΠΑΜΠΑΙΔΩΝ ΤΕΛΙΚΟΣ\n18.45 80 μ. ΠΑΓΚΟΡΑΣΙΔΩΝ ΤΕΛΙΚΟΣ\n19.00 3.000 μ. ΠΑΜΠΑΙΔΩΝ ΤΕΛΙΚΟΣ\n19.00 ΑΚΟΝΤΙΣΜΟΣ ΠΑΜΠΑΙΔΩΝ ΤΕΛΙΚΟΣ\n19.20 4 Χ 300 ΠΑΜΠΑΙΔΩΝ ΤΕΛΙΚΟΣ\n19.40 4 Χ 300 ΠΑΓΚΟΡΑΣΙΔΩΝ ΤΕΛΙΚΕΣ ΣΕΙΡΕΣ \nΣτις σκυταλοδρομίες η συμμετοχή είναι ελεύθερη.\nΟι γεν.2005 επιτρέπονται μόνο στη σκυταλοδρομία 4χ80μ. \nΔηλώσεις συμμετοχής μέχρι Δευτέρα 25 Ιουνίου και ώρα 14:00 στο development@segas.gr\nΣε περίπτωση προβλήματος επικοινωνηστε με κα Μαίρη Παναγιωτάκη στο 2111877732
URL:https://www.stivoz.gr/event/panellinio-u16-2018/
CATEGORIES:Ημερολόγιο αγώνων
END:VEVENT
END:VCALENDAR