BEGIN:VCALENDAR
VERSION:2.0
PRODID:-//StivoZ.gr - ECPv5.16.4//NONSGML v1.0//EN
CALSCALE:GREGORIAN
METHOD:PUBLISH
X-WR-CALNAME:StivoZ.gr
X-ORIGINAL-URL:https://www.stivoz.gr
X-WR-CALDESC:StivoZ.gr - Εκδηλώσεις
BEGIN:VTIMEZONE
TZID:Europe/Athens
BEGIN:DAYLIGHT
TZOFFSETFROM:+0200
TZOFFSETTO:+0300
TZNAME:EEST
DTSTART:20130331T010000
END:DAYLIGHT
BEGIN:STANDARD
TZOFFSETFROM:+0300
TZOFFSETTO:+0200
TZNAME:EET
DTSTART:20131027T010000
END:STANDARD
END:VTIMEZONE
BEGIN:VEVENT
DTSTART;VALUE=DATE:20130706
DTEND;VALUE=DATE:20130708
DTSTAMP:20260420T151555
CREATED:20130111T140116Z
LAST-MODIFIED:20190712T220931Z
UID:28753-1373101200-1373230800@www.stivoz.gr
SUMMARY:Πανελλήνιο Πρωτάθλημα ΠΠ/ΠΚ - 2 όμιλοι
DESCRIPTION:Σχετικά θέματα:\n– www.stivoz.com/forum/showthread.php?9323 (Α’ ημέρα)\n– www.stivoz.com/forum/showthread.php?9329 (Β’ ημέρα)\n– www.stivoz.com/forum/showthread.php?9320 (αποτελέσματα) \nΝότιος όμιλος – Σχηματάρι (->Livestream) \nΣΑΒΒΑΤΟ  6 / 7 / 13  – ΠΡΩΙ \n08.30	ΣΦΥΡΟΒΟΛΙΑ	ΠΑΜΠΑΙΔΩΝ	ΑΓΩΝΑΣ ΕΠΙΛΟΓΗΣ	50.00 μ.\n08.30	100 ΕΜΠ ΕΞΑΘΛΟΥ	ΠΑΜΠΑΙΔΩΝ\n08.30	ΜΗΚΟΣ 	ΠΑΜΠΑΙΔΩΝ	ΑΓΩΝΑΣ ΕΠΙΛΟΓΗΣ	6.10 μ.\n08.50	80 ΕΜΠ ΠΕΝΤΑΘΛΟΥ	ΠΑΓΚΟΡΑΣΙΔΩΝ\n09.00 ΕΠΙ ΚΟΝΤΩ	ΠΑΓΚΟΡΑΣΙΔΩΝ	ΑΓΩΝΑΣ ΕΠΙΛΟΓΗΣ	2.90 μ.\n09.10	300 μ ΕΜΠ	ΠΑΜΠΑΙΔΩΝ	ΠΡΟΚΡΙΜΑΤΙΚΟΣ\n09.30	300 μ ΕΜΠ	ΠΑΓΚΟΡΑΣΙΔΩΝ	ΠΡΟΚΡΙΜΑΤΙΚΟΣ\n09.30	ΜΗΚΟΣ ΕΞΑΘΛΟΥ	ΠΑΜΠΑΙΔΩΝ\n09.45	ΥΨΟΣ ΠΑΜΠΑΙΔΩΝ	ΑΓΩΝΑΣ ΕΠΙΛΟΓΗΣ		   1.80 μ.\n09.50	 600 μ 	ΠΑΜΠΑΙΔΩΝ	ΠΡΟΚΡΙΜΑΤΙΚΟΣ\n10.00	ΑΚΟΝΤΙΣΜΟΣ	ΠΑΓΚΟΡΑΣΙΔΩΝ	ΑΓΩΝΑΣ ΕΠΙΛΟΓΗΣ	39.00 μ.\n10.10	600 μ 	ΠΑΓΚΟΡΑΣΙΔΩΝ	ΠΡΟΚΡΙΜΑΤΙΚΟΣ\n10.30	300 μ.	ΠΑΜΠΑΙΔΩΝ	ΠΡΟΚΡΙΜΑΤΙΚΟΣ\n10.30	ΜΗΚΟΣ	ΠΑΓΚΟΡΑΣΙΔΩΝ	ΑΓΩΝΑΣ ΕΠΙΛΟΓΗΣ	5.20 μ.\n10.30	ΣΦΑΙΡΟΒΟΛΙΑ	ΠΑΜΠΑΙΔΩΝ	ΑΓΩΝΑΣ ΕΠΙΛΟΓΗΣ	14.60 μ.\n10.50	300 μ	ΠΑΓΚΟΡΑΣΙΔΩΝ	ΠΡΟΚΡΙΜΑΤΙΚΟΣ\n11.30	ΔΙΣΚΟΒΟΛΙΑ	ΠΑΓΚΟΡΑΣΙΔΩΝ ΑΓΩΝΑΣ ΕΠΙΛΟΓΗΣ	30.00 μ.\n11.45	ΜΗΚΟΣ ΠΕΝΤΑΘΛΟΥ	ΠΑΓΚΟΡΑΣΙΔΩΝ		 \nΣΑΒΒΑΤΟ  6 / 7 /  2013 – ΑΠΟΓΕΥΜΑ  \n16.00	ΣΦΥΡΟΒΟΛΙΑ	ΠΑΜΠΑΙΔΩΝ	ΤΕΛΙΚΟΣ\n17.00	ΣΦΑΙΡΟΒΟΛΙΑ ΕΞΑΘΛΟΥ	ΠΑΜΠΑΙΔΩΝ		Α΄ Βαλβίδα\n17.00	ΥΨΟΣ	ΠΑΜΠΑΙΔΩΝ	ΤΕΛΙΚΟΣ\n17.00	ΜΗΚΟΣ 	ΠΑΜΠΑΙΔΩΝ	ΤΕΛΙΚΟΣ\n17.15	300 μ. ΕΜΠ. 	ΠΑΜΠΑΙΔΩΝ	ΤΕΛΙΚΟΣ\n17.15	ΣΦΑΙΡΟΒΟΛΙΑ ΠΕΝΤΑΘΛΟΥ	ΠΑΓΚΟΡΑΣΙΔΩΝ		Β΄ Βαλβίδα\n17.30	ΑΚΟΝΤΙΣΜΟΣ	ΠΑΓΚΟΡΑΣΙΔΩΝ	ΤΕΛΙΚΟΣ\n17.30	300 μ. ΕΜΠ	ΠΑΓΚΟΡΑΣΙΔΩΝ	ΤΕΛΙΚΟΣ\n17.30	ΕΠΙ ΚΟΝΤΩ	ΠΑΓΚΟΡΑΣΙΔΩΝ ΤΕΛΙΚΟΣ\n17.45	300 μ.	ΠΑΜΠΑΙΔΩΝ	ΤΕΛΙΚΟΣ\n18.00	300 μ.	ΠΑΓΚΟΡΑΣΙΔΩΝ	ΤΕΛΙΚΟΣ\n18.15	600 μ.	ΠΑΜΠΑΙΔΩΝ	ΤΕΛΙΚΟΣ\n18.30	600 μ.	ΠΑΓΚΟΡΑΣΙΔΩΝ	ΤΕΛΙΚΟΣ\n18.30	ΜΗΚΟΣ 	ΠΑΓΚΟΡΑΣΙΔΩΝ	ΤΕΛΙΚΟΣ\n18.30	ΣΦΑΙΡΟΒΟΛΙΑ	ΠΑΜΠΑΙΔΩΝ	ΤΕΛΙΚΟΣ\n18.45	1.000 μ.	ΠΑΜΠΑΙΔΩΝ	ΤΕΛΙΚΕΣ ΣΕΙΡΕΣ\n18.45	ΥΨΟΣ ΕΞΑΘΛΟΥ	ΠΑΜΠΑΙΔΩΝ\n18.45	ΑΚΟΝΤΙΣΜΟΣ ΠΕΝΤΑΘΛΟΥ	ΠΑΓΚΟΡΑΣΙΔΩΝ\n19.00	1.000 μ	ΠΑΓΚΟΡΑΣΙΔΩΝ	ΤΕΛΙΚΕΣ ΣΕΙΡΕΣ\n19.15	2.000 μ.	ΠΑΓΚΟΡΑΣΙΔΩΝ	ΤΕΛΙΚΟΣ\n19.35	4 Χ 80 μ.	ΠΑΜΠΑΙΔΩΝ	ΤΕΛΙΚΕΣ ΣΕΙΡΕΣ\n19.45	ΔΙΣΚΟΒΟΛΙΑ	ΠΑΓΚΟΡΑΣΙΔΩΝ	ΤΕΛΙΚΟΣ\n19.55	4 Χ 80 μ.	ΠΑΓΚΟΡΑΣΙΔΩΝ	ΤΕΛΙΚΕΣ ΣΕΙΡΕΣ\n20.20	5.000 μ.   ΒΑΔΗΝ	ΠΑΜΠΑΙΔΩΝ	ΤΕΛΙΚΟΣ	 \nΚΥΡΙΑΚΗ  7 / 7 / 13 – ΠΡΩI: \n08.30	ΣΦΥΡΟΒΟΛΙΑ	ΠΑΓΚΟΡΑΣΙΔΩΝ	ΑΓΩΝΑΣ ΕΠΙΛΟΓΗΣ	42.00 μ\n09.00	100 μ ΕΜΠ	ΠΑΜΠΑΙΔΩΝ	ΠΡΟΚΡΙΜΑΤΙΚΟΣ\n09.00	ΕΠΙ ΚΟΝΤΩ	ΠΑΜΠΑΙΔΩΝ ΑΓΩΝΑΣ ΕΠΙΛΟΓΗΣ	3.50 μ.\n09.30	ΑΚΟΝΤΙΣΜΟΣ ΕΞΑΘΛΟΥ	ΠΑΜΠΑΙΔΩΝ\n09.30	80 μ ΕΜΠ	ΠΑΓΚΟΡΑΣΙΔΩΝ	ΠΡΟΚΡΙΜΑΤΙΚΟΣ\n09.30	ΤΡΙΠΛΟΥΝ	ΠΑΜΠΑΙΔΩΝ	ΑΓΩΝΑΣ ΕΠΙΛΟΓΗΣ	12.60 μ.\n09.45	ΥΨΟΣ	ΠΑΓΚΟΡΑΣΙΔΩΝ	ΑΓΩΝΑΣ ΕΠΙΛΟΓΗΣ	1.55 μ\n10.00	150 μ	ΠΑΜΠΑΙΔΩΝ	ΠΡΟΚΡΙΜΑΤΙΚΟΣ\n10.20	150 μ	ΠΑΓΚΟΡΑΣΙΔΩΝ	ΠΡΟΚΡΙΜΑΤΙΚΟΣ\n10.30	ΔΙΣΚΟΒΟΛΙΑ	ΠΑΜΠΑΙΔΩΝ	ΑΓΩΝΑΣ ΕΠΙΛΟΓΗΣ	45.50 μ.\n10.30	ΣΦΑΙΡΟΒΟΛΙΑ	ΠΑΓΚΟΡΑΣΙΔΩΝ	ΑΓΩΝΑΣ ΕΠΙΛΟΓΗΣ	11.30 μ.\n10.45	600 ΠΕΝΤΑΘΛΟΥ	ΠΑΓΚΟΡΑΣΙΔΩΝ\n11.00	1.000 ΕΞΑΘΛΟΥ	ΠΑΜΠΑΙΔΩΝ\n11.20	80 μ	ΠΑΜΠΑΙΔΩΝ	ΠΡΟΚΡΙΜΑΤΙΚΟΣ\n11.30	ΑΚΟΝΤΙΣΜΟΣ	ΠΑΜΠΑΙΔΩΝ	ΑΓΩΝΑΣ ΕΠΙΛΟΓΗΣ	45.00 μ.\n11.45	80 μ	ΠΑΓΚΟΡΑΣΙΔΩΝ	ΠΡΟΚΡΙΜΑΤΙΚΟΣ	 \nΚΥΡΙΑΚΗ  7 / 7 / 13 – ΑΠΟΓΕΥΜΑ:		 \n16.00	ΣΦΥΡΟΒΟΛΙΑ	ΠΑΓΚΟΡΑΣΙΔΩΝ	ΤΕΛΙΚΟΣ\n17.15	100 μ. ΕΜΠ	ΠΑΜΠΑΙΔΩΝ	ΤΕΛΙΚΟΣ\n17.15	ΕΠΙ ΚΟΝΤΩ	ΠΑΜΠΑΙΔΩΝ ΤΕΛΙΚΟΣ\n17.30	ΔΙΣΚΟΒΟΛΙΑ	ΠΑΜΠΑΙΔΩΝ	ΤΕΛΙΚΕΣ ΣΕΙΡΕΣ\n17.35	80 μ. ΕΜΠ	ΠΑΓΚΟΡΑΣΙΔΩΝ	    ΤΕΛΙΚΟΣ\n17.55	150 μ.	ΠΑΜΠΑΙΔΩΝ	ΤΕΛΙΚΟΣ\n18.05	150 μ.	ΠΑΓΚΟΡΑΣΙΔΩΝ	ΤΕΛΙΚΟΣ\n18.15	ΥΨΟΣ	ΠΑΓΚΟΡΑΣΙΔΩΝ	ΤΕΛΙΚΟΣ\n18.15	ΤΡΙΠΛΟΥΝ	ΠΑΜΠΑΙΔΩΝ	ΤΕΛΙΚΟΣ\n18.25	80 μ.	ΠΑΜΠΑΙΔΩΝ	ΤΕΛΙΚΟΣ\n18.30	ΣΦΑΙΡΟΒΟΛΙΑ	ΠΑΓΚΟΡΑΣΙΔΩΝ	ΤΕΛΙΚΟΣ\n18.40	80 μ.	ΠΑΓΚΟΡΑΣΙΔΩΝ	ΤΕΛΙΚΟΣ\n18.55	3.000 μ.	ΠΑΜΠΑΙΔΩΝ	ΤΕΛΙΚΟΣ\n19.00	ΑΚΟΝΤΙΣΜΟΣ	ΠΑΜΠΑΙΔΩΝ	ΤΕΛΙΚΟΣ\n19.15	4 Χ 300	ΠΑΜΠΑΙΔΩΝ	ΤΕΛΙΚΟΣ\n19.35	4 Χ 300	ΠΑΓΚΟΡΑΣΙΔΩΝ ΤΕΛΙΚΕΣ ΣΕΙΡΕΣ\n20.00	3.000 μ. ΒΑΔΗΝ	ΠΑΓΚΟΡΑΣΙΔΩΝ	& 5.000 μ. ΒΑΔΗΝ ΠΑΜΠΑΙΔΩΝ ΤΕΛΙΚΟΣ \nΣτα παρακάτω αγωνίσματα δεν θα διεξαχθούν προκριματικοί αλλά τελικοί στις ώρες που έχουν οριστεί και σύμφωνα με το ωρολόγιο πρόγραμμα που έχει εκδοθεί.\nΠαμπαίδων: 600μ\, 100μ εμπόδια\, Ύψος\, Μήκος\, Τριπλούν\, Επί Κοντώ\, Σφαιροβολία\, Δισκοβολία\, Ακοντισμός\,  Σφυροβολία.\nΤο αγώνισμα του Βάδην θα γίνει ταυτόχρονα για τους Παμπαίδες και τις Παγκορασίδες την Κυριακή και ώρα 20:00.\nΠαγκορασίδων: Επί κοντώ\, Σφαιροβολία\, Δισκοβολία\, Ακοντισμός\, Σφυροβολία.\nΣτο μήκος Παγκορασίδων θα γίνουν δύο προκριματικά γκρουπ \nΒόρειος όμιλος – Θεσ/νίκη (->Livestream) \nΣΑΒΒΑΤΟ  6 / 7 / 13  – ΠΡΩΙ \n08.30 Σφύρα ΠΠ 50\,00μ (βοηθητικό)\n08.30 100μ εμπ. 6θλο\n08.50 80μ εμπ. 5θλο\n08.50 Μήκος ΠΠ 6\,10μ\n09.00 Επικοντώ ΠΚ 2\,90μ\n09.20 300μ εμπ. ΠΠ\n09.30 300μ εμπ. ΠΚ\n09.45 Ύψος ΠΠ 1\,80μ\n09.50 Μήκος 6θλο\n09.50 600μ ΠΠ\n10.00 Ακόντιο ΠΚ 39\,00μ\n10.10 600μ ΠΚ\n10.20 Μήκος ΠΚ 5\,20μ\n10.30 300μ ΠΠ\n10.30 Σφαίρα ΠΠ 14\,60μ\n10.50 300μ ΠΚ\n11.15 Μήκος 5θλο\n11.30 Δίσκος ΠΚ 30\,00μ (βοηθητικό)  \nΣΑΒΒΑΤΟ  6 / 7 / 13  – ΑΠΟΓΕΥΜΑ \n17.00 Σφύρα ΠΠ (βοηθητικό)\n17.30 Σφαίρα 6θλο\n17.30 Επικοντώ ΠΚ\n17.30 300μ εμπ. ΠΠ\n17.40 Ύψος ΠΠ\n17.50 300μ εμπ. ΠΚ\n17.50 Μήκος ΠΠ\n18.10 300μ ΠΠ\n18.20 300μ ΠΚ\n18.20 Σφαίρα 5θλο\n18.30 Ακόντιο ΠΚ\n18.40 600μ ΠΠ\n18.40 Δίσκος ΠΚ (βοηθητικό)\n18.50 600μ ΠΚ\n19.00 Ύψος 6θλο\n19.00 100μ ΠΠ\n19.00 Μήκος ΠΚ\n19.15 1000μ ΠΚ\n19.30 Σφαίρα ΠΠ\n19.30 2χλμ ΠΚ\n19.40 Ακόντιο 5θλο\n19.45 4χ80μ ΠΠ\n20.05 4χ80μ ΠΚ\n20.20 5χλμ βάδην ΠΠ \nΚΥΡΙΑΚΗ  7 / 7 / 13 – ΠΡΩΙ \n08.30 Σφύρα ΠΚ 42\,00μ (βοηθητικό)\n08.30 Επικοντώ ΠΠ 3\,50μ\n09.00 100μ εμπ. ΠΠ\n09.10 Ακόντιο 6θλο\n09.10 Ύψος ΠΚ 1\,55μ\n09.30 80μ εμπ. ΠΚ\n09.40 Τριπλούν ΠΠ 12\,60μ\n10.00 150μ ΠΠ\n10.30 150μ ΠΚ\n10.30 Σφαίρα ΠΚ 11\,30μ\n10.30 Ακόντιο ΠΠ ?\n10.45 600μ 5θλο\n11.00 1000μ 6θλο\n11.20 80μ ΠΠ\n11.30 Δίσκος ΠΠ 45\,50μ (βοηθητικό)\n11.45 80μ ΠΚ  \nΚΥΡΙΑΚΗ  7 / 7 / 13 – ΑΠΟΓΕΥΜΑ \n17.00 Σφύρα ΠΚ (βοηθητικό)\n17.00 Επικοντώ ΠΠ\n17.20 100μ εμπ. ΠΠ\n17.30 Ακόντιο ΠΠ\n17.35 80μ εμπ. ΠΚ\n17.50 150μ ΠΠ\n18.00 Τριπλούν ΠΠ\n18.10 150μ ΠΚ\n18.10 Ύψος ΠΚ\n18.25 80μ ΠΠ\n18.40 80μ ΠΚ\n18.55 3χλμ ΠΠ\n19.00 Σφαίρα ΠΚ\n19.00 Δίσκος ΠΠ (βοηθητικό)\n19.15 4χ300 ΠΚ\n19.35 4χ300 ΠΠ\n20.00 3χλμ βάδην ΠΚ \nστα παρακάτω αγωνίσματα κατά κατηγορία δεν θα γίνουν προκριματικοί.\nΠαμπαίδων: 600μ\, τριπλούν\, ύψος\, επί κοντώ\, σφαιροβολία\, ακοντισμός\, σφυροβολία.\nΠαγκορασίδων: 600μ\, ύψος\, επί κοντώ\, σφυροβολία
URL:https://www.stivoz.gr/event/panellinio-u16-2013/
CATEGORIES:Ημερολόγιο αγώνων
END:VEVENT
END:VCALENDAR