BEGIN:VCALENDAR
VERSION:2.0
PRODID:-//StivoZ.gr - ECPv5.16.4//NONSGML v1.0//EN
CALSCALE:GREGORIAN
METHOD:PUBLISH
X-WR-CALNAME:StivoZ.gr
X-ORIGINAL-URL:https://www.stivoz.gr
X-WR-CALDESC:StivoZ.gr - Εκδηλώσεις
BEGIN:VTIMEZONE
TZID:Europe/Athens
BEGIN:DAYLIGHT
TZOFFSETFROM:+0200
TZOFFSETTO:+0300
TZNAME:EEST
DTSTART:20240331T010000
END:DAYLIGHT
BEGIN:STANDARD
TZOFFSETFROM:+0300
TZOFFSETTO:+0200
TZNAME:EET
DTSTART:20241027T010000
END:STANDARD
END:VTIMEZONE
BEGIN:VEVENT
DTSTART;VALUE=DATE:20240701
DTEND;VALUE=DATE:20240702
DTSTAMP:20260419T182202
CREATED:20240529T083909Z
LAST-MODIFIED:20240529T083953Z
UID:115816-1719792000-1719878399@www.stivoz.gr
SUMMARY:Πανελ.Πρ. σκυταλ. Νέων (Βόλος)
DESCRIPTION:Πρόγραμμα: \n18:30 4Χ100μ. Κ23 ΓΥΝΑΙΚΩΝ\n18:45 4Χ100μ. Κ23 ΑΝΔΡΩΝ\n19:00 4Χ400μ. Κ23 ΓΥΝΑΙΚΩΝ\n19:15 4Χ400μ. Κ23 ΑΝΔΡΩΝ \nΣυμμετέχουν Κ23\, Κ20\, καθώς και Κ18 της τελ.χρονιάς (2007) \nΟι δηλώσεις συμμετοχής θα πρέπει να αποσταλούν μέχρι την Πέμπτη 20 Ιουνίου και ώρα 14:00 στον Σ.Ε.Γ.Α.Σ. στην ηλεκτρονική διεύθυνση entries@segas.gr
URL:https://www.stivoz.gr/event/panellinio-relays-u23-2024/
CATEGORIES:Ημερολόγιο αγώνων
END:VEVENT
END:VCALENDAR