BEGIN:VCALENDAR
VERSION:2.0
PRODID:-//StivoZ.gr - ECPv5.16.4//NONSGML v1.0//EN
CALSCALE:GREGORIAN
METHOD:PUBLISH
X-WR-CALNAME:StivoZ.gr
X-ORIGINAL-URL:https://www.stivoz.gr
X-WR-CALDESC:StivoZ.gr - Εκδηλώσεις
BEGIN:VTIMEZONE
TZID:Europe/Athens
BEGIN:STANDARD
TZOFFSETFROM:+0200
TZOFFSETTO:+0200
TZNAME:EET
DTSTART:20150101T000000
END:STANDARD
END:VTIMEZONE
BEGIN:VEVENT
DTSTART;VALUE=DATE:20150718
DTEND;VALUE=DATE:20260421
DTSTAMP:20260420T203314
CREATED:20150522T072259Z
LAST-MODIFIED:20220622T084554Z
UID:29007-1437177600-0@www.stivoz.gr
SUMMARY:Πανελ.σκυταλοδρομιών Νέων (Σχηματάρι)
DESCRIPTION:Πρόγραμμα:\n17.50 – 4χ100μ. Νέων Ανδρών\n18:10 – 4χ100μ. Νέων Γυναικών\n19:30 – 4χ400μ. Νέων Ανδρών\n19:50 – 4χ400μ. Νέων Γυναικών \nΌρια συμμετοχής & βαθμολόγησης Α/Γ\n4χ100μ.: 44.44 & 45.04 / 51.64 & 52.54\n4χ400μ.: 3.34.14 & 3.38.14 / 4.18.14 & 4.24.14
URL:https://www.stivoz.gr/event/panellinio-relays-u23-2015/
CATEGORIES:Ημερολόγιο αγώνων
END:VEVENT
END:VCALENDAR